From mboxrd@z Thu Jan 1 00:00:00 1970 Return-Path: Received: from mails.dpdk.org (mails.dpdk.org [217.70.189.124]) by inbox.dpdk.org (Postfix) with ESMTP id 8ABB146B8A for ; Wed, 16 Jul 2025 12:28:59 +0200 (CEST) Received: from mails.dpdk.org (localhost [127.0.0.1]) by mails.dpdk.org (Postfix) with ESMTP id 65FB44013F; Wed, 16 Jul 2025 12:28:59 +0200 (CEST) Received: from mail-yb1-f226.google.com (mail-yb1-f226.google.com [209.85.219.226]) by mails.dpdk.org (Postfix) with ESMTP id 7CF5D4013F for ; Wed, 16 Jul 2025 12:28:57 +0200 (CEST) Received: by mail-yb1-f226.google.com with SMTP id 3f1490d57ef6-e897c8ca777so5655153276.2 for ; Wed, 16 Jul 2025 03:28:57 -0700 (PDT) DKIM-Signature: v=1; a=rsa-sha256; c=relaxed/relaxed; d=iol.unh.edu; s=unh-iol; t=1752661737; x=1753266537; darn=dpdk.org; h=references:in-reply-to:cc:to:from:subject:message-id:date:from:to :cc:subject:date:message-id:reply-to; bh=8Ecij10ftdBzkN9KgEVvPHjhxkcA4MLC0uKPJ1b40wE=; b=JFlg1dsJtlZ7KjlrpWAy8zsGZ/Ws98hiambPp0VkC+pbRE8buqMino9Bm84LMPwGW3 Q8EZXdT/wIqSEW54J2Xg33woJkKRFP6gwoD3ZYPi0J2b/UewNeG30IBXV+QE8YeXbUox 0Xli0X0dkB4knr0MK265coLPS5dSccnwu2Wvg= X-Google-DKIM-Signature: v=1; a=rsa-sha256; c=relaxed/relaxed; d=1e100.net; s=20230601; t=1752661737; x=1753266537; h=references:in-reply-to:cc:to:from:subject:message-id:date :x-gm-message-state:from:to:cc:subject:date:message-id:reply-to; bh=8Ecij10ftdBzkN9KgEVvPHjhxkcA4MLC0uKPJ1b40wE=; b=QnrfG3QsUmFbaaPEvmqUpfTALqiX/mFuNGFaAeBvcRc8th2oPrPMooIHqeINrZHjcM 8CZnv2MakICgN1nj/vB+KuikbYErqCxPe7FV6bU3cwP2hmRa7wKjAVfkr8MlUZPq9YgS I6ENNCR2QJTBLwswxKDMPTabqBj2QYgEYmpYofy2HxhkaQsx8xrQGe+FC9ngx/kovvIi mMhTNDD3mu6pW3wgNXLFV7RnFzPxvwzP8yCArYmKdCXBn6RDWAy4PZrRJIc8lv7I97az SW5AbMcrKrU46vEzD5p06B3PMitCG2exhOOgUDl27kq0o5t6zBi1PZortLBwz3gvda3x /rCw== X-Gm-Message-State: AOJu0Yy/OZNnlqPVAcasN/I+nAfUS3/cWh3s88r1jZkUJ8uq4x0jVkmj KJjRlFJUcQ1VbNy+wt8lFiW/d5xEONLhjPp27J4C7AnCDM9RzDQP6+YrPaXVL9lFU6GpexrqJUi g+Nfu0GV4meG5u0JG4suX2JhpPa43Y/9BdYo+0KlmzTyw X-Gm-Gg: ASbGnctfxm1GgsBRF4kv68y8orEyzc1nR5VZ0+DM0dC6gasq7qUwJXdvyNQZHNdAS5b jR9dqZ+KWWYajBjJTsFpm2YzrUDJVIRwmEB//tPAVQr9NlMNQxHY5edb2TwKjLT8ZRBa5FxCOs/ NLvCErfSn9e71ZW16MIdkTf2gvnurkxxryrv1F8n8xPITV7q5olnb9DugyMas1gFE/RbDdC8qoz bzLOpO0FoJRa20ViCn4wBrTwfjusd414r4WnW6rZAOtmQOqi9/xLh/ulMTyaT6glAt8vgZ/VGVV eC+Jpp3Ye48FHGFq+sJumWU1hJHLralVdiNHFU/x4w327AIuQ0lTdF3lrjB/8OiK5UG8tY7x X-Google-Smtp-Source: AGHT+IFcbo2HzRv7L38jT9h6hPFSSqKzsRM5XeYogEtXeopVZgiJbF30umcia0Jo2jZqk3W9O0ptEg4nckZi X-Received: by 2002:a05:690c:a084:20b0:718:38bd:bb46 with SMTP id 00721157ae682-71838bdcfacmr15851727b3.41.1752661736835; Wed, 16 Jul 2025 03:28:56 -0700 (PDT) Received: from postal.iol.unh.edu (postal.iol.unh.edu. [132.177.123.84]) by smtp-relay.gmail.com with ESMTPS id 00721157ae682-717c6235a1dsm4247997b3.48.2025.07.16.03.28.56 (version=TLS1_2 cipher=ECDHE-ECDSA-AES128-GCM-SHA256 bits=128/128); Wed, 16 Jul 2025 03:28:56 -0700 (PDT) X-Relaying-Domain: iol.unh.edu Date: Wed, 16 Jul 2025 03:28:56 -0700 (PDT) Message-ID: <68777ee8.050a0220.1084aa.5bd3SMTPIN_ADDED_MISSING@mx.google.com> Received: from [172.21.0.5] (unknown [172.18.0.240]) by postal.iol.unh.edu (Postfix) with ESMTP id 7C07E6051830; Wed, 16 Jul 2025 06:28:56 -0400 (EDT) Subject: |SUCCESS| pw155243-155256 [PATCH] [v9,14/14] net/sxe: add Solve comp From: dpdklab@iol.unh.edu To: Test Report Cc: dpdk-test-reports@iol.unh.edu In-Reply-To: <20250716082930.83026-14-liujie5@linkdatatechnology.com> References: <20250716082930.83026-14-liujie5@linkdatatechnology.com> Content-Type: text/plain X-BeenThere: test-report@dpdk.org X-Mailman-Version: 2.1.29 Precedence: list List-Id: automatic DPDK test reports List-Unsubscribe: , List-Archive: List-Post: List-Help: List-Subscribe: , Errors-To: test-report-bounces@dpdk.org Test-Label: iol-unit-arm64-testing Test-Status: SUCCESS http://dpdk.org/patch/155256 _Testing PASS_ Submitter: Jie Liu Date: Wednesday, July 16 2025 08:29:30 DPDK git baseline: Repo:dpdk Branch: master CommitID:9fe9c0b231c8da5435bfccb1963121b4277f961c 155243-155256 --> testing pass Upstream job id: Generic-Unit-Test-DPDK#355674 Test environment and result as below: +------------------------------+---------------------------+------------------------------+--------------+----------------+ | Environment | cryptodev_sw_zuc_autotest | cryptodev_sw_snow3g_autotest | lpm_autotest | dpdk_unit_test | +==============================+===========================+==============================+==============+================+ | Debian 12 (arm) | PASS | PASS | SKIPPED | SKIPPED | +------------------------------+---------------------------+------------------------------+--------------+----------------+ | Ubuntu 20.04 | SKIPPED | SKIPPED | PASS | PASS | +------------------------------+---------------------------+------------------------------+--------------+----------------+ | Debian GNU/Linux 12 | SKIPPED | SKIPPED | SKIPPED | PASS | +------------------------------+---------------------------+------------------------------+--------------+----------------+ | CentOS Stream 10 | SKIPPED | SKIPPED | SKIPPED | PASS | +------------------------------+---------------------------+------------------------------+--------------+----------------+ | Fedora Linux 40 | SKIPPED | SKIPPED | SKIPPED | PASS | +------------------------------+---------------------------+------------------------------+--------------+----------------+ | CentOS Stream 9 | SKIPPED | SKIPPED | SKIPPED | PASS | +------------------------------+---------------------------+------------------------------+--------------+----------------+ | Fedora Linux 41 | SKIPPED | SKIPPED | SKIPPED | PASS | +------------------------------+---------------------------+------------------------------+--------------+----------------+ | Red Hat Enterprise Linux 9.5 | SKIPPED | SKIPPED | SKIPPED | PASS | +------------------------------+---------------------------+------------------------------+--------------+----------------+ | Ubuntu 22.04 | SKIPPED | SKIPPED | SKIPPED | PASS | +------------------------------+---------------------------+------------------------------+--------------+----------------+ | Ubuntu 24.04 | SKIPPED | SKIPPED | SKIPPED | PASS | +------------------------------+---------------------------+------------------------------+--------------+----------------+ Debian 12 (arm) Kernel: Depends on container host Compiler: gcc (Debian 12.2.0-14) 12.2.0 Ubuntu 20.04 Kernel: 5.4 Compiler: gcc gcc (Ubuntu 9.4.0-1ubuntu1~20.04.2) 9.4.0 Debian GNU/Linux 12 Kernel: 5.4 Compiler: gcc gcc (Debian 12.2.0-14+deb12u1) 12.2.0 CentOS Stream 10 Kernel: 5.4 Compiler: gcc gcc (GCC) 14.2.1 20250110 (Red Hat 14.2.1-8) Fedora Linux 40 Kernel: 5.4 Compiler: gcc gcc (GCC) 14.2.1 20240912 (Red Hat 14.2.1-3) CentOS Stream 9 Kernel: 5.4 Compiler: gcc gcc (GCC) 11.5.0 20240719 (Red Hat 11.5.0-7) Fedora Linux 41 Kernel: 5.4 Compiler: gcc gcc (GCC) 14.3.1 20250523 (Red Hat 14.3.1-1) Red Hat Enterprise Linux 9.5 Kernel: 5.4 Compiler: gcc gcc (GCC) 11.5.0 20240719 (Red Hat 11.5.0-2) Ubuntu 22.04 Kernel: 5.4 Compiler: gcc gcc (Ubuntu 11.4.0-1ubuntu1~22.04) 11.4.0 Ubuntu 24.04 Kernel: 5.4 Compiler: gcc gcc (Ubuntu 13.3.0-6ubuntu2~24.04) 13.3.0 To view detailed results, visit: https://lab.dpdk.org/results/dashboard/patchsets/33662/ UNH-IOL DPDK Community Lab To manage your email subscriptions, visit: https://lab.dpdk.org/results/dashboard/preferences/subscriptions/