From mboxrd@z Thu Jan 1 00:00:00 1970 Return-Path: Received: from mails.dpdk.org (mails.dpdk.org [217.70.189.124]) by inbox.dpdk.org (Postfix) with ESMTP id EA08846B8A for ; Wed, 16 Jul 2025 12:31:52 +0200 (CEST) Received: from mails.dpdk.org (localhost [127.0.0.1]) by mails.dpdk.org (Postfix) with ESMTP id E36234013F; Wed, 16 Jul 2025 12:31:52 +0200 (CEST) Received: from mail-qv1-f100.google.com (mail-qv1-f100.google.com [209.85.219.100]) by mails.dpdk.org (Postfix) with ESMTP id 736F94013F for ; Wed, 16 Jul 2025 12:31:51 +0200 (CEST) Received: by mail-qv1-f100.google.com with SMTP id 6a1803df08f44-6fad4e6d949so27688066d6.0 for ; Wed, 16 Jul 2025 03:31:51 -0700 (PDT) DKIM-Signature: v=1; a=rsa-sha256; c=relaxed/relaxed; d=iol.unh.edu; s=unh-iol; t=1752661911; x=1753266711; darn=dpdk.org; h=references:in-reply-to:cc:to:from:subject:message-id:date:from:to :cc:subject:date:message-id:reply-to; bh=JnhtgE9LyUxOHw6PHwRezCfXZh2CM1Al+G5HeW2VP1s=; b=HVqZWIV3aH02oxNI4Kw6H2A9vVKhdI6sHihEgcqzNN4cNhyAz7CCXSEK0C+XvXQe0L HqlIW+Ds8gKubzGzPdJKI9lArXiEBsnhn029m9hRRyHgTCmua4gUX8MfI+z0/8thlrB1 wzQzIQ7T7kBjlLCw5U9MwJWU99pbZE6B8El+Y= X-Google-DKIM-Signature: v=1; a=rsa-sha256; c=relaxed/relaxed; d=1e100.net; s=20230601; t=1752661911; x=1753266711; h=references:in-reply-to:cc:to:from:subject:message-id:date :x-gm-message-state:from:to:cc:subject:date:message-id:reply-to; bh=JnhtgE9LyUxOHw6PHwRezCfXZh2CM1Al+G5HeW2VP1s=; b=sD0FDYlxcokP/X+BS13nlSVVQ4xq4jwBUNMsBqiIwP/9NXND5Bi/YBhSMPvwJNil/U sU20Vz8CFv6X+UR9YuhtLLpCb0/IoFSO6ZZSESNcRm9wCDpmyuuo9rBHYDB1U46SVYCA cOca+rE2x1b1wbDnts1GE72NAYiO2hUkYg1IjGex0lyd31RY42wKkD4ciKX5mCFB/ial tBoEMME6Ynjg+CCuNEx7MJ0zVfEMtK8XHfPjp4OtbsN6BtS/SsuhnPzSaYUwd9ey8agj xWYapARsN1v5ZbwpcgzKE1HrlV2xs35Wxsk/QtoqM1mMfDrewr8eyQDgcDWtKlLmIje4 go9Q== X-Gm-Message-State: AOJu0YwDsMn4LRvFa9ZFywydNfaB0vVS/z49Mt4UqrnyrW4K7G4LwFZ9 I6VI6bjjAhgtu7yBqwmPXCQ1RYIJcAYOKfZUNYLdahkPOHfe3V4T4RoGjsbQO0YTSiEeLrdZXyt hsON94rjsed8R2dc9Ku3qURz7kGsadALAmM1CIQIbF4Cd X-Gm-Gg: ASbGncvQVmLWXGJgKjTYtx33xpBMFdWQAHt6yCHT6ZJqTisCOMMe9tqU4pTSvIcQXhA usE1Dk3jE+kjKOkpvY2aggJNbaW3Lmmzw8Z7uCCHTBd6LT5i0elftThuhSVnSlLjVHHLAD9kQoB C4rkKopVrEnVzqQ26B0c2EQ+ZjrkWcrQOhm9lOfDgOR8yzBWWV1MD25NansPxxrgb5xTLLDN68w aMhRTMaz5C3wMOwZYAyGkEKoafg0h8wVnNjlad+5YeSry8yCTMcKQJ1yV81tCwARE2j9NY46n5k aiSP1tZWQqfSOl86ZSbLaYIKdNKyoKW9TJg5orl8YrZvW0G9V3NiXd/djq/jFklV/AusnEn4 X-Google-Smtp-Source: AGHT+IE6Mi4PM8PZM+3ifTo6ANHm1jdKvQRbOr+RCJ4S5grZWT8ki0EQFfIph92AczLPmKzSrswVFXGL1qAC X-Received: by 2002:a05:6214:33c8:b0:6fa:c81a:6204 with SMTP id 6a1803df08f44-704f69ef720mr31241916d6.10.1752661910831; Wed, 16 Jul 2025 03:31:50 -0700 (PDT) Received: from postal.iol.unh.edu (postal.iol.unh.edu. [132.177.123.84]) by smtp-relay.gmail.com with ESMTPS id d75a77b69052e-4ab597c98e9sm3195991cf.16.2025.07.16.03.31.50 (version=TLS1_2 cipher=ECDHE-ECDSA-AES128-GCM-SHA256 bits=128/128); Wed, 16 Jul 2025 03:31:50 -0700 (PDT) X-Relaying-Domain: iol.unh.edu Date: Wed, 16 Jul 2025 03:31:50 -0700 (PDT) Message-ID: <68777f96.050a0220.d4e2d.f33dSMTPIN_ADDED_MISSING@mx.google.com> Received: from [172.21.0.6] (unknown [172.18.0.240]) by postal.iol.unh.edu (Postfix) with ESMTP id 4F1636051830; Wed, 16 Jul 2025 06:31:50 -0400 (EDT) Subject: |SUCCESS| pw155243-155256 [PATCH] [v9,14/14] net/sxe: add Solve comp From: dpdklab@iol.unh.edu To: Test Report Cc: dpdk-test-reports@iol.unh.edu In-Reply-To: <20250716082930.83026-14-liujie5@linkdatatechnology.com> References: <20250716082930.83026-14-liujie5@linkdatatechnology.com> Content-Type: text/plain X-BeenThere: test-report@dpdk.org X-Mailman-Version: 2.1.29 Precedence: list List-Id: automatic DPDK test reports List-Unsubscribe: , List-Archive: List-Post: List-Help: List-Subscribe: , Errors-To: test-report-bounces@dpdk.org Test-Label: iol-compile-amd64-testing Test-Status: SUCCESS http://dpdk.org/patch/155256 _Testing PASS_ Submitter: Jie Liu Date: Wednesday, July 16 2025 08:29:30 DPDK git baseline: Repo:dpdk Branch: master CommitID:9fe9c0b231c8da5435bfccb1963121b4277f961c 155243-155256 --> testing pass Upstream job id: Generic-DPDK-Compile-Meson#409067 Test environment and result as below: +-------------------------------+--------------------+-------------------+------------------+-------------------------+-------------------+----------------------+ | Environment | dpdk_meson_compile | dpdk_compile_spdk | dpdk_compile_ovs | dpdk_llvm_clang_compile | dpdk_msvc_compile | dpdk_mingw64_compile | +===============================+====================+===================+==================+=========================+===================+======================+ | CentOS Stream 9 | PASS | PASS | SKIPPED | SKIPPED | SKIPPED | SKIPPED | +-------------------------------+--------------------+-------------------+------------------+-------------------------+-------------------+----------------------+ | Debian GNU/Linux 12 | PASS | PASS | SKIPPED | SKIPPED | SKIPPED | SKIPPED | +-------------------------------+--------------------+-------------------+------------------+-------------------------+-------------------+----------------------+ | Fedora Linux 40 | PASS | PASS | SKIPPED | SKIPPED | SKIPPED | SKIPPED | +-------------------------------+--------------------+-------------------+------------------+-------------------------+-------------------+----------------------+ | CentOS Stream 10 | PASS | SKIPPED | SKIPPED | SKIPPED | SKIPPED | SKIPPED | +-------------------------------+--------------------+-------------------+------------------+-------------------------+-------------------+----------------------+ | openSUSE Leap 15.6 | PASS | SKIPPED | SKIPPED | SKIPPED | SKIPPED | SKIPPED | +-------------------------------+--------------------+-------------------+------------------+-------------------------+-------------------+----------------------+ | Fedora Linux 41 | PASS | PASS | PASS | SKIPPED | SKIPPED | SKIPPED | +-------------------------------+--------------------+-------------------+------------------+-------------------------+-------------------+----------------------+ | Red Hat Enterprise Linux 8.10 | PASS | SKIPPED | SKIPPED | SKIPPED | SKIPPED | SKIPPED | +-------------------------------+--------------------+-------------------+------------------+-------------------------+-------------------+----------------------+ | Red Hat Enterprise Linux 9.5 | PASS | SKIPPED | SKIPPED | SKIPPED | SKIPPED | SKIPPED | +-------------------------------+--------------------+-------------------+------------------+-------------------------+-------------------+----------------------+ | Ubuntu 20.04 | PASS | SKIPPED | SKIPPED | SKIPPED | SKIPPED | SKIPPED | +-------------------------------+--------------------+-------------------+------------------+-------------------------+-------------------+----------------------+ | Ubuntu 22.04 | PASS | PASS | SKIPPED | SKIPPED | SKIPPED | SKIPPED | +-------------------------------+--------------------+-------------------+------------------+-------------------------+-------------------+----------------------+ | Ubuntu 24.04 | PASS | PASS | PASS | SKIPPED | SKIPPED | SKIPPED | +-------------------------------+--------------------+-------------------+------------------+-------------------------+-------------------+----------------------+ | Alpine Linux 3.22.0 | PASS | SKIPPED | SKIPPED | SKIPPED | SKIPPED | SKIPPED | +-------------------------------+--------------------+-------------------+------------------+-------------------------+-------------------+----------------------+ | FreeBSD 14.2 | PASS | SKIPPED | SKIPPED | SKIPPED | SKIPPED | SKIPPED | +-------------------------------+--------------------+-------------------+------------------+-------------------------+-------------------+----------------------+ | Windows Server 2022 | SKIPPED | SKIPPED | SKIPPED | PASS | PASS | PASS | +-------------------------------+--------------------+-------------------+------------------+-------------------------+-------------------+----------------------+ CentOS Stream 9 Kernel: 5.15 Compiler: gcc gcc (GCC) 11.5.0 20240719 (Red Hat 11.5.0-7) Debian GNU/Linux 12 Kernel: 5.15 Compiler: gcc gcc (Debian 12.2.0-14+deb12u1) 12.2.0 Fedora Linux 40 Kernel: 5.15 Compiler: clang gcc (GCC) 14.2.1 20240912 (Red Hat 14.2.1-3) CentOS Stream 10 Kernel: 5.15 Compiler: gcc gcc (GCC) 14.2.1 20250110 (Red Hat 14.2.1-8) openSUSE Leap 15.6 Kernel: 5.15 Compiler: gcc gcc (SUSE Linux) 7.5.0 Fedora Linux 41 Kernel: 5.15 Compiler: clang gcc (GCC) 14.3.1 20250523 (Red Hat 14.3.1-1) Red Hat Enterprise Linux 8.10 Kernel: 5.15 Compiler: gcc gcc (GCC) 8.5.0 20210514 (Red Hat 8.5.0-22) Red Hat Enterprise Linux 9.5 Kernel: 5.15 Compiler: gcc gcc (GCC) 11.5.0 20240719 (Red Hat 11.5.0-2) Ubuntu 20.04 Kernel: 5.15 Compiler: gcc gcc (Ubuntu 9.4.0-1ubuntu1~20.04.2) 9.4.0 Ubuntu 22.04 Kernel: 5.15 Compiler: gcc gcc (Ubuntu 11.4.0-1ubuntu1~22.04) 11.4.0 Ubuntu 24.04 Kernel: 5.15 Compiler: gcc gcc (Ubuntu 13.3.0-6ubuntu2~24.04) 13.3.0 Alpine Linux 3.22.0 Kernel: 5.15 Compiler: gcc gcc (Alpine 14.2.0) 14.2.0 FreeBSD 14.2 Kernel: 14.2-RELEASE Compiler: clang 18.1.6 Windows Server 2022 Kernel: 10.0.20348.2031 Compiler: clang 15.0.7, gcc 14.1.0 (MinGW), and MSVC VS 19.39.33521 To view detailed results, visit: https://lab.dpdk.org/results/dashboard/patchsets/33662/ UNH-IOL DPDK Community Lab To manage your email subscriptions, visit: https://lab.dpdk.org/results/dashboard/preferences/subscriptions/