From mboxrd@z Thu Jan 1 00:00:00 1970 Return-Path: Received: from mails.dpdk.org (mails.dpdk.org [217.70.189.124]) by inbox.dpdk.org (Postfix) with ESMTP id BB9D946B8A for ; Wed, 16 Jul 2025 13:36:40 +0200 (CEST) Received: from mails.dpdk.org (localhost [127.0.0.1]) by mails.dpdk.org (Postfix) with ESMTP id 9584E4013F; Wed, 16 Jul 2025 13:36:40 +0200 (CEST) Received: from mail-il1-f228.google.com (mail-il1-f228.google.com [209.85.166.228]) by mails.dpdk.org (Postfix) with ESMTP id 9AB844013F for ; Wed, 16 Jul 2025 13:36:38 +0200 (CEST) Received: by mail-il1-f228.google.com with SMTP id e9e14a558f8ab-3dc9e7d10bdso20502555ab.2 for ; Wed, 16 Jul 2025 04:36:38 -0700 (PDT) DKIM-Signature: v=1; a=rsa-sha256; c=relaxed/relaxed; d=iol.unh.edu; s=unh-iol; t=1752665798; x=1753270598; darn=dpdk.org; h=references:in-reply-to:cc:to:from:subject:message-id:date:from:to :cc:subject:date:message-id:reply-to; bh=42Hz9JHnpruH5T+KRbLcYv8OUyjZyxX8D8yojGajoXY=; b=GS2VswObbkU0A88tj+m653Jb06+6cc5EtwXLk8lBTJLXGsdi1EDBhKjsHKDwO2Fx69 +u7+ReFM+ys3q05/tElDAgdLrtCayY5XB7AUEHj//8+GLk7+8lBTsvOZdC5osIDG4V3R pa3XLRdIaD3yqEeOHsKWQOZpegOeQpOp+gzJc= X-Google-DKIM-Signature: v=1; a=rsa-sha256; c=relaxed/relaxed; d=1e100.net; s=20230601; t=1752665798; x=1753270598; h=references:in-reply-to:cc:to:from:subject:message-id:date :x-gm-message-state:from:to:cc:subject:date:message-id:reply-to; bh=42Hz9JHnpruH5T+KRbLcYv8OUyjZyxX8D8yojGajoXY=; b=F9QP5dIBgcPQuI+Xb2gGCawvZ3Oe9EaLvz7VWOKNs/EOsGB0a5uPY1J0bTal9BuL5x T44ZOq9PILchkcdKsZMSamz0nLyzjZhfAtBEApaTEETcwP7YomqilbLd3En2Dpcv6z6C O7FY/PbeHkYbWLmcGBgwZvmy0cqdSaDhpLkyZ0UYhod6z4DcPOUBArJdal/psCvvaKUj ZB5jwun4N4eFdUA4YQOwHA7W0ildh7CBoPRhr9s3rE8FTc9uE75aInKO99szLnr9gO/o vhV44NCWW34MK65f2WL+LtYaTmGqQHp5Lvwh3Le405E6vyDI7pKx3Ji8TRBbWPOZyy5E J2xw== X-Gm-Message-State: AOJu0Yx/LZ8capcX7asKTw5nkqkG8s0QHgqw/9bZrh+yXG3fk64MaUgA uplxTCUyK54/D+Vn3ymzqwQdwn9xWcDiPFTNFvAXf1jcw4lSKhcdANXAjQ0Lb8EUlmD4Jm/Qmqm ICg+XPc3644FzWn8yNJB/i3kF1s5ifFquYfpJgPlzO+/T X-Gm-Gg: ASbGncs/AempXQuJiKlYdyf7K334j9D07Jy6h4smMnzIHyY8ZiWaoymsqIkPq5M3Hu5 mqUkrxK4KqZRBoUXYBew+8QujFHXriEf+iKPQ1eTf+8ubiERdDieRIq9wVgF1GpyO9nm6a+Kzd9 07t2PLE/JXUcNAIEcc/9F4TWc4hl8y0Y1vlp7Eo4XYOqUNu2+GW7mQucuCv7FIEU+ciHVLwgnES E+mXqZciOgGVlgK0i56Alb/v0RLxFzC6Fx7q+zNWEzdS/uRJuPiUF92p4eqtNb6Jr1m6HFEuTg1 k1rfalfdfOGbaSlvKI+BXErlQBYKYG5umQobWo7rFNzgSyzVDmJwsOUfxeBxrB3nuVusYdQS X-Google-Smtp-Source: AGHT+IG05ZfOm3XAYIIpmUkM70iEehGDO7SsCpq3oKxTvvtSLQ4ufkejRPHQEjc//rZqhWi/2ZM9zliYo6FA X-Received: by 2002:a05:6e02:308f:b0:3df:385d:50a8 with SMTP id e9e14a558f8ab-3e282d8a333mr20745795ab.6.1752665797637; Wed, 16 Jul 2025 04:36:37 -0700 (PDT) Received: from postal.iol.unh.edu (postal.iol.unh.edu. [132.177.123.84]) by smtp-relay.gmail.com with ESMTPS id 8926c6da1cb9f-506d3ccdb0esm249886173.65.2025.07.16.04.36.37 (version=TLS1_2 cipher=ECDHE-ECDSA-AES128-GCM-SHA256 bits=128/128); Wed, 16 Jul 2025 04:36:37 -0700 (PDT) X-Relaying-Domain: iol.unh.edu Date: Wed, 16 Jul 2025 04:36:37 -0700 (PDT) Message-ID: <68778ec5.050a0220.1b7bcc.bf85SMTPIN_ADDED_MISSING@mx.google.com> Received: from [172.21.0.5] (unknown [172.18.0.240]) by postal.iol.unh.edu (Postfix) with ESMTP id 29E566051830; Wed, 16 Jul 2025 07:36:37 -0400 (EDT) Subject: |SUCCESS| pw155261 [PATCH] app/testpmd: report minimum and maximum M From: dpdklab@iol.unh.edu To: Test Report Cc: dpdk-test-reports@iol.unh.edu In-Reply-To: <20250716102847.1118815-1-dsosnowski@nvidia.com> References: <20250716102847.1118815-1-dsosnowski@nvidia.com> Content-Type: text/plain X-BeenThere: test-report@dpdk.org X-Mailman-Version: 2.1.29 Precedence: list List-Id: automatic DPDK test reports List-Unsubscribe: , List-Archive: List-Post: List-Help: List-Subscribe: , Errors-To: test-report-bounces@dpdk.org Test-Label: iol-unit-amd64-testing Test-Status: SUCCESS http://dpdk.org/patch/155261 _Testing PASS_ Submitter: Dariusz Sosnowski Date: Wednesday, July 16 2025 10:28:46 DPDK git baseline: Repo:dpdk Branch: master CommitID:9fe9c0b231c8da5435bfccb1963121b4277f961c 155261 --> testing pass Upstream job id: Generic-Unit-Test-DPDK#355708 Test environment and result as below: +-------------------------------+----------------+ | Environment | dpdk_unit_test | +===============================+================+ | Fedora Linux 41 | PASS | +-------------------------------+----------------+ | Fedora Linux 40 | PASS | +-------------------------------+----------------+ | Debian GNU/Linux 12 | PASS | +-------------------------------+----------------+ | CentOS Stream 9 | PASS | +-------------------------------+----------------+ | CentOS Stream 10 | PASS | +-------------------------------+----------------+ | Red Hat Enterprise Linux 8.10 | PASS | +-------------------------------+----------------+ | Red Hat Enterprise Linux 9.5 | PASS | +-------------------------------+----------------+ | Ubuntu 20.04 | PASS | +-------------------------------+----------------+ | Ubuntu 22.04 | PASS | +-------------------------------+----------------+ | Ubuntu 24.04 | PASS | +-------------------------------+----------------+ Fedora Linux 41 Kernel: 5.15 Compiler: gcc gcc (GCC) 14.3.1 20250523 (Red Hat 14.3.1-1) Fedora Linux 40 Kernel: 5.15 Compiler: gcc gcc (GCC) 14.2.1 20240912 (Red Hat 14.2.1-3) Debian GNU/Linux 12 Kernel: 5.15 Compiler: gcc gcc (Debian 12.2.0-14+deb12u1) 12.2.0 CentOS Stream 9 Kernel: 5.15 Compiler: gcc gcc (GCC) 11.5.0 20240719 (Red Hat 11.5.0-7) CentOS Stream 10 Kernel: 5.15 Compiler: gcc gcc (GCC) 14.2.1 20250110 (Red Hat 14.2.1-8) Red Hat Enterprise Linux 8.10 Kernel: 5.15 Compiler: gcc gcc (GCC) 8.5.0 20210514 (Red Hat 8.5.0-22) Red Hat Enterprise Linux 9.5 Kernel: 5.15 Compiler: gcc gcc (GCC) 11.5.0 20240719 (Red Hat 11.5.0-2) Ubuntu 20.04 Kernel: 5.15 Compiler: gcc gcc (Ubuntu 9.4.0-1ubuntu1~20.04.2) 9.4.0 Ubuntu 22.04 Kernel: 5.15 Compiler: gcc gcc (Ubuntu 11.4.0-1ubuntu1~22.04) 11.4.0 Ubuntu 24.04 Kernel: 5.15 Compiler: gcc gcc (Ubuntu 13.3.0-6ubuntu2~24.04) 13.3.0 To view detailed results, visit: https://lab.dpdk.org/results/dashboard/patchsets/33667/ UNH-IOL DPDK Community Lab To manage your email subscriptions, visit: https://lab.dpdk.org/results/dashboard/preferences/subscriptions/