From mboxrd@z Thu Jan 1 00:00:00 1970 Return-Path: Received: from mails.dpdk.org (mails.dpdk.org [217.70.189.124]) by inbox.dpdk.org (Postfix) with ESMTP id C351746B8A for ; Wed, 16 Jul 2025 13:57:21 +0200 (CEST) Received: from mails.dpdk.org (localhost [127.0.0.1]) by mails.dpdk.org (Postfix) with ESMTP id 9FDA54013F; Wed, 16 Jul 2025 13:57:21 +0200 (CEST) Received: from mail-oa1-f97.google.com (mail-oa1-f97.google.com [209.85.160.97]) by mails.dpdk.org (Postfix) with ESMTP id 40F114013F for ; Wed, 16 Jul 2025 13:57:20 +0200 (CEST) Received: by mail-oa1-f97.google.com with SMTP id 586e51a60fabf-2ea080f900cso2232756fac.2 for ; Wed, 16 Jul 2025 04:57:20 -0700 (PDT) DKIM-Signature: v=1; a=rsa-sha256; c=relaxed/relaxed; d=iol.unh.edu; s=unh-iol; t=1752667039; x=1753271839; darn=dpdk.org; h=references:in-reply-to:cc:to:from:subject:message-id:date:from:to :cc:subject:date:message-id:reply-to; bh=IdxkfJzPgaKo3z+tw0pmh4kGhV74AuYMxGvC2eVCrDU=; b=XmcfW4YsBdt+uiXuDy6RJTfP7bPMNjaW2SKDaitAu0IM/8qsiV+vCd+Vy5Eqy616aS F1Ir/hVUt/8PXHpMKHtIJWwcDHFZrRPTqPgET3esuN340sqP2/TitOCf0STOizn0dN+p nKpw4JNthCYsdl+h8sSbfp7KyP0tLH+9WUntg= X-Google-DKIM-Signature: v=1; a=rsa-sha256; c=relaxed/relaxed; d=1e100.net; s=20230601; t=1752667039; x=1753271839; h=references:in-reply-to:cc:to:from:subject:message-id:date :x-gm-message-state:from:to:cc:subject:date:message-id:reply-to; bh=IdxkfJzPgaKo3z+tw0pmh4kGhV74AuYMxGvC2eVCrDU=; b=PHK60kDWQOiXdrZORUpmq7ce/uAG2QBG4DYFFLCsfapvzrKWE94WvVpTVky2p2gt8F q6vrrkFAN3TmYdSCesemFwTk4BTEUogKiDPbB8Jj2bilRKVsVRjae/TWKOeXMWVWt440 ssggCBLcY7jCKxIOsqQ1ntvbdZE/OeKyGiSGoMBePVtgKJwo+6plV60BYLs/Cgs/jqa9 5J67zHNIfaBOMyEmhZg9WOn6XyHnDEQ/QNEW5hMzMgpMrAg+JR0HCsuJ6CV9tlA3GpCz Cb9hYEPYQmzxBC0Q6LOz03BscZop2rOYcBTUwFmoWlmmHYMGGApBKRWAtEMUC2EXCJ5d IYPQ== X-Gm-Message-State: AOJu0Yxgu+KVPOAVgtxMjs0PdJZ6AfeeW0asv3RuITuv4IAYbxSJTvNa HezLE3uxn7RYTWnTOC2uIhhN0njOC0aTxgRxJx4SzWJwnz5hxg+M5Mnt8RhGtBCUJ5mUuVy0Wmm tNiN6y+uILwRl+XTmLrYrJVZDJ6NmdoC6uKYm4qabteXj X-Gm-Gg: ASbGncuaXFbPH7IF40FZ6nAUhAZ2KHLBV2H6G/Z7xeUaDBNeduIC8/N6j1w1BaJQXXG ptf7s1PC8I2eCdRUIdwDfVQAM4qRew2wCw1iHpPsO9g2IGiCnpR1qnChGUpAPPMLR6ZarRdkoqs lk20jgi1SUciEprCEJuIKhdoaP51DzRpBXgKfs2VAUiVmTg74E+UnPURdeQnuNrN+FvdrrXVvuA kmg3BE/aEfko6GC0V28Sz7H+bQT62S3j9kOQ1x+9YkB8QbcDoq8W3R4s7BHIEoNDdaiFT05oevO ts1o8HiN9yTN8o5mj7zFbvoUHZ2/sZ0wgMBbWhsUoRHqr7P1EJBwnc4acuqJBn9zT4RIIXJ2 X-Google-Smtp-Source: AGHT+IHsvvwhsAEffVwKlg7MLgJBtDME9F+j1anuK2H36WEYIf7xSQcIcDam9zojmJmif44WltGWCXWygBog X-Received: by 2002:a05:6871:7c12:b0:2ea:82c1:47c with SMTP id 586e51a60fabf-2ffb224123emr1946698fac.2.1752667039136; Wed, 16 Jul 2025 04:57:19 -0700 (PDT) Received: from postal.iol.unh.edu (postal.iol.unh.edu. [132.177.123.84]) by smtp-relay.gmail.com with ESMTPS id 586e51a60fabf-2ff8eafeeaesm306123fac.21.2025.07.16.04.57.19 (version=TLS1_2 cipher=ECDHE-ECDSA-AES128-GCM-SHA256 bits=128/128); Wed, 16 Jul 2025 04:57:19 -0700 (PDT) X-Relaying-Domain: iol.unh.edu Date: Wed, 16 Jul 2025 04:57:19 -0700 (PDT) Message-ID: <6877939f.050a0220.39423d.026dSMTPIN_ADDED_MISSING@mx.google.com> Received: from [172.21.0.5] (unknown [172.18.0.240]) by postal.iol.unh.edu (Postfix) with ESMTP id 9D1096051830; Wed, 16 Jul 2025 07:57:18 -0400 (EDT) Subject: |SUCCESS| pw155261 [PATCH] app/testpmd: report minimum and maximum M From: dpdklab@iol.unh.edu To: Test Report Cc: dpdk-test-reports@iol.unh.edu In-Reply-To: <20250716102847.1118815-1-dsosnowski@nvidia.com> References: <20250716102847.1118815-1-dsosnowski@nvidia.com> Content-Type: text/plain X-BeenThere: test-report@dpdk.org X-Mailman-Version: 2.1.29 Precedence: list List-Id: automatic DPDK test reports List-Unsubscribe: , List-Archive: List-Post: List-Help: List-Subscribe: , Errors-To: test-report-bounces@dpdk.org Test-Label: iol-unit-amd64-testing Test-Status: SUCCESS http://dpdk.org/patch/155261 _Testing PASS_ Submitter: Dariusz Sosnowski Date: Wednesday, July 16 2025 10:28:46 DPDK git baseline: Repo:dpdk Branch: master CommitID:9fe9c0b231c8da5435bfccb1963121b4277f961c 155261 --> testing pass Upstream job id: Generic-VM-Unit-Test-DPDK#29970 Test environment and result as below: +-------------------------------+----------------+ | Environment | dpdk_unit_test | +===============================+================+ | Fedora Linux 41 | PASS | +-------------------------------+----------------+ | Fedora Linux 40 | PASS | +-------------------------------+----------------+ | Debian GNU/Linux 12 | PASS | +-------------------------------+----------------+ | CentOS Stream 9 | PASS | +-------------------------------+----------------+ | CentOS Stream 10 | PASS | +-------------------------------+----------------+ | Red Hat Enterprise Linux 8.10 | PASS | +-------------------------------+----------------+ | Red Hat Enterprise Linux 9.5 | PASS | +-------------------------------+----------------+ | Ubuntu 20.04 | PASS | +-------------------------------+----------------+ | Ubuntu 22.04 | PASS | +-------------------------------+----------------+ | Ubuntu 24.04 | PASS | +-------------------------------+----------------+ | Windows Server 2022 | PASS | +-------------------------------+----------------+ Fedora Linux 41 Kernel: 5.15 Compiler: gcc gcc (GCC) 14.3.1 20250523 (Red Hat 14.3.1-1) Fedora Linux 40 Kernel: 5.15 Compiler: gcc gcc (GCC) 14.2.1 20240912 (Red Hat 14.2.1-3) Debian GNU/Linux 12 Kernel: 5.15 Compiler: gcc gcc (Debian 12.2.0-14+deb12u1) 12.2.0 CentOS Stream 9 Kernel: 5.15 Compiler: gcc gcc (GCC) 11.5.0 20240719 (Red Hat 11.5.0-7) CentOS Stream 10 Kernel: 5.15 Compiler: gcc gcc (GCC) 14.2.1 20250110 (Red Hat 14.2.1-8) Red Hat Enterprise Linux 8.10 Kernel: 5.15 Compiler: gcc gcc (GCC) 8.5.0 20210514 (Red Hat 8.5.0-22) Red Hat Enterprise Linux 9.5 Kernel: 5.15 Compiler: gcc gcc (GCC) 11.5.0 20240719 (Red Hat 11.5.0-2) Ubuntu 20.04 Kernel: 5.15 Compiler: gcc gcc (Ubuntu 9.4.0-1ubuntu1~20.04.2) 9.4.0 Ubuntu 22.04 Kernel: 5.15 Compiler: gcc gcc (Ubuntu 11.4.0-1ubuntu1~22.04) 11.4.0 Ubuntu 24.04 Kernel: 5.15 Compiler: gcc gcc (Ubuntu 13.3.0-6ubuntu2~24.04) 13.3.0 Windows Server 2022 Kernel: 10.0.20348.2031 Compiler: clang 15.0.7, gcc 14.1.0 (MinGW), and MSVC VS 19.39.33521 To view detailed results, visit: https://lab.dpdk.org/results/dashboard/patchsets/33667/ UNH-IOL DPDK Community Lab To manage your email subscriptions, visit: https://lab.dpdk.org/results/dashboard/preferences/subscriptions/