From mboxrd@z Thu Jan 1 00:00:00 1970 Return-Path: Received: from mails.dpdk.org (mails.dpdk.org [217.70.189.124]) by inbox.dpdk.org (Postfix) with ESMTP id 3AC4E46B8B for ; Wed, 16 Jul 2025 14:14:18 +0200 (CEST) Received: from mails.dpdk.org (localhost [127.0.0.1]) by mails.dpdk.org (Postfix) with ESMTP id 35C724013F; Wed, 16 Jul 2025 14:14:18 +0200 (CEST) Received: from mail-pl1-f228.google.com (mail-pl1-f228.google.com [209.85.214.228]) by mails.dpdk.org (Postfix) with ESMTP id 6F3374013F for ; Wed, 16 Jul 2025 14:14:17 +0200 (CEST) Received: by mail-pl1-f228.google.com with SMTP id d9443c01a7336-235ef62066eso94167125ad.3 for ; Wed, 16 Jul 2025 05:14:17 -0700 (PDT) DKIM-Signature: v=1; a=rsa-sha256; c=relaxed/relaxed; d=iol.unh.edu; s=unh-iol; t=1752668056; x=1753272856; darn=dpdk.org; h=references:in-reply-to:cc:to:from:subject:message-id:date:from:to :cc:subject:date:message-id:reply-to; bh=Kx46JHkZs3D5zkYk24iQGzEHeE6wIzYXA4kMDAaN8Ec=; b=HOIQbnXiIkOwOXl7gZnaDLFJeJvDgiP6fWdV6V6m+RkPx25AyF0HgXbn3+4rq80vX4 623FNKeFhchJLKhc0vqHEfMzEXUM1BfEO6Aecw4ZzB5FaI7hRcao+AH1beG+ge8AALim dBRfq3emKA7GaXNtiTNWs4E7DyAcDOYNs95Vo= X-Google-DKIM-Signature: v=1; a=rsa-sha256; c=relaxed/relaxed; d=1e100.net; s=20230601; t=1752668056; x=1753272856; h=references:in-reply-to:cc:to:from:subject:message-id:date :x-gm-message-state:from:to:cc:subject:date:message-id:reply-to; bh=Kx46JHkZs3D5zkYk24iQGzEHeE6wIzYXA4kMDAaN8Ec=; b=wFxXP/IlixrXAd6eVJfF0/CS4hjGFYtOsYRKVG1/01J2uhaTaZ6fSE49TizSeRPlsH H+sEECoknbAmEFj5qHtkpGQ13JcparxTApGGfYHff/GrvYbFyM6m2uFOUYXXRXbCHQQP pJcaraHkS/Xq9tuHyD/Lq8wSF+pSW6sFNjGVZeNc7qo/aU69CUGuvHjI7bAK04GIRpbj ++E7QqajeIOpXvsaz6OsuTmN/nBD/uKert8Hqsk/3L7un8sU2sA64bccIc88T2ukmnE0 X7eMj2JAA82q0EKzKi/Cr20GtbBMqRMfEFdEuAKBmaqm+7YnDnFLr9QnCQI7jcfSJCCp Eoxw== X-Gm-Message-State: AOJu0Yy7Sj0oZ10XBccQ78VThBnh/qYDWIl/bFoYPrtEzC39VD+hUPfY XxG3R5qGOIMZ6kLjvVdxZYrU97zr5HsQoegab4w8/5BxSXz5jqi32X9//mCsaY6gZF6U2caK4Td 8gsD8SnmQmHr8vQTZQ1sx5MLMb7TXeKFdI+A1Jr5gSZ2B X-Gm-Gg: ASbGncvcVEEV70z4rp7hDfcOf8PSciP2QxnnAu56iUOoz+CDDGG2Koa/dvatYkC4Dco s+fZuLwtK61yeOuZW2lKosPHBuRMXkz/IWBtDaOr/jMFYC5gdl2Eh2BzXJ7O9k/gTjiAjFNC2IQ VHNsxShjKJUhrpHFS2AppB5jbnrev+AIkCGMKZ9FFTtF+gVlYl3Jm1WKcWZt4yvnAuxxhHPBCiX kVg1LyFqvCA4E344Ps5nWbR6saPUPwql8Hc/N/bt8BWWGTVOoqZvFZ7RRqzw61cJ04KCrglNaoe eczRATDggadrNiV4Im2oXIYsMsDuoDalw01DDyrryWlqI1OfKvBEb2pNkkzHVl5LvjQOsdMU X-Google-Smtp-Source: AGHT+IEObk3Lg5sgQU5HoY9M0mncavBRpvjtSBOJV9X/x2KO22GbO/FbhbMytdzsEBLaPIQZLuhd4/2F8e/2 X-Received: by 2002:a17:902:e749:b0:235:866:9fac with SMTP id d9443c01a7336-23e24ec0c33mr44518405ad.2.1752668056539; Wed, 16 Jul 2025 05:14:16 -0700 (PDT) Received: from postal.iol.unh.edu (postal.iol.unh.edu. [132.177.123.84]) by smtp-relay.gmail.com with ESMTPS id d9443c01a7336-23de432ce79sm7752965ad.84.2025.07.16.05.14.16 (version=TLS1_2 cipher=ECDHE-ECDSA-AES128-GCM-SHA256 bits=128/128); Wed, 16 Jul 2025 05:14:16 -0700 (PDT) X-Relaying-Domain: iol.unh.edu Date: Wed, 16 Jul 2025 05:14:16 -0700 (PDT) Message-ID: <68779798.170a0220.529b7.1f9eSMTPIN_ADDED_MISSING@mx.google.com> Received: from [172.21.0.5] (unknown [172.18.0.240]) by postal.iol.unh.edu (Postfix) with ESMTP id B5E5D6050A61; Wed, 16 Jul 2025 08:14:15 -0400 (EDT) Subject: |SUCCESS| pw155261 [PATCH] app/testpmd: report minimum and maximum M From: dpdklab@iol.unh.edu To: Test Report Cc: dpdk-test-reports@iol.unh.edu In-Reply-To: <20250716102847.1118815-1-dsosnowski@nvidia.com> References: <20250716102847.1118815-1-dsosnowski@nvidia.com> Content-Type: text/plain X-BeenThere: test-report@dpdk.org X-Mailman-Version: 2.1.29 Precedence: list List-Id: automatic DPDK test reports List-Unsubscribe: , List-Archive: List-Post: List-Help: List-Subscribe: , Errors-To: test-report-bounces@dpdk.org Test-Label: iol-unit-arm64-testing Test-Status: SUCCESS http://dpdk.org/patch/155261 _Testing PASS_ Submitter: Dariusz Sosnowski Date: Wednesday, July 16 2025 10:28:46 DPDK git baseline: Repo:dpdk Branch: master CommitID:9fe9c0b231c8da5435bfccb1963121b4277f961c 155261 --> testing pass Upstream job id: Generic-Unit-Test-DPDK#355697 Test environment and result as below: +------------------------------+----------------+---------------------------+------------------------------+--------------+ | Environment | dpdk_unit_test | cryptodev_sw_zuc_autotest | cryptodev_sw_snow3g_autotest | lpm_autotest | +==============================+================+===========================+==============================+==============+ | Fedora Linux 40 | PASS | SKIPPED | SKIPPED | SKIPPED | +------------------------------+----------------+---------------------------+------------------------------+--------------+ | CentOS Stream 9 | PASS | SKIPPED | SKIPPED | SKIPPED | +------------------------------+----------------+---------------------------+------------------------------+--------------+ | CentOS Stream 10 | PASS | SKIPPED | SKIPPED | SKIPPED | +------------------------------+----------------+---------------------------+------------------------------+--------------+ | Debian GNU/Linux 12 | PASS | SKIPPED | SKIPPED | SKIPPED | +------------------------------+----------------+---------------------------+------------------------------+--------------+ | Fedora Linux 41 | PASS | SKIPPED | SKIPPED | SKIPPED | +------------------------------+----------------+---------------------------+------------------------------+--------------+ | Ubuntu 20.04 | PASS | SKIPPED | SKIPPED | PASS | +------------------------------+----------------+---------------------------+------------------------------+--------------+ | Ubuntu 22.04 | PASS | SKIPPED | SKIPPED | SKIPPED | +------------------------------+----------------+---------------------------+------------------------------+--------------+ | Red Hat Enterprise Linux 9.5 | PASS | SKIPPED | SKIPPED | SKIPPED | +------------------------------+----------------+---------------------------+------------------------------+--------------+ | Ubuntu 24.04 | PASS | SKIPPED | SKIPPED | SKIPPED | +------------------------------+----------------+---------------------------+------------------------------+--------------+ | Debian 12 (arm) | SKIPPED | PASS | PASS | SKIPPED | +------------------------------+----------------+---------------------------+------------------------------+--------------+ Fedora Linux 40 Kernel: 5.4 Compiler: gcc gcc (GCC) 14.2.1 20240912 (Red Hat 14.2.1-3) CentOS Stream 9 Kernel: 5.4 Compiler: gcc gcc (GCC) 11.5.0 20240719 (Red Hat 11.5.0-7) CentOS Stream 10 Kernel: 5.4 Compiler: gcc gcc (GCC) 14.2.1 20250110 (Red Hat 14.2.1-8) Debian GNU/Linux 12 Kernel: 5.4 Compiler: gcc gcc (Debian 12.2.0-14+deb12u1) 12.2.0 Fedora Linux 41 Kernel: 5.4 Compiler: clang gcc (GCC) 14.3.1 20250523 (Red Hat 14.3.1-1) Ubuntu 20.04 Kernel: 5.4 Compiler: gcc gcc (Ubuntu 9.4.0-1ubuntu1~20.04.2) 9.4.0 Ubuntu 22.04 Kernel: 5.4 Compiler: gcc gcc (Ubuntu 11.4.0-1ubuntu1~22.04) 11.4.0 Red Hat Enterprise Linux 9.5 Kernel: 5.4 Compiler: gcc gcc (GCC) 11.5.0 20240719 (Red Hat 11.5.0-2) Ubuntu 24.04 Kernel: 5.4 Compiler: gcc gcc (Ubuntu 13.3.0-6ubuntu2~24.04) 13.3.0 Debian 12 (arm) Kernel: Depends on container host Compiler: gcc (Debian 12.2.0-14) 12.2.0 To view detailed results, visit: https://lab.dpdk.org/results/dashboard/patchsets/33667/ UNH-IOL DPDK Community Lab To manage your email subscriptions, visit: https://lab.dpdk.org/results/dashboard/preferences/subscriptions/