From mboxrd@z Thu Jan 1 00:00:00 1970 Return-Path: Received: from mails.dpdk.org (mails.dpdk.org [217.70.189.124]) by inbox.dpdk.org (Postfix) with ESMTP id 906B246B8B for ; Wed, 16 Jul 2025 14:30:19 +0200 (CEST) Received: from mails.dpdk.org (localhost [127.0.0.1]) by mails.dpdk.org (Postfix) with ESMTP id 8B0824013F; Wed, 16 Jul 2025 14:30:19 +0200 (CEST) Received: from mail-yw1-f225.google.com (mail-yw1-f225.google.com [209.85.128.225]) by mails.dpdk.org (Postfix) with ESMTP id 81E824013F for ; Wed, 16 Jul 2025 14:30:17 +0200 (CEST) Received: by mail-yw1-f225.google.com with SMTP id 00721157ae682-7183d264e55so4074207b3.2 for ; Wed, 16 Jul 2025 05:30:17 -0700 (PDT) DKIM-Signature: v=1; a=rsa-sha256; c=relaxed/relaxed; d=iol.unh.edu; s=unh-iol; t=1752669017; x=1753273817; darn=dpdk.org; h=references:in-reply-to:cc:to:from:subject:message-id:date:from:to :cc:subject:date:message-id:reply-to; bh=fppgRu/neU+YDByg5HVT9xU2YoCcWvSq/RprPKkjIuI=; b=KQdEy2ogFCh2r/OR997AabZzsnGfy7gg+kYQPZB4zLbG8DoX8yYUwpoWM4J9GkhICw PZZtok15y0nzSR2I8ORzaeLKlaJS31mtLQIEXdo8rOECyIt3fAA6LdXY1GQnhs3R7I6i smXhkroKNBBpnW7JMWk7QgRP/xnHexeakf10I= X-Google-DKIM-Signature: v=1; a=rsa-sha256; c=relaxed/relaxed; d=1e100.net; s=20230601; t=1752669017; x=1753273817; h=references:in-reply-to:cc:to:from:subject:message-id:date :x-gm-message-state:from:to:cc:subject:date:message-id:reply-to; bh=fppgRu/neU+YDByg5HVT9xU2YoCcWvSq/RprPKkjIuI=; b=an7aqf9t2KVjJD3T/WSIKG4vAAyC4bbi/NEKiXtmHM/TL8DkCrkiOP5+/eJddoVENc OX5BBDmG4tDYSqJcke5wO88wM8aVJJtzjYKr8Rtlu9zEfjEt42Jcsfjp4HNocy+F6AId f5rrJkfe/tXYZbE6fEgr31xvekpL7Jb7DCK6Cp3NLI1rvf7/JWZByavE/v1kZMNpPDjg i6/imgxfk5hRQc0uZGvtZ2Riy6Udn2LpQdb/kh5pyG8Z7Y22m0USFAq9dRjVeIQnlzQ8 cJxtAxtuHUNwVa3ruwSHliLgDBEDCdPcLxyH8FHeKgZ1laTXTRAVtNcztYTZGE1ciRuQ E+dg== X-Gm-Message-State: AOJu0YxMVQzZh+RTY0PQ6FfTNeHwy6lOMnoekHypFojeGlVIThqcV0DG ilCibGIMV3D7tjUIWUBi9tFHXaTWeLEUZQJhvNgVdYhgjbMvuRuYVUGwRaeHjMv98r6nCM54UOz bzFHXIB2LVYU/OiEgJ6jB6trqU2I3AW7Ml6rDSUpgCv2M X-Gm-Gg: ASbGncsXqGTf1eMsCh8/FGmq8i0mxOQD26c5s1Q5ngVdAW3Hp/zyCyLUnEC6Tkjj07o xw2cwLxuHYripfFw3+WImnM/U+AFZwRVNbTW8tVcfyveMO8Pkon/4IyFQSr74yf49yA/O77/K02 30yFiC3Ph6HQhA+7NZEx07jmyUI1P1fLVhMkdrY6mJVgM9gh5sTqbUY2kXQHT4rzb2ldCi2jQe8 s7PGCyUY2eT7ZCJPI9S+deOpX7FYLw/0grrWXMLHt5+ggX5KoIU+X2X00NSC/9plHpQd4M0Ymj/ R7+Fmo3obowSWi+v+tVCTAA2YlnVBFCEIMR/QgF1anv2TgRJrvB5EW8uSnSTF++pGBIpXyd4 X-Google-Smtp-Source: AGHT+IHHfwMa8k2Z8bzdCWp3gBHLGRJA1k2LIDbueCNcHyMLCCQJHxzonOyP2zpt6PaQL89d1kYW0Xg2YvqP X-Received: by 2002:a05:690c:38b:b0:70d:fe09:9b18 with SMTP id 00721157ae682-71834f4b2a8mr47856827b3.2.1752669016609; Wed, 16 Jul 2025 05:30:16 -0700 (PDT) Received: from postal.iol.unh.edu (postal.iol.unh.edu. [132.177.123.84]) by smtp-relay.gmail.com with ESMTPS id 00721157ae682-717c625ab7dsm3674307b3.64.2025.07.16.05.30.16 (version=TLS1_2 cipher=ECDHE-ECDSA-AES128-GCM-SHA256 bits=128/128); Wed, 16 Jul 2025 05:30:16 -0700 (PDT) X-Relaying-Domain: iol.unh.edu Date: Wed, 16 Jul 2025 05:30:16 -0700 (PDT) Message-ID: <68779b58.050a0220.39678.2523SMTPIN_ADDED_MISSING@mx.google.com> Received: from [172.21.0.5] (unknown [172.18.0.240]) by postal.iol.unh.edu (Postfix) with ESMTP id 48554604D420; Wed, 16 Jul 2025 08:30:16 -0400 (EDT) Subject: |SUCCESS| pw155261 [PATCH] app/testpmd: report minimum and maximum M From: dpdklab@iol.unh.edu To: Test Report Cc: dpdk-test-reports@iol.unh.edu In-Reply-To: <20250716102847.1118815-1-dsosnowski@nvidia.com> References: <20250716102847.1118815-1-dsosnowski@nvidia.com> Content-Type: text/plain X-BeenThere: test-report@dpdk.org X-Mailman-Version: 2.1.29 Precedence: list List-Id: automatic DPDK test reports List-Unsubscribe: , List-Archive: List-Post: List-Help: List-Subscribe: , Errors-To: test-report-bounces@dpdk.org Test-Label: iol-unit-amd64-testing Test-Status: SUCCESS http://dpdk.org/patch/155261 _Testing PASS_ Submitter: Dariusz Sosnowski Date: Wednesday, July 16 2025 10:28:46 DPDK git baseline: Repo:dpdk Branch: master CommitID:9fe9c0b231c8da5435bfccb1963121b4277f961c 155261 --> testing pass Upstream job id: Generic-VM-Unit-Test-DPDK#29971 Test environment and result as below: +-------------------------------+----------------+ | Environment | dpdk_unit_test | +===============================+================+ | Fedora Linux 41 | PASS | +-------------------------------+----------------+ | Fedora Linux 40 | PASS | +-------------------------------+----------------+ | Debian GNU/Linux 12 | PASS | +-------------------------------+----------------+ | CentOS Stream 9 | PASS | +-------------------------------+----------------+ | CentOS Stream 10 | PASS | +-------------------------------+----------------+ | Red Hat Enterprise Linux 8.10 | PASS | +-------------------------------+----------------+ | Red Hat Enterprise Linux 9.5 | PASS | +-------------------------------+----------------+ | Ubuntu 20.04 | PASS | +-------------------------------+----------------+ | Ubuntu 22.04 | PASS | +-------------------------------+----------------+ | Ubuntu 24.04 | PASS | +-------------------------------+----------------+ | Windows Server 2022 | PASS | +-------------------------------+----------------+ Fedora Linux 41 Kernel: 5.15 Compiler: gcc gcc (GCC) 14.3.1 20250523 (Red Hat 14.3.1-1) Fedora Linux 40 Kernel: 5.15 Compiler: gcc gcc (GCC) 14.2.1 20240912 (Red Hat 14.2.1-3) Debian GNU/Linux 12 Kernel: 5.15 Compiler: gcc gcc (Debian 12.2.0-14+deb12u1) 12.2.0 CentOS Stream 9 Kernel: 5.15 Compiler: gcc gcc (GCC) 11.5.0 20240719 (Red Hat 11.5.0-7) CentOS Stream 10 Kernel: 5.15 Compiler: gcc gcc (GCC) 14.2.1 20250110 (Red Hat 14.2.1-8) Red Hat Enterprise Linux 8.10 Kernel: 5.15 Compiler: gcc gcc (GCC) 8.5.0 20210514 (Red Hat 8.5.0-22) Red Hat Enterprise Linux 9.5 Kernel: 5.15 Compiler: gcc gcc (GCC) 11.5.0 20240719 (Red Hat 11.5.0-2) Ubuntu 20.04 Kernel: 5.15 Compiler: gcc gcc (Ubuntu 9.4.0-1ubuntu1~20.04.2) 9.4.0 Ubuntu 22.04 Kernel: 5.15 Compiler: gcc gcc (Ubuntu 11.4.0-1ubuntu1~22.04) 11.4.0 Ubuntu 24.04 Kernel: 5.15 Compiler: gcc gcc (Ubuntu 13.3.0-6ubuntu2~24.04) 13.3.0 Windows Server 2022 Kernel: 10.0.20348.2031 Compiler: clang 15.0.7, gcc 14.1.0 (MinGW), and MSVC VS 19.39.33521 To view detailed results, visit: https://lab.dpdk.org/results/dashboard/patchsets/33667/ UNH-IOL DPDK Community Lab To manage your email subscriptions, visit: https://lab.dpdk.org/results/dashboard/preferences/subscriptions/