From mboxrd@z Thu Jan 1 00:00:00 1970 Return-Path: Received: from mails.dpdk.org (mails.dpdk.org [217.70.189.124]) by inbox.dpdk.org (Postfix) with ESMTP id 0B61446B8B for ; Wed, 16 Jul 2025 14:34:34 +0200 (CEST) Received: from mails.dpdk.org (localhost [127.0.0.1]) by mails.dpdk.org (Postfix) with ESMTP id 065E94013F; Wed, 16 Jul 2025 14:34:34 +0200 (CEST) Received: from mail-il1-f227.google.com (mail-il1-f227.google.com [209.85.166.227]) by mails.dpdk.org (Postfix) with ESMTP id 39AA94013F for ; Wed, 16 Jul 2025 14:34:31 +0200 (CEST) Received: by mail-il1-f227.google.com with SMTP id e9e14a558f8ab-3df210930f7so3719765ab.1 for ; Wed, 16 Jul 2025 05:34:31 -0700 (PDT) DKIM-Signature: v=1; a=rsa-sha256; c=relaxed/relaxed; d=iol.unh.edu; s=unh-iol; t=1752669270; x=1753274070; darn=dpdk.org; h=references:in-reply-to:cc:to:from:subject:message-id:date:from:to :cc:subject:date:message-id:reply-to; bh=lVzm/7U65zlTWkWIKlwiSdBbmjDN0BlOES6a87SWeOM=; b=AhfT4qzNxYkQU9yphF6GT1WF9S+o7SpesjUGGTcvP/9Ey6pciWXcRSLRptCDfn9elg 1YXgP/x8cG4H91h1tjRku5R/RK4jnujUwYwcToaOBEBBmyKbEWY04G6UA3bmhLkYYgSo WcbmA0RNcbODMu5DQ0MUD86O55agfTJLGzkdg= X-Google-DKIM-Signature: v=1; a=rsa-sha256; c=relaxed/relaxed; d=1e100.net; s=20230601; t=1752669270; x=1753274070; h=references:in-reply-to:cc:to:from:subject:message-id:date :x-gm-message-state:from:to:cc:subject:date:message-id:reply-to; bh=lVzm/7U65zlTWkWIKlwiSdBbmjDN0BlOES6a87SWeOM=; b=bftCTe4LUPUxbIMNlrKYOriobg4BYRsDOhad3wut/lyYcdvDPSH+S5gnGn89mcESqN 1Woc+BKaKF/5pS29xdQAwKgqeRZecebZk/gnhdwBAP/d3bZTnZUfBuYrACoSIbKjgDlW 3mOqRew+6nYu1PC+4U1Fa3Aq/xXxUropiwifjMegp8cBTOskyyx5bKjjsn/rWOT3uWu3 Kq/zy+OBXDaxB85yqF2oJrrDplOp8oujbCI6tbrUVbLp4GoEK7YV5rDY7qw3/QUcVHrr huoO+00LWWG+5w1t6TnLUi59PhK/u85IFvmzZDv8hZjVMC6MVG34k7+tr37+Z9/qOI9L 5bEQ== X-Gm-Message-State: AOJu0YxZBuffrYnPXJhk+Fh/x3QAsX4DHWqRLd4mtoOQYtUOjbyal95b AqeesxFo3FCFEejyVBIOmF562NLAzqvyHHqv9nNKSsm62AKjvzsbrIR8pEATmEZcqRKGKQ+f+dk pGhf+mOiWw8mdb9+ASJ9Up5DehMR+nhMKOHjuUeLo0mCY X-Gm-Gg: ASbGncttjWxxIu3QoX6EhQJmqoZSvTVwZbxyHQafTGjyqqDi8JpGJGrI2NHIm5unrde DGzOENKEmU+G7zTKf0JEePBDP8yq8WDDbWYk2t8mEyxXZNYEGwcp/fpbj3m2VY3Z31Gk3Hb9/bs bHMlKbcdm5mHYiBA9Us9SisAdYcGt4WY2FE2qC7tEVQu6C7M6EoCFsTz07fT0fpz54aU1i3UlPl usB8AeHCqyWG89tUu3T8QgaTKJ+muv5+uqNlbM4szGERngJYEDzRrCOh0yM826cGdl5hMSF6WZy vRdlZdeFN0K4QVFCS0h11lUue8sw2dkQevyFZWDx8xGNi0oR1Ywban6qjpcOrMOCEacvS482 X-Google-Smtp-Source: AGHT+IFLWXW2fI3adiPQBjwWGg+h7T4qr0tg08cPHWt9AfhACz8Jo/vPsXxdSmxGSOchc8RkjY3R7jIjEokY X-Received: by 2002:a92:d64b:0:b0:3dc:879b:be95 with SMTP id e9e14a558f8ab-3e277c6ac35mr53683495ab.5.1752669270467; Wed, 16 Jul 2025 05:34:30 -0700 (PDT) Received: from postal.iol.unh.edu (postal.iol.unh.edu. [132.177.123.84]) by smtp-relay.gmail.com with ESMTPS id e9e14a558f8ab-3e24622f3c8sm8754505ab.60.2025.07.16.05.34.30 (version=TLS1_2 cipher=ECDHE-ECDSA-AES128-GCM-SHA256 bits=128/128); Wed, 16 Jul 2025 05:34:30 -0700 (PDT) X-Relaying-Domain: iol.unh.edu Date: Wed, 16 Jul 2025 05:34:30 -0700 (PDT) Message-ID: <68779c56.050a0220.269977.d860SMTPIN_ADDED_MISSING@mx.google.com> Received: from [172.21.0.7] (unknown [172.18.0.240]) by postal.iol.unh.edu (Postfix) with ESMTP id F2C80604D420; Wed, 16 Jul 2025 08:34:29 -0400 (EDT) Subject: |SUCCESS| pw155261 [PATCH] app/testpmd: report minimum and maximum M From: dpdklab@iol.unh.edu To: Test Report Cc: dpdk-test-reports@iol.unh.edu In-Reply-To: <20250716102847.1118815-1-dsosnowski@nvidia.com> References: <20250716102847.1118815-1-dsosnowski@nvidia.com> Content-Type: text/plain X-BeenThere: test-report@dpdk.org X-Mailman-Version: 2.1.29 Precedence: list List-Id: automatic DPDK test reports List-Unsubscribe: , List-Archive: List-Post: List-Help: List-Subscribe: , Errors-To: test-report-bounces@dpdk.org Test-Label: iol-abi-testing Test-Status: SUCCESS http://dpdk.org/patch/155261 _Testing PASS_ Submitter: Dariusz Sosnowski Date: Wednesday, July 16 2025 10:28:46 DPDK git baseline: Repo:dpdk Branch: master CommitID:9fe9c0b231c8da5435bfccb1963121b4277f961c 155261 --> testing pass Upstream job id: Generic-DPDK-Compile-ABI#134502 Test environment and result as below: +-------------------------------+----------+ | Environment | abi_test | +===============================+==========+ | CentOS Stream 9 | PASS | +-------------------------------+----------+ | CentOS Stream 10 | PASS | +-------------------------------+----------+ | Fedora Linux 41 | PASS | +-------------------------------+----------+ | Fedora Linux 40 | PASS | +-------------------------------+----------+ | Debian GNU/Linux 12 | PASS | +-------------------------------+----------+ | Red Hat Enterprise Linux 9.5 | PASS | +-------------------------------+----------+ | Red Hat Enterprise Linux 8.10 | PASS | +-------------------------------+----------+ | openSUSE Leap 15.6 | PASS | +-------------------------------+----------+ | Ubuntu 22.04 | PASS | +-------------------------------+----------+ | Ubuntu 24.04 | PASS | +-------------------------------+----------+ CentOS Stream 9 Kernel: 5.15 Compiler: gcc gcc (GCC) 11.5.0 20240719 (Red Hat 11.5.0-7) CentOS Stream 10 Kernel: 5.15 Compiler: gcc gcc (GCC) 14.2.1 20250110 (Red Hat 14.2.1-8) Fedora Linux 41 Kernel: 5.15 Compiler: clang gcc (GCC) 14.3.1 20250523 (Red Hat 14.3.1-1) Fedora Linux 40 Kernel: 5.15 Compiler: gcc gcc (GCC) 14.2.1 20240912 (Red Hat 14.2.1-3) Debian GNU/Linux 12 Kernel: 5.15 Compiler: gcc gcc (Debian 12.2.0-14+deb12u1) 12.2.0 Red Hat Enterprise Linux 9.5 Kernel: 5.15 Compiler: gcc gcc (GCC) 11.5.0 20240719 (Red Hat 11.5.0-2) Red Hat Enterprise Linux 8.10 Kernel: 5.15 Compiler: gcc gcc (GCC) 8.5.0 20210514 (Red Hat 8.5.0-22) openSUSE Leap 15.6 Kernel: 5.15 Compiler: gcc gcc (SUSE Linux) 7.5.0 Ubuntu 22.04 Kernel: 5.15 Compiler: gcc gcc (Ubuntu 11.4.0-1ubuntu1~22.04) 11.4.0 Ubuntu 24.04 Kernel: 5.15 Compiler: gcc gcc (Ubuntu 13.3.0-6ubuntu2~24.04) 13.3.0 To view detailed results, visit: https://lab.dpdk.org/results/dashboard/patchsets/33667/ UNH-IOL DPDK Community Lab To manage your email subscriptions, visit: https://lab.dpdk.org/results/dashboard/preferences/subscriptions/