From mboxrd@z Thu Jan 1 00:00:00 1970 Return-Path: Received: from mails.dpdk.org (mails.dpdk.org [217.70.189.124]) by inbox.dpdk.org (Postfix) with ESMTP id AB7A646B8B for ; Wed, 16 Jul 2025 14:56:17 +0200 (CEST) Received: from mails.dpdk.org (localhost [127.0.0.1]) by mails.dpdk.org (Postfix) with ESMTP id 854AE4013F; Wed, 16 Jul 2025 14:56:17 +0200 (CEST) Received: from mail-il1-f225.google.com (mail-il1-f225.google.com [209.85.166.225]) by mails.dpdk.org (Postfix) with ESMTP id 297D24013F for ; Wed, 16 Jul 2025 14:56:16 +0200 (CEST) Received: by mail-il1-f225.google.com with SMTP id e9e14a558f8ab-3e13a58191eso55868455ab.2 for ; Wed, 16 Jul 2025 05:56:16 -0700 (PDT) DKIM-Signature: v=1; a=rsa-sha256; c=relaxed/relaxed; d=iol.unh.edu; s=unh-iol; t=1752670575; x=1753275375; darn=dpdk.org; h=references:in-reply-to:cc:to:from:subject:message-id:date:from:to :cc:subject:date:message-id:reply-to; bh=Ifis0LL15UwpQD+n7R+nhmQOIw2nctaUi+eHUK9ijAQ=; b=QFGQ8ExhuHly8e0hCzMWCAPFS/zDybNk0tuEtblynqcEao9DBr7zJHCEh8F01MgMqH YyZjVUki2HbOBlUqQuHDzVpOH1AjQTKDOF7Ww9XVA2uQzuw/ssyPMZ9PcbTw82NTSM9R wnOit9/IIZ8txOPTj6BQF4UU1S+YVmjuv0p3A= X-Google-DKIM-Signature: v=1; a=rsa-sha256; c=relaxed/relaxed; d=1e100.net; s=20230601; t=1752670575; x=1753275375; h=references:in-reply-to:cc:to:from:subject:message-id:date :x-gm-message-state:from:to:cc:subject:date:message-id:reply-to; bh=Ifis0LL15UwpQD+n7R+nhmQOIw2nctaUi+eHUK9ijAQ=; b=R8CHHbzCf5Y+IQMHR/22VZQzIp2Ls+phWNS3bM8cKkz4IpPUkjIpYb72pl+KkrZV4C RkmbpHplX7O343e4f+9VbtUGugff4BcrcM1wV7DmyzAaZF+WlkL3gNKAZk34hCPh18xE eFHHtoyB81Xyf/dBMqDBlRqRy3oL5Xq4jtAImXi//fS1MGTdQ+c5GhOPe7W1q/GLCkvd /CJoePKTxiPa1U9WGVMjwjDkD17B9FlsL6RrH/vSnbEfppOcGM+X46s2jHMpDWIUHx2z tev6sXCHYAya03RkpqyC7xZrw9mtI2bymamUvmZ/snWrup/rBGa+5kmNuysmnzep42AK yGfg== X-Gm-Message-State: AOJu0YwX1bivuukQVXYoWRXIgdYA/lSp4mk2/lrqWfy2QqwtCBSF3ihk ai7gXmUO/RqEJnfseHi5p4zaM9xNQdfmy+nfWgUMyrmTKPpH05nRcDVidNqYPksjrGymqGZpdnN szJFdDByGyGPQWOgx8cIqYl/YYg/qeHSx5zyHKi5O+4DQQ4PJz26NhZs/LAla X-Gm-Gg: ASbGncuBT9who3xDTeRk9o5rA7V0dmdHm9TqzOcDnrMIAjwXNQGCyXiRloSrckWTgK9 v56z6FkZN+4FO2jshqCGYP/BQPefJonqyWcg1cFcHc6Vzj5W/jxVsdVbjUk8kdZvomIxxZ+7RK7 xCRPzKJTj1U7wWLqSqhql789sRksVQSD0+TKxMa42vqpbl66COIWb+zKYmJhzPHd3tiHJx8ZMdB NXIRHPTQAzsEgl9IGI9vSQrPyvHwHAPtHaE4ITKt1j4eRUNH0ZFwYKWznjGdLSdWEaszULNd4oY BC2fCIdS0tNzbJdP9M4S+y1oEUzp5Sn27SSVZRjNGSADWknBfg== X-Google-Smtp-Source: AGHT+IGTM90u1Xk1i8TCGFXExR2NdMXVuGVMKaUMCTZ3HBAyAuFX45E1xdHKcbY2lt6s+K50BuRHFu4IKgxF X-Received: by 2002:a05:6e02:12cb:b0:3dd:be49:9278 with SMTP id e9e14a558f8ab-3e2821ddae3mr26119645ab.0.1752670575431; Wed, 16 Jul 2025 05:56:15 -0700 (PDT) Received: from postal.iol.unh.edu (postal.iol.unh.edu. [2606:4100:3880:1234::84]) by smtp-relay.gmail.com with ESMTPS id e9e14a558f8ab-3e2461f960esm8748955ab.37.2025.07.16.05.56.15 (version=TLS1_2 cipher=ECDHE-ECDSA-AES128-GCM-SHA256 bits=128/128); Wed, 16 Jul 2025 05:56:15 -0700 (PDT) X-Relaying-Domain: iol.unh.edu Date: Wed, 16 Jul 2025 05:56:15 -0700 (PDT) Message-ID: <6877a16f.050a0220.23c976.0476SMTPIN_ADDED_MISSING@mx.google.com> Received: from [172.21.0.8] (unknown [172.18.0.240]) by postal.iol.unh.edu (Postfix) with ESMTP id ECB28604D420; Wed, 16 Jul 2025 08:56:14 -0400 (EDT) Subject: |SUCCESS| pw155243-155256 [PATCH] [v9,14/14] net/sxe: add Solve comp From: dpdklab@iol.unh.edu To: Test Report Cc: dpdk-test-reports@iol.unh.edu In-Reply-To: <20250716082930.83026-14-liujie5@linkdatatechnology.com> References: <20250716082930.83026-14-liujie5@linkdatatechnology.com> Content-Type: text/plain X-BeenThere: test-report@dpdk.org X-Mailman-Version: 2.1.29 Precedence: list List-Id: automatic DPDK test reports List-Unsubscribe: , List-Archive: List-Post: List-Help: List-Subscribe: , Errors-To: test-report-bounces@dpdk.org Test-Label: iol-compile-arm64-testing Test-Status: SUCCESS http://dpdk.org/patch/155256 _Testing PASS_ Submitter: Jie Liu Date: Wednesday, July 16 2025 08:29:30 DPDK git baseline: Repo:dpdk Branch: master CommitID:9fe9c0b231c8da5435bfccb1963121b4277f961c 155243-155256 --> testing pass Upstream job id: Generic-DPDK-Compile-Meson#409073 Test environment and result as below: +------------------------------+--------------------+ | Environment | dpdk_meson_compile | +==============================+====================+ | Red Hat Enterprise Linux 9.5 | PASS | +------------------------------+--------------------+ | Ubuntu 20.04 | PASS | +------------------------------+--------------------+ | Fedora Linux 40 | PASS | +------------------------------+--------------------+ | Debian GNU/Linux 12 | PASS | +------------------------------+--------------------+ | Fedora Linux 41 | PASS | +------------------------------+--------------------+ | Ubuntu 22.04 | PASS | +------------------------------+--------------------+ | Ubuntu 24.04 | PASS | +------------------------------+--------------------+ | CentOS Stream 9 | PASS | +------------------------------+--------------------+ | CentOS Stream 10 | PASS | +------------------------------+--------------------+ Red Hat Enterprise Linux 9.5 Kernel: 5.4 Compiler: gcc gcc (GCC) 11.5.0 20240719 (Red Hat 11.5.0-2) Ubuntu 20.04 Kernel: 5.15 Compiler: aarch64-linux-gnu-gcc gcc (Ubuntu 9.4.0-1ubuntu1~20.04.2) 9.4.0 Fedora Linux 40 Kernel: 5.4 Compiler: gcc gcc (GCC) 14.2.1 20240912 (Red Hat 14.2.1-3) Debian GNU/Linux 12 Kernel: 5.4 Compiler: gcc gcc (Debian 12.2.0-14+deb12u1) 12.2.0 Fedora Linux 41 Kernel: 5.4 Compiler: gcc gcc (GCC) 14.3.1 20250523 (Red Hat 14.3.1-1) Ubuntu 22.04 Kernel: 5.4 Compiler: gcc gcc (Ubuntu 11.4.0-1ubuntu1~22.04) 11.4.0 Ubuntu 24.04 Kernel: 5.4 Compiler: gcc gcc (Ubuntu 13.3.0-6ubuntu2~24.04) 13.3.0 CentOS Stream 9 Kernel: 5.4 Compiler: gcc gcc (GCC) 11.5.0 20240719 (Red Hat 11.5.0-7) CentOS Stream 10 Kernel: 5.4 Compiler: gcc gcc (GCC) 14.2.1 20250110 (Red Hat 14.2.1-8) To view detailed results, visit: https://lab.dpdk.org/results/dashboard/patchsets/33662/ UNH-IOL DPDK Community Lab To manage your email subscriptions, visit: https://lab.dpdk.org/results/dashboard/preferences/subscriptions/