From mboxrd@z Thu Jan 1 00:00:00 1970 Return-Path: Received: from mails.dpdk.org (mails.dpdk.org [217.70.189.124]) by inbox.dpdk.org (Postfix) with ESMTP id E613446B8B for ; Wed, 16 Jul 2025 14:59:48 +0200 (CEST) Received: from mails.dpdk.org (localhost [127.0.0.1]) by mails.dpdk.org (Postfix) with ESMTP id DE3C04013F; Wed, 16 Jul 2025 14:59:48 +0200 (CEST) Received: from mail-il1-f228.google.com (mail-il1-f228.google.com [209.85.166.228]) by mails.dpdk.org (Postfix) with ESMTP id 95B434013F for ; Wed, 16 Jul 2025 14:59:47 +0200 (CEST) Received: by mail-il1-f228.google.com with SMTP id e9e14a558f8ab-3ddda0a8ba2so48612535ab.0 for ; Wed, 16 Jul 2025 05:59:47 -0700 (PDT) DKIM-Signature: v=1; a=rsa-sha256; c=relaxed/relaxed; d=iol.unh.edu; s=unh-iol; t=1752670787; x=1753275587; darn=dpdk.org; h=references:in-reply-to:cc:to:from:subject:message-id:date:from:to :cc:subject:date:message-id:reply-to; bh=m7pGaymUQrqGHdZicRVawyXYGkC89oKRGTdJF3EyzXg=; b=OfdVJKv+6RiFLux7fyzzRJZUNzNRUQTSBK0c+upUQNceceTZ+TQgYuAw/2AwJXW2MN rSGMqZBvWralOYIOnvxzQSAAB/aBVrdEteFyHtIO1xiUXzCcSqku6+W2misCjQPgQReX PRpXr8RI4u5IbEd0X8nc5XPMf4Xciew2tOVBw= X-Google-DKIM-Signature: v=1; a=rsa-sha256; c=relaxed/relaxed; d=1e100.net; s=20230601; t=1752670787; x=1753275587; h=references:in-reply-to:cc:to:from:subject:message-id:date :x-gm-message-state:from:to:cc:subject:date:message-id:reply-to; bh=m7pGaymUQrqGHdZicRVawyXYGkC89oKRGTdJF3EyzXg=; b=trLM9VQ5Bn3CpxX63qrOcYonA1/EvZRBvPqkNAioRdDhm9vh4qqjMn83tAw8Jaxcx5 IUrE8zcHq2+lDeJkDS3oidnctq6Dqtv5ypPh8uIELZTdUfeal3GKVoCeeyfvkzz+wbWU HjPaCPLoHmHQE4ZrkaruMzVpI336FaJBkT+MToS2n1ekHn0SamUQ5YAmkenlrEEbIJUh 3eriQjKDS3W19DAHXcMaqkDLuVyhiTsJuokFDpf3uMzGEm0sdxAtq30DrZHiHbEVlJfm QLXZMhEZf0QfL1QQjOtt0cfNWJE5qF2aEX32MnfR4YgbBF9KbUBwdK7ua3IjZh+gWztH V0XA== X-Gm-Message-State: AOJu0Yyk+saK0jvy9YDSJVdYIVysQ6sOd1AC+dGjNKzV11oVtKqiBedL 5/wHcnyLZT78E8mOsj9Ut8RX+aeOoobP20VOAQ8YWSjB2IJ9waygsUmrb1i4ZwnIH7Ua/RyUoR+ w2mfgJNTohoj1RDfLsz/V1Hcs5sbsCkP+bHJlUK8ZnpeccQWWzBvunAw10Leo X-Gm-Gg: ASbGncuLbxndKZwdatekO139s2QdrwTVmTLpPo0X7NhyOM2FBJbdkoL2dKR5NLxPhJS irwM1V+tKSpE8IoYiKdYOfioDDzusGtQzusFDrHFAmvgpYTvaYGfEmBDE7X5nycYA8mprqONv8+ umzGnuVbJ2Wn3fyc5DRgAZDMe3S1oJRjr+Uk3MD5TU1d6JeTGOe0jHdGnGT6+PDYR2SDexO+dCz oXIMC1m/uWd8+Wx8fI8HtV/RH8sRy4gIGhmIj7ykeydKfzbiJMdSOALaRyJjuFE/2c7/g35+t8U 33G2fCXZOEeOQNOn9f7ahmr1WuPwhy17zPhY+WBlbFobpqRPOg== X-Google-Smtp-Source: AGHT+IE5PVnEvsb4hzsUve3QDgcLticpJgYzlywibD0V0rEEjjldiDBEcDXU0+i1G5nxNltmm+4kq7RXc4i0 X-Received: by 2002:a05:6e02:471a:b0:3df:154d:aa5b with SMTP id e9e14a558f8ab-3e2823a6c2amr32726415ab.5.1752670786875; Wed, 16 Jul 2025 05:59:46 -0700 (PDT) Received: from postal.iol.unh.edu (postal.iol.unh.edu. [2606:4100:3880:1234::84]) by smtp-relay.gmail.com with ESMTPS id e9e14a558f8ab-3e284ff4156sm713095ab.20.2025.07.16.05.59.46 (version=TLS1_2 cipher=ECDHE-ECDSA-AES128-GCM-SHA256 bits=128/128); Wed, 16 Jul 2025 05:59:46 -0700 (PDT) X-Relaying-Domain: iol.unh.edu Date: Wed, 16 Jul 2025 05:59:46 -0700 (PDT) Message-ID: <6877a242.050a0220.98a12.3b2cSMTPIN_ADDED_MISSING@mx.google.com> Received: from [172.21.0.5] (unknown [172.18.0.240]) by postal.iol.unh.edu (Postfix) with ESMTP id 82CE9604D420; Wed, 16 Jul 2025 08:59:46 -0400 (EDT) Subject: |SUCCESS| pw155243-155256 [PATCH] [v9,14/14] net/sxe: add Solve comp From: dpdklab@iol.unh.edu To: Test Report Cc: dpdk-test-reports@iol.unh.edu In-Reply-To: <20250716082930.83026-14-liujie5@linkdatatechnology.com> References: <20250716082930.83026-14-liujie5@linkdatatechnology.com> Content-Type: text/plain X-BeenThere: test-report@dpdk.org X-Mailman-Version: 2.1.29 Precedence: list List-Id: automatic DPDK test reports List-Unsubscribe: , List-Archive: List-Post: List-Help: List-Subscribe: , Errors-To: test-report-bounces@dpdk.org Test-Label: iol-compile-arm64-testing Test-Status: SUCCESS http://dpdk.org/patch/155256 _Testing PASS_ Submitter: Jie Liu Date: Wednesday, July 16 2025 08:29:30 DPDK git baseline: Repo:dpdk Branch: master CommitID:9fe9c0b231c8da5435bfccb1963121b4277f961c 155243-155256 --> testing pass Upstream job id: Generic-DPDK-Compile-Meson#409075 Test environment and result as below: +------------------------------+--------------------+ | Environment | dpdk_meson_compile | +==============================+====================+ | Red Hat Enterprise Linux 9.5 | PASS | +------------------------------+--------------------+ | Ubuntu 20.04 | PASS | +------------------------------+--------------------+ | Fedora Linux 40 | PASS | +------------------------------+--------------------+ | Debian GNU/Linux 12 | PASS | +------------------------------+--------------------+ | Fedora Linux 41 | PASS | +------------------------------+--------------------+ | Ubuntu 22.04 | PASS | +------------------------------+--------------------+ | Ubuntu 24.04 | PASS | +------------------------------+--------------------+ | CentOS Stream 9 | PASS | +------------------------------+--------------------+ | CentOS Stream 10 | PASS | +------------------------------+--------------------+ Red Hat Enterprise Linux 9.5 Kernel: 5.4 Compiler: gcc gcc (GCC) 11.5.0 20240719 (Red Hat 11.5.0-2) Ubuntu 20.04 Kernel: 5.15 Compiler: aarch64-linux-gnu-gcc gcc (Ubuntu 9.4.0-1ubuntu1~20.04.2) 9.4.0 Fedora Linux 40 Kernel: 5.4 Compiler: gcc gcc (GCC) 14.2.1 20240912 (Red Hat 14.2.1-3) Debian GNU/Linux 12 Kernel: 5.4 Compiler: gcc gcc (Debian 12.2.0-14+deb12u1) 12.2.0 Fedora Linux 41 Kernel: 5.4 Compiler: gcc gcc (GCC) 14.3.1 20250523 (Red Hat 14.3.1-1) Ubuntu 22.04 Kernel: 5.4 Compiler: gcc gcc (Ubuntu 11.4.0-1ubuntu1~22.04) 11.4.0 Ubuntu 24.04 Kernel: 5.4 Compiler: gcc gcc (Ubuntu 13.3.0-6ubuntu2~24.04) 13.3.0 CentOS Stream 9 Kernel: 5.4 Compiler: gcc gcc (GCC) 11.5.0 20240719 (Red Hat 11.5.0-7) CentOS Stream 10 Kernel: 5.4 Compiler: gcc gcc (GCC) 14.2.1 20250110 (Red Hat 14.2.1-8) To view detailed results, visit: https://lab.dpdk.org/results/dashboard/patchsets/33662/ UNH-IOL DPDK Community Lab To manage your email subscriptions, visit: https://lab.dpdk.org/results/dashboard/preferences/subscriptions/