From mboxrd@z Thu Jan 1 00:00:00 1970 Return-Path: Received: from mails.dpdk.org (mails.dpdk.org [217.70.189.124]) by inbox.dpdk.org (Postfix) with ESMTP id 1BD1C46B8B for ; Wed, 16 Jul 2025 15:14:26 +0200 (CEST) Received: from mails.dpdk.org (localhost [127.0.0.1]) by mails.dpdk.org (Postfix) with ESMTP id 129BD40144; Wed, 16 Jul 2025 15:14:26 +0200 (CEST) Received: from mail-pl1-f227.google.com (mail-pl1-f227.google.com [209.85.214.227]) by mails.dpdk.org (Postfix) with ESMTP id 1FC4840144 for ; Wed, 16 Jul 2025 15:14:25 +0200 (CEST) Received: by mail-pl1-f227.google.com with SMTP id d9443c01a7336-234b9dfb842so59243515ad.1 for ; Wed, 16 Jul 2025 06:14:25 -0700 (PDT) DKIM-Signature: v=1; a=rsa-sha256; c=relaxed/relaxed; d=iol.unh.edu; s=unh-iol; t=1752671664; x=1753276464; darn=dpdk.org; h=references:in-reply-to:cc:to:from:subject:message-id:date:from:to :cc:subject:date:message-id:reply-to; bh=UViONvZRi1AIrXP6mNbOHvqdFi7YeXJIr9B8j1wggSI=; b=hdKnXIYXRzjKqwWdbmKqYxzWJLpgb0Oy/dYE6TcvZPAposTxnxcZPDzFU0+IMFiRaT YL3xSzfEYZR+49i6ipBfVedXizJ8nL0fqdTvZ4ywwWYnYLp+AMGJoAQPq0A0KpYwwgC/ rwVZ2cyGxwKZb01DN417JVhIk4dgh7oUnt6hg= X-Google-DKIM-Signature: v=1; a=rsa-sha256; c=relaxed/relaxed; d=1e100.net; s=20230601; t=1752671664; x=1753276464; h=references:in-reply-to:cc:to:from:subject:message-id:date :x-gm-message-state:from:to:cc:subject:date:message-id:reply-to; bh=UViONvZRi1AIrXP6mNbOHvqdFi7YeXJIr9B8j1wggSI=; b=KI81IfYmpjG72woPf6OewioRzAV7gVakPt5xAhwNE0M9TFgmB5fUNJgUeZTYzOOcYt RUYOgHwi+/8eMuyfeUQbBW++TChGQxzDa23UcBOokhAEzxUpavAQzjuqdufG9woFyca+ XNC2EQ1XPU1SfOvM7y/nwByov4fvrBvodBqN2WELWBhzaXRduizFBIevYcJKVvEEzlf6 xn6tXQ0cd52BUEAfBfov4N/3Nf1zU26/fLLI3LaZ6wQitPKbXflcXGYTX59WEzd8cOda Wezz/TfI9zZsl9Aw46J5wsk4+gMBKj2o1p2UnkfE3hOZVdbVnm7yobeIrtOJ7sDLmuw4 2tZw== X-Gm-Message-State: AOJu0YyaB+pVynoJyV+xV1PivqyTXHEKM4g0tRnxlAJbKXG9aQBXmQrV DnizdR1u3xmjxgX3IBocUOhkulRsk7IryiuElejLZlil0O6x3hpbzm/SX0EOpki4QqQSwxrsiSg 8giBtLdJWfaRPILRzBaIx4vRIHtf2nEUvVGAgd9nAcmVk X-Gm-Gg: ASbGncvujNtw1iaGn+/PuLSTATNhKneq30nLTN8Zw/jPg2fGnQ1+6FyggfFu9KQrAiZ WUrLn3+g4x9FVCchmTlomDFld6dJus/m3KmMFqTMDd0Cro0TZXGdY4n78WZIWnjtcW8ENsPhTi5 9fsjPWgRT8RtlpsJkxDPa35VY/XKVrA/ITM6jssQtYIK3ogLTVhaOrct717OTkJLwebLP3hMTNx T7oGDhlSxBS306ceyRaNCE8VludWGmBsvZYuobA2ZifUX8sM7WnYzOIGDF1Drw/s2G8WF9LeZ2W yYV5JBF7KcmGfNzYpe3F6UJcG5dR317XbUk/rt8+uxHL/AAPf1iMNSfonyysTdG5rGdKi8PO X-Google-Smtp-Source: AGHT+IHDIvXZf13Uy1gpyyYKRovKewb9W6uDz61Li9zWHekRGKkip4zCH3nsYDlcpnyA+AaNZXDMjGItiTC7 X-Received: by 2002:a17:902:f68d:b0:235:1962:1bf4 with SMTP id d9443c01a7336-23e256b7428mr35013215ad.14.1752671664048; Wed, 16 Jul 2025 06:14:24 -0700 (PDT) Received: from postal.iol.unh.edu (postal.iol.unh.edu. [132.177.123.84]) by smtp-relay.gmail.com with ESMTPS id d9443c01a7336-23de42a4eb9sm7704145ad.49.2025.07.16.06.14.23 (version=TLS1_2 cipher=ECDHE-ECDSA-AES128-GCM-SHA256 bits=128/128); Wed, 16 Jul 2025 06:14:24 -0700 (PDT) X-Relaying-Domain: iol.unh.edu Date: Wed, 16 Jul 2025 06:14:24 -0700 (PDT) Message-ID: <6877a5b0.170a0220.27314f.a2d1SMTPIN_ADDED_MISSING@mx.google.com> Received: from [172.21.0.6] (unknown [172.18.0.240]) by postal.iol.unh.edu (Postfix) with ESMTP id 44D166051830; Wed, 16 Jul 2025 09:14:23 -0400 (EDT) Subject: |SUCCESS| pw155262 [PATCH] net/crc: reduce usage of static arrays in From: dpdklab@iol.unh.edu To: Test Report Cc: dpdk-test-reports@iol.unh.edu In-Reply-To: <20250716103439.831760-1-16567adigashreesh@gmail.com> References: <20250716103439.831760-1-16567adigashreesh@gmail.com> Content-Type: text/plain X-BeenThere: test-report@dpdk.org X-Mailman-Version: 2.1.29 Precedence: list List-Id: automatic DPDK test reports List-Unsubscribe: , List-Archive: List-Post: List-Help: List-Subscribe: , Errors-To: test-report-bounces@dpdk.org Test-Label: iol-unit-amd64-testing Test-Status: SUCCESS http://dpdk.org/patch/155262 _Testing PASS_ Submitter: Shreesh Adiga <16567adigashreesh@gmail.com> Date: Wednesday, July 16 2025 10:34:39 DPDK git baseline: Repo:dpdk Branch: master CommitID:9fe9c0b231c8da5435bfccb1963121b4277f961c 155262 --> testing pass Upstream job id: Generic-Unit-Test-DPDK#355725 Test environment and result as below: +-------------------------------+----------------+ | Environment | dpdk_unit_test | +===============================+================+ | CentOS Stream 10 | PASS | +-------------------------------+----------------+ | CentOS Stream 9 | PASS | +-------------------------------+----------------+ | Debian GNU/Linux 12 | PASS | +-------------------------------+----------------+ | Fedora Linux 40 | PASS | +-------------------------------+----------------+ | Fedora Linux 41 | PASS | +-------------------------------+----------------+ | Red Hat Enterprise Linux 8.10 | PASS | +-------------------------------+----------------+ | Ubuntu 20.04 | PASS | +-------------------------------+----------------+ | Ubuntu 24.04 | PASS | +-------------------------------+----------------+ | Red Hat Enterprise Linux 9.5 | PASS | +-------------------------------+----------------+ | Ubuntu 22.04 | PASS | +-------------------------------+----------------+ CentOS Stream 10 Kernel: 5.15 Compiler: gcc gcc (GCC) 14.2.1 20250110 (Red Hat 14.2.1-8) CentOS Stream 9 Kernel: 5.15 Compiler: gcc gcc (GCC) 11.5.0 20240719 (Red Hat 11.5.0-7) Debian GNU/Linux 12 Kernel: 5.15 Compiler: gcc gcc (Debian 12.2.0-14+deb12u1) 12.2.0 Fedora Linux 40 Kernel: 5.15 Compiler: gcc gcc (GCC) 14.2.1 20240912 (Red Hat 14.2.1-3) Fedora Linux 41 Kernel: 5.15 Compiler: gcc gcc (GCC) 14.3.1 20250523 (Red Hat 14.3.1-1) Red Hat Enterprise Linux 8.10 Kernel: 5.15 Compiler: gcc gcc (GCC) 8.5.0 20210514 (Red Hat 8.5.0-22) Ubuntu 20.04 Kernel: 5.15 Compiler: gcc gcc (Ubuntu 9.4.0-1ubuntu1~20.04.2) 9.4.0 Ubuntu 24.04 Kernel: 5.15 Compiler: gcc gcc (Ubuntu 13.3.0-6ubuntu2~24.04) 13.3.0 Red Hat Enterprise Linux 9.5 Kernel: 5.15 Compiler: gcc gcc (GCC) 11.5.0 20240719 (Red Hat 11.5.0-2) Ubuntu 22.04 Kernel: 5.15 Compiler: gcc gcc (Ubuntu 11.4.0-1ubuntu1~22.04) 11.4.0 To view detailed results, visit: https://lab.dpdk.org/results/dashboard/patchsets/33668/ UNH-IOL DPDK Community Lab To manage your email subscriptions, visit: https://lab.dpdk.org/results/dashboard/preferences/subscriptions/