From mboxrd@z Thu Jan 1 00:00:00 1970 Return-Path: Received: from mails.dpdk.org (mails.dpdk.org [217.70.189.124]) by inbox.dpdk.org (Postfix) with ESMTP id 9084246B8D for ; Wed, 16 Jul 2025 15:38:18 +0200 (CEST) Received: from mails.dpdk.org (localhost [127.0.0.1]) by mails.dpdk.org (Postfix) with ESMTP id 89C4B40144; Wed, 16 Jul 2025 15:38:18 +0200 (CEST) Received: from mail-qv1-f97.google.com (mail-qv1-f97.google.com [209.85.219.97]) by mails.dpdk.org (Postfix) with ESMTP id 5BB0540144 for ; Wed, 16 Jul 2025 15:38:17 +0200 (CEST) Received: by mail-qv1-f97.google.com with SMTP id 6a1803df08f44-70478ba562aso9415046d6.1 for ; Wed, 16 Jul 2025 06:38:17 -0700 (PDT) DKIM-Signature: v=1; a=rsa-sha256; c=relaxed/relaxed; d=iol.unh.edu; s=unh-iol; t=1752673097; x=1753277897; darn=dpdk.org; h=references:in-reply-to:cc:to:from:subject:message-id:date:from:to :cc:subject:date:message-id:reply-to; bh=UfRnsNuRKb7OhiQ51tFYSFpHJlGBiLjTCmBacnTMfLQ=; b=XFvR54eb7MdWn+wU05VYj8Jw2A/3NJNA86kunFtJcLcfOACFhuCIPL74M8Orep/0sD EPQaj5szul7qpn+T4UHZ9yVdXRCUaqZmYFk6aN3e6qrcThnCPsgXanzrkaK+DJxrp0RJ vGwBJrZySu5RHAzy4aAcyWZilY6YYYNOKd7z0= X-Google-DKIM-Signature: v=1; a=rsa-sha256; c=relaxed/relaxed; d=1e100.net; s=20230601; t=1752673097; x=1753277897; h=references:in-reply-to:cc:to:from:subject:message-id:date :x-gm-message-state:from:to:cc:subject:date:message-id:reply-to; bh=UfRnsNuRKb7OhiQ51tFYSFpHJlGBiLjTCmBacnTMfLQ=; b=Yc0TgnqlQd+7YDwXPv/JiiSlJ0CbGJDqSEW3Ax2idH8CN5r7D41H1/ld/4ra791snc XDZIHSqVy1W5C6zuOKuWVWHA+B2SRs6jlSdAoygtibr2mpfNCHfPjPUnrLYJp767o0S1 OGVaAMnmsUelUHN8FJVbDWZzTDQGOgZ62JKwN44OjQi0Uc4pTdMrLD9rnlqcSL/nqjP+ aOqqHvHECyTgJynP+r59lYWwjadLMI82NBIu0ll3iUWvzP/KulKkfyiv3Lu7qX4l+7/X r6zW8VJYLwbsr3kZGQ4tjGg9Bh7cavTQhY6V9uleFBNnGvy0JBXE1PnirDIkAQ/BfZH4 24Iw== X-Gm-Message-State: AOJu0YwHjOko+oRUgoZuebQk44UZ9SQUpVEwxeXAzi8+NWK5W4ODuAHf PdKKeZh2TKJZbyi424EazzhU/nUJu1kX3oY+O8DsZGpo5vCLz/YqeCshrOU7uBdSSEaM7GOEbu2 tOPZAWxq5WyT4Y13NoA55mpq386uK/ybv7G9cxW3SM5/dweiBVAtGOcstngqt X-Gm-Gg: ASbGnct3WS/K5aRfjjAOHBj00SG0RL/mHxyeA0zFjUPK2tA/UE9x6fyuLhzOZQ7q9qb FjpvEMV3Ir4oBsrZg0FlasAniLrBr0TfWsQkpkG/Ssgx9GQa1ltalvv0ZYkISh/tcqj/olKNzUT NMf4WIXDbpiiU8F3OG8JEVJ3Rp6q+tXjDp6aq23tkuEoPhNUQ9d/o8NEP7HkQB17ipBtoM0sbSA eUJfQwMWUplyUddR46102aFLAdi7Q5B/9mCcByO5xyywZ0Lyr9v0LSCfaTX9Dmrs7fLHyCAtd2h S6Ul9Godd9jpz12XsByx6TiPVsiyEaaaYGVqUkx5HV/RAD0Vcw== X-Google-Smtp-Source: AGHT+IEyvdPpjDCpWVuXGedWhh9NeJBQqv2dR2N2JJuHJumgUO3KMcxcCx5mgz2HvWJpkj2umz8F4A0LKbeX X-Received: by 2002:a05:6214:5e08:b0:700:c45d:f88c with SMTP id 6a1803df08f44-704e1d08daamr98104376d6.6.1752673096742; Wed, 16 Jul 2025 06:38:16 -0700 (PDT) Received: from postal.iol.unh.edu (postal.iol.unh.edu. [2606:4100:3880:1234::84]) by smtp-relay.gmail.com with ESMTPS id 6a1803df08f44-70497d35352sm7044566d6.39.2025.07.16.06.38.16 (version=TLS1_2 cipher=ECDHE-ECDSA-AES128-GCM-SHA256 bits=128/128); Wed, 16 Jul 2025 06:38:16 -0700 (PDT) X-Relaying-Domain: iol.unh.edu Date: Wed, 16 Jul 2025 06:38:16 -0700 (PDT) Message-ID: <6877ab48.050a0220.1be14.5aceSMTPIN_ADDED_MISSING@mx.google.com> Received: from [172.21.0.5] (unknown [172.18.0.240]) by postal.iol.unh.edu (Postfix) with ESMTP id 7010F604D420; Wed, 16 Jul 2025 09:38:16 -0400 (EDT) Subject: |SUCCESS| pw155262 [PATCH] net/crc: reduce usage of static arrays in From: dpdklab@iol.unh.edu To: Test Report Cc: dpdk-test-reports@iol.unh.edu In-Reply-To: <20250716103439.831760-1-16567adigashreesh@gmail.com> References: <20250716103439.831760-1-16567adigashreesh@gmail.com> Content-Type: text/plain X-BeenThere: test-report@dpdk.org X-Mailman-Version: 2.1.29 Precedence: list List-Id: automatic DPDK test reports List-Unsubscribe: , List-Archive: List-Post: List-Help: List-Subscribe: , Errors-To: test-report-bounces@dpdk.org Test-Label: iol-compile-amd64-testing Test-Status: SUCCESS http://dpdk.org/patch/155262 _Testing PASS_ Submitter: Shreesh Adiga <16567adigashreesh@gmail.com> Date: Wednesday, July 16 2025 10:34:39 DPDK git baseline: Repo:dpdk Branch: master CommitID:9fe9c0b231c8da5435bfccb1963121b4277f961c 155262 --> testing pass Upstream job id: Generic-DPDK-Compile-Meson#409128 Test environment and result as below: +-------------------------------+--------------------+-------------------+------------------+-------------------------+-------------------+----------------------+ | Environment | dpdk_meson_compile | dpdk_compile_spdk | dpdk_compile_ovs | dpdk_llvm_clang_compile | dpdk_msvc_compile | dpdk_mingw64_compile | +===============================+====================+===================+==================+=========================+===================+======================+ | CentOS Stream 9 | PASS | PASS | SKIPPED | SKIPPED | SKIPPED | SKIPPED | +-------------------------------+--------------------+-------------------+------------------+-------------------------+-------------------+----------------------+ | Fedora Linux 40 | PASS | PASS | SKIPPED | SKIPPED | SKIPPED | SKIPPED | +-------------------------------+--------------------+-------------------+------------------+-------------------------+-------------------+----------------------+ | CentOS Stream 10 | PASS | SKIPPED | SKIPPED | SKIPPED | SKIPPED | SKIPPED | +-------------------------------+--------------------+-------------------+------------------+-------------------------+-------------------+----------------------+ | Debian GNU/Linux 12 | PASS | PASS | SKIPPED | SKIPPED | SKIPPED | SKIPPED | +-------------------------------+--------------------+-------------------+------------------+-------------------------+-------------------+----------------------+ | Fedora Linux 41 | PASS | PASS | PASS | SKIPPED | SKIPPED | SKIPPED | +-------------------------------+--------------------+-------------------+------------------+-------------------------+-------------------+----------------------+ | openSUSE Leap 15.6 | PASS | SKIPPED | SKIPPED | SKIPPED | SKIPPED | SKIPPED | +-------------------------------+--------------------+-------------------+------------------+-------------------------+-------------------+----------------------+ | Red Hat Enterprise Linux 8.10 | PASS | SKIPPED | SKIPPED | SKIPPED | SKIPPED | SKIPPED | +-------------------------------+--------------------+-------------------+------------------+-------------------------+-------------------+----------------------+ | Red Hat Enterprise Linux 9.5 | PASS | SKIPPED | SKIPPED | SKIPPED | SKIPPED | SKIPPED | +-------------------------------+--------------------+-------------------+------------------+-------------------------+-------------------+----------------------+ | Ubuntu 20.04 | PASS | SKIPPED | SKIPPED | SKIPPED | SKIPPED | SKIPPED | +-------------------------------+--------------------+-------------------+------------------+-------------------------+-------------------+----------------------+ | Ubuntu 24.04 | PASS | PASS | PASS | SKIPPED | SKIPPED | SKIPPED | +-------------------------------+--------------------+-------------------+------------------+-------------------------+-------------------+----------------------+ | Alpine Linux 3.22.0 | PASS | SKIPPED | SKIPPED | SKIPPED | SKIPPED | SKIPPED | +-------------------------------+--------------------+-------------------+------------------+-------------------------+-------------------+----------------------+ | FreeBSD 14.2 | PASS | SKIPPED | SKIPPED | SKIPPED | SKIPPED | SKIPPED | +-------------------------------+--------------------+-------------------+------------------+-------------------------+-------------------+----------------------+ | Ubuntu 22.04 | PASS | PASS | SKIPPED | SKIPPED | SKIPPED | SKIPPED | +-------------------------------+--------------------+-------------------+------------------+-------------------------+-------------------+----------------------+ | Windows Server 2022 | SKIPPED | SKIPPED | SKIPPED | PASS | PASS | PASS | +-------------------------------+--------------------+-------------------+------------------+-------------------------+-------------------+----------------------+ CentOS Stream 9 Kernel: 5.15 Compiler: gcc gcc (GCC) 11.5.0 20240719 (Red Hat 11.5.0-7) Fedora Linux 40 Kernel: 5.15 Compiler: clang gcc (GCC) 14.2.1 20240912 (Red Hat 14.2.1-3) CentOS Stream 10 Kernel: 5.15 Compiler: gcc gcc (GCC) 14.2.1 20250110 (Red Hat 14.2.1-8) Debian GNU/Linux 12 Kernel: 5.15 Compiler: gcc gcc (Debian 12.2.0-14+deb12u1) 12.2.0 Fedora Linux 41 Kernel: 5.15 Compiler: clang gcc (GCC) 14.3.1 20250523 (Red Hat 14.3.1-1) openSUSE Leap 15.6 Kernel: 5.15 Compiler: gcc gcc (SUSE Linux) 7.5.0 Red Hat Enterprise Linux 8.10 Kernel: 5.15 Compiler: gcc gcc (GCC) 8.5.0 20210514 (Red Hat 8.5.0-22) Red Hat Enterprise Linux 9.5 Kernel: 5.15 Compiler: gcc gcc (GCC) 11.5.0 20240719 (Red Hat 11.5.0-2) Ubuntu 20.04 Kernel: 5.15 Compiler: gcc gcc (Ubuntu 9.4.0-1ubuntu1~20.04.2) 9.4.0 Ubuntu 24.04 Kernel: 5.15 Compiler: gcc gcc (Ubuntu 13.3.0-6ubuntu2~24.04) 13.3.0 Alpine Linux 3.22.0 Kernel: 5.15 Compiler: gcc gcc (Alpine 14.2.0) 14.2.0 FreeBSD 14.2 Kernel: 14.2-RELEASE Compiler: clang 18.1.6 Ubuntu 22.04 Kernel: 5.15 Compiler: gcc gcc (Ubuntu 11.4.0-1ubuntu1~22.04) 11.4.0 Windows Server 2022 Kernel: 10.0.20348.2031 Compiler: clang 15.0.7, gcc 14.1.0 (MinGW), and MSVC VS 19.39.33521 To view detailed results, visit: https://lab.dpdk.org/results/dashboard/patchsets/33668/ UNH-IOL DPDK Community Lab To manage your email subscriptions, visit: https://lab.dpdk.org/results/dashboard/preferences/subscriptions/