From mboxrd@z Thu Jan 1 00:00:00 1970 Return-Path: Received: from mails.dpdk.org (mails.dpdk.org [217.70.189.124]) by inbox.dpdk.org (Postfix) with ESMTP id 9C65846B8D for ; Wed, 16 Jul 2025 15:38:28 +0200 (CEST) Received: from mails.dpdk.org (localhost [127.0.0.1]) by mails.dpdk.org (Postfix) with ESMTP id 96B6E40144; Wed, 16 Jul 2025 15:38:28 +0200 (CEST) Received: from mail-oa1-f97.google.com (mail-oa1-f97.google.com [209.85.160.97]) by mails.dpdk.org (Postfix) with ESMTP id F07A340144 for ; Wed, 16 Jul 2025 15:38:26 +0200 (CEST) Received: by mail-oa1-f97.google.com with SMTP id 586e51a60fabf-2f78ef10832so4010591fac.3 for ; Wed, 16 Jul 2025 06:38:26 -0700 (PDT) DKIM-Signature: v=1; a=rsa-sha256; c=relaxed/relaxed; d=iol.unh.edu; s=unh-iol; t=1752673106; x=1753277906; darn=dpdk.org; h=references:in-reply-to:cc:to:from:subject:message-id:date:from:to :cc:subject:date:message-id:reply-to; bh=mo4NyQTmzbgte3ObWvigrnVxUGVyxjZ8r7egKxx3HUk=; b=EcXCKmDMUoZUchdRaPz821q/UQyEVEnZHfTPzQ/NtWG0PTVQcG7WhEHAB2On+tK5Lq 5k8goGq4x1hEy2gfWr0xfY5SyWgjPjLopMRKh8zeV/RcV2Mgt7KL/ZLLY+TxuiOitzGz fTHHmbgOsYU0z618rq2+yp6qvZTuHKEL0d3JA= X-Google-DKIM-Signature: v=1; a=rsa-sha256; c=relaxed/relaxed; d=1e100.net; s=20230601; t=1752673106; x=1753277906; h=references:in-reply-to:cc:to:from:subject:message-id:date :x-gm-message-state:from:to:cc:subject:date:message-id:reply-to; bh=mo4NyQTmzbgte3ObWvigrnVxUGVyxjZ8r7egKxx3HUk=; b=lbsetFbBEOYAHgkI2CFDCujSYXvAnzs3DFmMaYFtKcexvD7cGHKdIcJgvmEGJ1WYYV w1vNXGnFF5qCx8eC4zYsp9ZeiZ+pGJtnLptN+0fdBOEMoIYL0/CccrnhheMfMI8GM1SU 7PmTkvmYtB1rJZhSKqHsja0SUIpKquwd0IDS33Qj9KnLyxM6lth+2DDaEQogeoE0vBtb I5Y09Qwx/VzlsXHthJWb5fVnN43pmWQni0S4YufyhtgwJNxcMRzv2rAbJh0TPiDKslyp eMG/DWGafj6tpeZRRj4xkj7WFsEbMOi6Ee3wnOSrO5nSdukB8/EhjoE8XJa817KO9Gep uTIw== X-Gm-Message-State: AOJu0YyR6dQWbymGZnaj1WGXzBZmwykM4ZkRSkTu4hjf4mFNeBmQi0pD DJyZVXA+atOOlyX+qZjvZMUS6y/RxVz0Ci3DVN0/4iG6vpcYq1yeViHMwIUjdct5vvMqiuiYEth /uzt/dmiNSHI8Gb5YqFczWt0kCmm0xeAZUzQgmSPkuPLb X-Gm-Gg: ASbGncvgi+dXF7Q1ckkTAo2DAHTiQyyKCblBTNQNO4R8KoVANoc6n3n/1ybKJH/z9af bqLJkhP7u3IPoXPyecMHEpKT+Qkocs58JLWhnsGp8X5F6TSBaxNhb/8xvk39nJamN3JDLuDpnzh IsEHBzanDvb5ESQIjuQDXNOvg3ajhrDuuWF0xqS40mYvI2Nh2bIdB87qWTypM1PMv1chpYCzqmO v7kdxAB9TltZaOHXmvn5K+w08WTf8BE91RudR1CPdsKcw9LsFaMjCrqbOcfZsKiNcZJe6EvHO/+ CX5mquWsjKIh/HGTv91gDFq2JDaGlviuuj+UuzzsBAJ/kMlzBdm+JsC6zmlD7eIFraQLSjPb X-Google-Smtp-Source: AGHT+IHE1JmlIa6lI03fviPCQqa72mGu3kY7igCaNolJMaR268pyqqr3GCvI7OSoup5Z6yzGAJjobHrTtqK9 X-Received: by 2002:a05:6870:9a86:b0:2cc:3603:f05f with SMTP id 586e51a60fabf-2ffaf5a4a43mr2820437fac.35.1752673106013; Wed, 16 Jul 2025 06:38:26 -0700 (PDT) Received: from postal.iol.unh.edu (postal.iol.unh.edu. [132.177.123.84]) by smtp-relay.gmail.com with ESMTPS id 586e51a60fabf-2ffb3392b10sm78367fac.25.2025.07.16.06.38.25 (version=TLS1_2 cipher=ECDHE-ECDSA-AES128-GCM-SHA256 bits=128/128); Wed, 16 Jul 2025 06:38:26 -0700 (PDT) X-Relaying-Domain: iol.unh.edu Date: Wed, 16 Jul 2025 06:38:26 -0700 (PDT) Message-ID: <6877ab52.050a0220.1af03c.3cc0SMTPIN_ADDED_MISSING@mx.google.com> Received: from [172.21.0.6] (unknown [172.18.0.240]) by postal.iol.unh.edu (Postfix) with ESMTP id 7E450604D420; Wed, 16 Jul 2025 09:38:25 -0400 (EDT) Subject: |SUCCESS| pw155262 [PATCH] net/crc: reduce usage of static arrays in From: dpdklab@iol.unh.edu To: Test Report Cc: dpdk-test-reports@iol.unh.edu In-Reply-To: <20250716103439.831760-1-16567adigashreesh@gmail.com> References: <20250716103439.831760-1-16567adigashreesh@gmail.com> Content-Type: text/plain X-BeenThere: test-report@dpdk.org X-Mailman-Version: 2.1.29 Precedence: list List-Id: automatic DPDK test reports List-Unsubscribe: , List-Archive: List-Post: List-Help: List-Subscribe: , Errors-To: test-report-bounces@dpdk.org Test-Label: iol-unit-amd64-testing Test-Status: SUCCESS http://dpdk.org/patch/155262 _Testing PASS_ Submitter: Shreesh Adiga <16567adigashreesh@gmail.com> Date: Wednesday, July 16 2025 10:34:39 DPDK git baseline: Repo:dpdk Branch: master CommitID:9fe9c0b231c8da5435bfccb1963121b4277f961c 155262 --> testing pass Upstream job id: Generic-VM-Unit-Test-DPDK#29972 Test environment and result as below: +-------------------------------+----------------+ | Environment | dpdk_unit_test | +===============================+================+ | CentOS Stream 10 | PASS | +-------------------------------+----------------+ | CentOS Stream 9 | PASS | +-------------------------------+----------------+ | Debian GNU/Linux 12 | PASS | +-------------------------------+----------------+ | Fedora Linux 40 | PASS | +-------------------------------+----------------+ | Fedora Linux 41 | PASS | +-------------------------------+----------------+ | Red Hat Enterprise Linux 8.10 | PASS | +-------------------------------+----------------+ | Ubuntu 20.04 | PASS | +-------------------------------+----------------+ | Ubuntu 24.04 | PASS | +-------------------------------+----------------+ | Red Hat Enterprise Linux 9.5 | PASS | +-------------------------------+----------------+ | Ubuntu 22.04 | PASS | +-------------------------------+----------------+ | Windows Server 2022 | PASS | +-------------------------------+----------------+ CentOS Stream 10 Kernel: 5.15 Compiler: gcc gcc (GCC) 14.2.1 20250110 (Red Hat 14.2.1-8) CentOS Stream 9 Kernel: 5.15 Compiler: gcc gcc (GCC) 11.5.0 20240719 (Red Hat 11.5.0-7) Debian GNU/Linux 12 Kernel: 5.15 Compiler: gcc gcc (Debian 12.2.0-14+deb12u1) 12.2.0 Fedora Linux 40 Kernel: 5.15 Compiler: gcc gcc (GCC) 14.2.1 20240912 (Red Hat 14.2.1-3) Fedora Linux 41 Kernel: 5.15 Compiler: gcc gcc (GCC) 14.3.1 20250523 (Red Hat 14.3.1-1) Red Hat Enterprise Linux 8.10 Kernel: 5.15 Compiler: gcc gcc (GCC) 8.5.0 20210514 (Red Hat 8.5.0-22) Ubuntu 20.04 Kernel: 5.15 Compiler: gcc gcc (Ubuntu 9.4.0-1ubuntu1~20.04.2) 9.4.0 Ubuntu 24.04 Kernel: 5.15 Compiler: gcc gcc (Ubuntu 13.3.0-6ubuntu2~24.04) 13.3.0 Red Hat Enterprise Linux 9.5 Kernel: 5.15 Compiler: gcc gcc (GCC) 11.5.0 20240719 (Red Hat 11.5.0-2) Ubuntu 22.04 Kernel: 5.15 Compiler: gcc gcc (Ubuntu 11.4.0-1ubuntu1~22.04) 11.4.0 Windows Server 2022 Kernel: 10.0.20348.2031 Compiler: clang 15.0.7, gcc 14.1.0 (MinGW), and MSVC VS 19.39.33521 To view detailed results, visit: https://lab.dpdk.org/results/dashboard/patchsets/33668/ UNH-IOL DPDK Community Lab To manage your email subscriptions, visit: https://lab.dpdk.org/results/dashboard/preferences/subscriptions/