From mboxrd@z Thu Jan 1 00:00:00 1970 Return-Path: Received: from mails.dpdk.org (mails.dpdk.org [217.70.189.124]) by inbox.dpdk.org (Postfix) with ESMTP id 2800C46B8D for ; Wed, 16 Jul 2025 15:53:57 +0200 (CEST) Received: from mails.dpdk.org (localhost [127.0.0.1]) by mails.dpdk.org (Postfix) with ESMTP id 05FA840144; Wed, 16 Jul 2025 15:53:57 +0200 (CEST) Received: from mail-pl1-f226.google.com (mail-pl1-f226.google.com [209.85.214.226]) by mails.dpdk.org (Postfix) with ESMTP id E6C8D40144 for ; Wed, 16 Jul 2025 15:53:55 +0200 (CEST) Received: by mail-pl1-f226.google.com with SMTP id d9443c01a7336-235d6de331fso73596365ad.3 for ; Wed, 16 Jul 2025 06:53:55 -0700 (PDT) DKIM-Signature: v=1; a=rsa-sha256; c=relaxed/relaxed; d=iol.unh.edu; s=unh-iol; t=1752674035; x=1753278835; darn=dpdk.org; h=references:in-reply-to:cc:to:from:subject:message-id:date:from:to :cc:subject:date:message-id:reply-to; bh=fc34GY6usyGMou1E0qe56E6d4Ivn8Y3icPOCc6ud+DQ=; b=Q7xMuqbwEjsflcRhvGsZSk+1ydSz+1DJoKR1fAkSfMIK6IJ+rnkXj/PosT0NloeTEp qjIbYNq1fd8e/qkkJvjIqqcivgVOC+4dOF33tTpN5BQH99E87JDQstoZqZwSY2T+dK3L wdLFoHyNefmWC3LJwthK113HDy7p1OrINvsMQ= X-Google-DKIM-Signature: v=1; a=rsa-sha256; c=relaxed/relaxed; d=1e100.net; s=20230601; t=1752674035; x=1753278835; h=references:in-reply-to:cc:to:from:subject:message-id:date :x-gm-message-state:from:to:cc:subject:date:message-id:reply-to; bh=fc34GY6usyGMou1E0qe56E6d4Ivn8Y3icPOCc6ud+DQ=; b=FbZHBqbRgnQPtk1MZ8v0AY9x3AgKcGPckBPWYu6q/Zo0KFSmBNVfR7usEgrYO+PFi8 fdDSUXhpf1O+Q2QE6RKgk5LNZhZ0owDoYopRKoNXp8JykcXgUZgPhAO3XQOewaF8Z6H4 Ehj992A+TzLNUh/SfH6s6P0S1W2he41SlLS7m20c3NTR0GUxPkuV06xrlo/89iNC/m9m 5LqQyxcakO3OVgHyy2X8HL8zlsn8RNq5R16skaYHzlgES3ZgP2Xgv513z75VUGC6EHUE qQeBIHgaxdp9aUJ9kbuM/IiVx7SUy/602v0Pb6XRdLgZ561jRj9S8StedEVUpw2zY/QY 3tqA== X-Gm-Message-State: AOJu0Yz/5jFHshjTF9Se76XQn/hip5cS82HCmW0gLhne1j39QdUDIZBV jvVTfaZZM4/Gv3EOElXYyyW64LUETnzBZBUo0mO4hGwDpcwSLz7lOGBLj7GHSIfHf+XtgR01jcS aUAWaLZHEllPOXyjNYw+ptS0Qedvkz8LeniWLuXkBxg8x X-Gm-Gg: ASbGnctqA5WYYLZ48aGIaDBsOwB3dvkq3lorAUP6qfVGb1NWHLcE1OdZgLXwsVdkOTx 0Q8nxMEzIgJGlvl/YiPw7xQYJ99oR8+SCHzo53BLcOorYGykozAl3N2+huPcOgplmIOhQ/RH4Hm /g2T89vsi5xqJjmr62lM5AeQ36z3zftLo5ZTJZ4Aa66DE2QXM9N0GiJsA0Wdxm9lgmhlU7RJtu6 yCqyB2RwGmjGMpWZ922pzB69thq+MxMwV5SL3VUybONJQEKnUfc9jP5/vOz1ZhAT1u/tTBRE9/u p7FnvvJmWB82PC9EutUfqdXs+e7xv/8OLrt4y5u48cWC11JZFJb+SEMEH9uA3hFihUcjl9EE X-Google-Smtp-Source: AGHT+IHHUS02k2iO6gHqE1XSc8C3ahRs0dqL3RjmurOThZaY17unsUdGTEBNTfYsZ6F1P0oQvIvEMj916OKJ X-Received: by 2002:a17:903:228a:b0:235:e942:cb9c with SMTP id d9443c01a7336-23e2566aa35mr45093465ad.5.1752674035022; Wed, 16 Jul 2025 06:53:55 -0700 (PDT) Received: from postal.iol.unh.edu (postal.iol.unh.edu. [132.177.123.84]) by smtp-relay.gmail.com with ESMTPS id d9443c01a7336-23de433bb3esm7607985ad.107.2025.07.16.06.53.54 (version=TLS1_2 cipher=ECDHE-ECDSA-AES128-GCM-SHA256 bits=128/128); Wed, 16 Jul 2025 06:53:55 -0700 (PDT) X-Relaying-Domain: iol.unh.edu Date: Wed, 16 Jul 2025 06:53:55 -0700 (PDT) Message-ID: <6877aef3.170a0220.2d56d1.8690SMTPIN_ADDED_MISSING@mx.google.com> Received: from [172.21.0.7] (unknown [172.18.0.240]) by postal.iol.unh.edu (Postfix) with ESMTP id 745E6604D420; Wed, 16 Jul 2025 09:53:54 -0400 (EDT) Subject: |SUCCESS| pw155262 [PATCH] net/crc: reduce usage of static arrays in From: dpdklab@iol.unh.edu To: Test Report Cc: dpdk-test-reports@iol.unh.edu In-Reply-To: <20250716103439.831760-1-16567adigashreesh@gmail.com> References: <20250716103439.831760-1-16567adigashreesh@gmail.com> Content-Type: text/plain X-BeenThere: test-report@dpdk.org X-Mailman-Version: 2.1.29 Precedence: list List-Id: automatic DPDK test reports List-Unsubscribe: , List-Archive: List-Post: List-Help: List-Subscribe: , Errors-To: test-report-bounces@dpdk.org Test-Label: iol-unit-amd64-testing Test-Status: SUCCESS http://dpdk.org/patch/155262 _Testing PASS_ Submitter: Shreesh Adiga <16567adigashreesh@gmail.com> Date: Wednesday, July 16 2025 10:34:39 DPDK git baseline: Repo:dpdk Branch: master CommitID:9fe9c0b231c8da5435bfccb1963121b4277f961c 155262 --> testing pass Upstream job id: Generic-VM-Unit-Test-DPDK#29973 Test environment and result as below: +-------------------------------+----------------+ | Environment | dpdk_unit_test | +===============================+================+ | CentOS Stream 10 | PASS | +-------------------------------+----------------+ | CentOS Stream 9 | PASS | +-------------------------------+----------------+ | Debian GNU/Linux 12 | PASS | +-------------------------------+----------------+ | Fedora Linux 40 | PASS | +-------------------------------+----------------+ | Fedora Linux 41 | PASS | +-------------------------------+----------------+ | Red Hat Enterprise Linux 8.10 | PASS | +-------------------------------+----------------+ | Ubuntu 20.04 | PASS | +-------------------------------+----------------+ | Ubuntu 24.04 | PASS | +-------------------------------+----------------+ | Red Hat Enterprise Linux 9.5 | PASS | +-------------------------------+----------------+ | Ubuntu 22.04 | PASS | +-------------------------------+----------------+ | Windows Server 2022 | PASS | +-------------------------------+----------------+ CentOS Stream 10 Kernel: 5.15 Compiler: gcc gcc (GCC) 14.2.1 20250110 (Red Hat 14.2.1-8) CentOS Stream 9 Kernel: 5.15 Compiler: gcc gcc (GCC) 11.5.0 20240719 (Red Hat 11.5.0-7) Debian GNU/Linux 12 Kernel: 5.15 Compiler: gcc gcc (Debian 12.2.0-14+deb12u1) 12.2.0 Fedora Linux 40 Kernel: 5.15 Compiler: gcc gcc (GCC) 14.2.1 20240912 (Red Hat 14.2.1-3) Fedora Linux 41 Kernel: 5.15 Compiler: gcc gcc (GCC) 14.3.1 20250523 (Red Hat 14.3.1-1) Red Hat Enterprise Linux 8.10 Kernel: 5.15 Compiler: gcc gcc (GCC) 8.5.0 20210514 (Red Hat 8.5.0-22) Ubuntu 20.04 Kernel: 5.15 Compiler: gcc gcc (Ubuntu 9.4.0-1ubuntu1~20.04.2) 9.4.0 Ubuntu 24.04 Kernel: 5.15 Compiler: gcc gcc (Ubuntu 13.3.0-6ubuntu2~24.04) 13.3.0 Red Hat Enterprise Linux 9.5 Kernel: 5.15 Compiler: gcc gcc (GCC) 11.5.0 20240719 (Red Hat 11.5.0-2) Ubuntu 22.04 Kernel: 5.15 Compiler: gcc gcc (Ubuntu 11.4.0-1ubuntu1~22.04) 11.4.0 Windows Server 2022 Kernel: 10.0.20348.2031 Compiler: clang 15.0.7, gcc 14.1.0 (MinGW), and MSVC VS 19.39.33521 To view detailed results, visit: https://lab.dpdk.org/results/dashboard/patchsets/33668/ UNH-IOL DPDK Community Lab To manage your email subscriptions, visit: https://lab.dpdk.org/results/dashboard/preferences/subscriptions/