From mboxrd@z Thu Jan 1 00:00:00 1970 Return-Path: Received: from mails.dpdk.org (mails.dpdk.org [217.70.189.124]) by inbox.dpdk.org (Postfix) with ESMTP id BA23F46B8E for ; Wed, 16 Jul 2025 17:32:46 +0200 (CEST) Received: from mails.dpdk.org (localhost [127.0.0.1]) by mails.dpdk.org (Postfix) with ESMTP id B4DE2400D6; Wed, 16 Jul 2025 17:32:46 +0200 (CEST) Received: from mail-il1-f227.google.com (mail-il1-f227.google.com [209.85.166.227]) by mails.dpdk.org (Postfix) with ESMTP id 1E227400D6 for ; Wed, 16 Jul 2025 17:32:45 +0200 (CEST) Received: by mail-il1-f227.google.com with SMTP id e9e14a558f8ab-3e0570a9b83so22257845ab.1 for ; Wed, 16 Jul 2025 08:32:45 -0700 (PDT) DKIM-Signature: v=1; a=rsa-sha256; c=relaxed/relaxed; d=iol.unh.edu; s=unh-iol; t=1752679964; x=1753284764; darn=dpdk.org; h=references:in-reply-to:cc:to:from:subject:message-id:date:from:to :cc:subject:date:message-id:reply-to; bh=B896bVKP21P3s0RxpIyQSNTs0bhEYmdIxJPywtOMG0E=; b=HxL83oaeGDhVxO7l3jzmxZZxFyI9KelP93PUPUtdiFJKyahfZ70ctCWMiRVKKnQBwY 6KN6gNhjALuECxaNNcW35Pq1pqGFiRWm8mt2JIth6B2zEPSESOpNcgHTJVWVDwthpSFM tkYk5QNBoMedrLAftpowIsyiCBRRg3XvKP35A= X-Google-DKIM-Signature: v=1; a=rsa-sha256; c=relaxed/relaxed; d=1e100.net; s=20230601; t=1752679964; x=1753284764; h=references:in-reply-to:cc:to:from:subject:message-id:date :x-gm-message-state:from:to:cc:subject:date:message-id:reply-to; bh=B896bVKP21P3s0RxpIyQSNTs0bhEYmdIxJPywtOMG0E=; b=PjGfYJjmj6yLY9AhjCgcQ+quj2ThpWMKG9FYAx5Wro8sPgPusGFT5HaO3ulf6r3P2O ArPkn1t0nB6AJMELiJ7vfL3AxBbvLZrRgI+FNct89qc1USqlhaI2nwWoEZ7KeS++mm8E 7TqHiRdYMw3wAYlKpovMNClE6mMtBRowOYs3g9i+cGjk/EgDi/RBsewRhGhZOZsjwgYK OLX9llEFUCjz+jWQnLMj3ISkaDVOyle/3JUQ37Sydo5rVSkLUgN+e0HPGtMz1W2i7p8u lCb5EqXXbPo1k2IpvJvPS2SR1ZDWquKyKJb9KMKENN9OdLMGthehptMcN0RfH2vNLYzu 0zuw== X-Gm-Message-State: AOJu0YwQypGtnC94WRVg+FKYv5Xya+xstHpUNnjUnRkbhn4PWoYkVycM DDBsXABRofHdkojxJPTyHR/KbF6ikkgbeYzCAqVVH3e/dFTJWpM90+KfAkNzmsxTanG+7fiaShI DHrZ8V8gbA0diBPR0xj+8TWvJeQ7+1RkUT6iCVIg+EyKE X-Gm-Gg: ASbGncsM7L4uH6KK1n96MxCBCp0YPitGuv/9oQXUcUSIRe8mEtUk5MSOYDdnjr9Sry8 W1yfpychwEk4hJxRu8Rfw/Ub8nuBPPlwo7bfWS6NdESEWoHn/ca59nIwc79frcYyPi9l//lun3B LIc2wls/rs8klwm2+VOkJYKXW942sk/QFEc8CfYgW3W5CSkV1WFUjnpzbbMe3cS4OMFPGHKTmff 6ay0AfWsXw4GGxaqrUdxe+tQd5I7NoXWgbTJBWElMy0iqHDss4+XSvqK5VzJrtl0FTxz6kbetPg V1iqo03RVqrTuX28XbSBbXuxMpkoTyRCiKDQz7JO5+zN6x9Gj5vAzeYgT3EpnQSd+8D1pHn0 X-Google-Smtp-Source: AGHT+IEVL6i0/VSp32+eHNoanFTf5EWHzrAMZugZaXknZt0yC1KLhSw9HTYGWwV9+ucnHogaq0Q4cOhBdxAe X-Received: by 2002:a05:6e02:3e02:b0:3df:4048:4f43 with SMTP id e9e14a558f8ab-3e28244517emr37655865ab.11.1752679964386; Wed, 16 Jul 2025 08:32:44 -0700 (PDT) Received: from postal.iol.unh.edu (postal.iol.unh.edu. [132.177.123.84]) by smtp-relay.gmail.com with ESMTPS id e9e14a558f8ab-3e2460e206fsm9272495ab.5.2025.07.16.08.32.44 (version=TLS1_2 cipher=ECDHE-ECDSA-AES128-GCM-SHA256 bits=128/128); Wed, 16 Jul 2025 08:32:44 -0700 (PDT) X-Relaying-Domain: iol.unh.edu Date: Wed, 16 Jul 2025 08:32:44 -0700 (PDT) Message-ID: <6877c61c.920a0220.1fb104.27e4SMTPIN_ADDED_MISSING@mx.google.com> Received: from [172.21.0.11] (unknown [172.18.0.240]) by postal.iol.unh.edu (Postfix) with ESMTP id E363E604D420; Wed, 16 Jul 2025 11:32:43 -0400 (EDT) Subject: |SUCCESS| pw155262 [PATCH] net/crc: reduce usage of static arrays in From: dpdklab@iol.unh.edu To: Test Report Cc: dpdk-test-reports@iol.unh.edu In-Reply-To: <20250716103439.831760-1-16567adigashreesh@gmail.com> References: <20250716103439.831760-1-16567adigashreesh@gmail.com> Content-Type: text/plain X-BeenThere: test-report@dpdk.org X-Mailman-Version: 2.1.29 Precedence: list List-Id: automatic DPDK test reports List-Unsubscribe: , List-Archive: List-Post: List-Help: List-Subscribe: , Errors-To: test-report-bounces@dpdk.org Test-Label: iol-abi-testing Test-Status: SUCCESS http://dpdk.org/patch/155262 _Testing PASS_ Submitter: Shreesh Adiga <16567adigashreesh@gmail.com> Date: Wednesday, July 16 2025 10:34:39 DPDK git baseline: Repo:dpdk Branch: master CommitID:9fe9c0b231c8da5435bfccb1963121b4277f961c 155262 --> testing pass Upstream job id: Generic-DPDK-Compile-ABI#134516 Test environment and result as below: +-------------------------------+----------+ | Environment | abi_test | +===============================+==========+ | CentOS Stream 9 | PASS | +-------------------------------+----------+ | CentOS Stream 10 | PASS | +-------------------------------+----------+ | Debian GNU/Linux 12 | PASS | +-------------------------------+----------+ | Fedora Linux 41 | PASS | +-------------------------------+----------+ | Fedora Linux 40 | PASS | +-------------------------------+----------+ | openSUSE Leap 15.6 | PASS | +-------------------------------+----------+ | Red Hat Enterprise Linux 8.10 | PASS | +-------------------------------+----------+ | Red Hat Enterprise Linux 9.5 | PASS | +-------------------------------+----------+ | Ubuntu 24.04 | PASS | +-------------------------------+----------+ | Ubuntu 22.04 | PASS | +-------------------------------+----------+ CentOS Stream 9 Kernel: 5.15 Compiler: gcc gcc (GCC) 11.5.0 20240719 (Red Hat 11.5.0-7) CentOS Stream 10 Kernel: 5.15 Compiler: gcc gcc (GCC) 14.2.1 20250110 (Red Hat 14.2.1-8) Debian GNU/Linux 12 Kernel: 5.15 Compiler: gcc gcc (Debian 12.2.0-14+deb12u1) 12.2.0 Fedora Linux 41 Kernel: 5.15 Compiler: gcc gcc (GCC) 14.3.1 20250523 (Red Hat 14.3.1-1) Fedora Linux 40 Kernel: 5.15 Compiler: gcc gcc (GCC) 14.2.1 20240912 (Red Hat 14.2.1-3) openSUSE Leap 15.6 Kernel: 5.15 Compiler: gcc gcc (SUSE Linux) 7.5.0 Red Hat Enterprise Linux 8.10 Kernel: 5.15 Compiler: gcc gcc (GCC) 8.5.0 20210514 (Red Hat 8.5.0-22) Red Hat Enterprise Linux 9.5 Kernel: 5.15 Compiler: gcc gcc (GCC) 11.5.0 20240719 (Red Hat 11.5.0-2) Ubuntu 24.04 Kernel: 5.15 Compiler: gcc gcc (Ubuntu 13.3.0-6ubuntu2~24.04) 13.3.0 Ubuntu 22.04 Kernel: 5.15 Compiler: gcc gcc (Ubuntu 11.4.0-1ubuntu1~22.04) 11.4.0 To view detailed results, visit: https://lab.dpdk.org/results/dashboard/patchsets/33668/ UNH-IOL DPDK Community Lab To manage your email subscriptions, visit: https://lab.dpdk.org/results/dashboard/preferences/subscriptions/