From mboxrd@z Thu Jan 1 00:00:00 1970 Return-Path: Received: from mails.dpdk.org (mails.dpdk.org [217.70.189.124]) by inbox.dpdk.org (Postfix) with ESMTP id 5603E46B8E for ; Wed, 16 Jul 2025 17:56:13 +0200 (CEST) Received: from mails.dpdk.org (localhost [127.0.0.1]) by mails.dpdk.org (Postfix) with ESMTP id 2B7C2402DC; Wed, 16 Jul 2025 17:56:13 +0200 (CEST) Received: from mail-pj1-f97.google.com (mail-pj1-f97.google.com [209.85.216.97]) by mails.dpdk.org (Postfix) with ESMTP id 0986E402DC for ; Wed, 16 Jul 2025 17:56:11 +0200 (CEST) Received: by mail-pj1-f97.google.com with SMTP id 98e67ed59e1d1-3122a63201bso83094a91.0 for ; Wed, 16 Jul 2025 08:56:10 -0700 (PDT) DKIM-Signature: v=1; a=rsa-sha256; c=relaxed/relaxed; d=iol.unh.edu; s=unh-iol; t=1752681370; x=1753286170; darn=dpdk.org; h=references:in-reply-to:cc:to:from:subject:message-id:date:from:to :cc:subject:date:message-id:reply-to; bh=7GAUAg3GwvzFkfElZOlQ13jChMhXnnebCsLLVS85sfg=; b=Ds22jEnMsIttGooUWpPdASHm8cmpqh/7P31F0QOaRcDibHGJh3JM2zGeA244MaySL1 ufcpNDEhcacCz0EOeceenWI1TXxIMPnNrWnk7aTXI+RkJsPdkRAF/DtuWzBw+e2kdxlJ 4DfjGXwi5eVhr+O3SiCqrodxMVButrNY1tGlE= X-Google-DKIM-Signature: v=1; a=rsa-sha256; c=relaxed/relaxed; d=1e100.net; s=20230601; t=1752681370; x=1753286170; h=references:in-reply-to:cc:to:from:subject:message-id:date :x-gm-message-state:from:to:cc:subject:date:message-id:reply-to; bh=7GAUAg3GwvzFkfElZOlQ13jChMhXnnebCsLLVS85sfg=; b=Y7Gd4iVmmxLmcVZpYm2xE04SxUwGCllUhx2FIV9/wwga/xtphNvzDEZ/BLOmYsK2P6 KTwpcemIHHDHMhUDjpNzvw+43vk55oedBk7Z+gTxRKMiN6/I5FpyDt2f0AjmViSm54yQ 0iNymowlF/xEhgqoKQurLzhvNP1GSTkNBpOU4/VE3CG9St3sQaDaxqEiQvxJQXtNz9tk f4auV5/Nlw6G6QPeYjRUdK0N5ExD+xvLYbSo43FXmfuTGkT4d9O/Bzyy7l2vPme8Pgsr jYxY/KJ5ZjQFHQiYQwpHiAgjPwfEnJmSPYvzgRNlKRnn2X5QhM3CIyU/7hwZMhq2ADrA cpgA== X-Gm-Message-State: AOJu0YwZ6ddCssarMUZOENQXGBu54Ad86xmE01u1jXvNSQ2SoIWbNn3s qRN/AWLU7E5y2dct9yfcbDL5afwiAw5r8OHQcrTXD6PB04wv3U0KCnvPvg9VMhViUUHlONKnDb0 NwUdf+IN59O+JEBTSQXerr8sXZnkZ3iOh7+yjxZjnxFKY X-Gm-Gg: ASbGncuXrFBxpnqxWdi5EDZ/Wm1e4Pbn3KbVbrWAjjl77u6NSpaHEdLX5tURIIUhfw6 LgBKi62jiRGvJhx5phLeg4K7dCVzjIXgAycFc9BoI9shynbLRoEKZLfO3Pk4jKd8tHDxI1QsZpT dhx8JETtPXwy89xBAIkoTRSv5NGJYy8NIccOEQ97XFtutE4ob7pibvWaVQ5GQJvfKGb2uKzoVDx zOgYR/3WLu/pE+w4Z2ns0dWyuz4zdHZofOP2u6dPWh0jMLR3EbhbRwyiPRV3XBBj69u5qeDWVql VAarfzvsMiUMMK/ZIJ0W/F8qnBQu5MuRHiLeeJ31nmPBvBLi5PJdFt5rfaf5qmSBM87rW2Xi X-Google-Smtp-Source: AGHT+IHaZaKFepclVX/ATB2gQOEfuvT/nM6CxxbAqymRdVxLBsLytUtzyUxbzZN2BFilAIcSuCHxJdB1Y+cu X-Received: by 2002:a17:90b:514e:b0:311:ea13:2e6d with SMTP id 98e67ed59e1d1-31c9f4d0f24mr4894406a91.29.1752681370128; Wed, 16 Jul 2025 08:56:10 -0700 (PDT) Received: from postal.iol.unh.edu (postal.iol.unh.edu. [132.177.123.84]) by smtp-relay.gmail.com with ESMTPS id 98e67ed59e1d1-31c9f1fa8fcsm133622a91.7.2025.07.16.08.56.10 (version=TLS1_2 cipher=ECDHE-ECDSA-AES128-GCM-SHA256 bits=128/128); Wed, 16 Jul 2025 08:56:10 -0700 (PDT) X-Relaying-Domain: iol.unh.edu Date: Wed, 16 Jul 2025 08:56:10 -0700 (PDT) Message-ID: <6877cb9a.170a0220.355792.715bSMTPIN_ADDED_MISSING@mx.google.com> Received: from [172.21.0.5] (unknown [172.18.0.240]) by postal.iol.unh.edu (Postfix) with ESMTP id 655B9604D420; Wed, 16 Jul 2025 11:56:09 -0400 (EDT) Subject: |SUCCESS| pw155263-155283 [PATCH] [v4,22/22] ci: extend coverage wit From: dpdklab@iol.unh.edu To: Test Report Cc: dpdk-test-reports@iol.unh.edu In-Reply-To: <20250716130212.1736407-23-david.marchand@redhat.com> References: <20250716130212.1736407-23-david.marchand@redhat.com> Content-Type: text/plain X-BeenThere: test-report@dpdk.org X-Mailman-Version: 2.1.29 Precedence: list List-Id: automatic DPDK test reports List-Unsubscribe: , List-Archive: List-Post: List-Help: List-Subscribe: , Errors-To: test-report-bounces@dpdk.org Test-Label: iol-abi-testing Test-Status: SUCCESS http://dpdk.org/patch/155283 _Testing PASS_ Submitter: David Marchand Date: Wednesday, July 16 2025 13:02:09 DPDK git baseline: Repo:dpdk Branch: master CommitID:9fe9c0b231c8da5435bfccb1963121b4277f961c 155263-155283 --> testing pass Upstream job id: Generic-DPDK-Compile-ABI#134545 Test environment and result as below: +-------------------------------+----------+ | Environment | abi_test | +===============================+==========+ | CentOS Stream 9 | PASS | +-------------------------------+----------+ | CentOS Stream 10 | PASS | +-------------------------------+----------+ | Fedora Linux 40 | PASS | +-------------------------------+----------+ | Debian GNU/Linux 12 | PASS | +-------------------------------+----------+ | Fedora Linux 41 | PASS | +-------------------------------+----------+ | Red Hat Enterprise Linux 8.10 | PASS | +-------------------------------+----------+ | Red Hat Enterprise Linux 9.5 | PASS | +-------------------------------+----------+ | openSUSE Leap 15.6 | PASS | +-------------------------------+----------+ | Ubuntu 22.04 | PASS | +-------------------------------+----------+ | Ubuntu 24.04 | PASS | +-------------------------------+----------+ CentOS Stream 9 Kernel: 5.15 Compiler: gcc gcc (GCC) 11.5.0 20240719 (Red Hat 11.5.0-7) CentOS Stream 10 Kernel: 5.15 Compiler: gcc gcc (GCC) 14.2.1 20250110 (Red Hat 14.2.1-8) Fedora Linux 40 Kernel: 5.15 Compiler: gcc gcc (GCC) 14.2.1 20240912 (Red Hat 14.2.1-3) Debian GNU/Linux 12 Kernel: 5.15 Compiler: gcc gcc (Debian 12.2.0-14+deb12u1) 12.2.0 Fedora Linux 41 Kernel: 5.15 Compiler: clang gcc (GCC) 14.3.1 20250523 (Red Hat 14.3.1-1) Red Hat Enterprise Linux 8.10 Kernel: 5.15 Compiler: gcc gcc (GCC) 8.5.0 20210514 (Red Hat 8.5.0-22) Red Hat Enterprise Linux 9.5 Kernel: 5.15 Compiler: gcc gcc (GCC) 11.5.0 20240719 (Red Hat 11.5.0-2) openSUSE Leap 15.6 Kernel: 5.15 Compiler: gcc gcc (SUSE Linux) 7.5.0 Ubuntu 22.04 Kernel: 5.15 Compiler: gcc gcc (Ubuntu 11.4.0-1ubuntu1~22.04) 11.4.0 Ubuntu 24.04 Kernel: 5.15 Compiler: gcc gcc (Ubuntu 13.3.0-6ubuntu2~24.04) 13.3.0 To view detailed results, visit: https://lab.dpdk.org/results/dashboard/patchsets/33669/ UNH-IOL DPDK Community Lab To manage your email subscriptions, visit: https://lab.dpdk.org/results/dashboard/preferences/subscriptions/