From mboxrd@z Thu Jan 1 00:00:00 1970 Return-Path: Received: from mails.dpdk.org (mails.dpdk.org [217.70.189.124]) by inbox.dpdk.org (Postfix) with ESMTP id A8BE646B8F for ; Wed, 16 Jul 2025 18:11:26 +0200 (CEST) Received: from mails.dpdk.org (localhost [127.0.0.1]) by mails.dpdk.org (Postfix) with ESMTP id A4F60400D6; Wed, 16 Jul 2025 18:11:26 +0200 (CEST) Received: from mail-il1-f226.google.com (mail-il1-f226.google.com [209.85.166.226]) by mails.dpdk.org (Postfix) with ESMTP id 63192400D6 for ; Wed, 16 Jul 2025 18:11:25 +0200 (CEST) Received: by mail-il1-f226.google.com with SMTP id e9e14a558f8ab-3df2ccbb895so52481615ab.3 for ; Wed, 16 Jul 2025 09:11:25 -0700 (PDT) DKIM-Signature: v=1; a=rsa-sha256; c=relaxed/relaxed; d=iol.unh.edu; s=unh-iol; t=1752682284; x=1753287084; darn=dpdk.org; h=references:in-reply-to:cc:to:from:subject:message-id:date:from:to :cc:subject:date:message-id:reply-to; bh=7i0ebnKc1Wr4b7IzacQxNXOA0V4qcym3RSIfg0N0UF4=; b=SqGcbDMZiHxq8rge6Cxjz6TLow/r8b0VxsBxfcj3x4VNgb2EXt0BsJdWu6loIn0O0S xGWYXRnF/xwA77lYsW6zFimJs1ax2sE0bvtAvPcdwPvYzrSbwLekgBAX3I8tA0sBMl3l HVJIQne63potnfWe8d2q4faujd++qkiRqf83A= X-Google-DKIM-Signature: v=1; a=rsa-sha256; c=relaxed/relaxed; d=1e100.net; s=20230601; t=1752682284; x=1753287084; h=references:in-reply-to:cc:to:from:subject:message-id:date :x-gm-message-state:from:to:cc:subject:date:message-id:reply-to; bh=7i0ebnKc1Wr4b7IzacQxNXOA0V4qcym3RSIfg0N0UF4=; b=BlX8873y73en6NvaYPM+kio4BvFBUf8RB5Aa8yU3uxuEq/H/19G48kkZTSQH6ju1zP Re+tSRqNGIU0mI79p8pkE3oc7SS2OHA+QbDTUDhylMNa/nPPeqb2x2Z2z5T7TUzmjSOV rZHdTzkGtdRwmgwQ2qFUjlRUOA6Kj4vediBkhBDMO86o0ZQ7gfQnTAgyV2X2wIeK1SSm 5KamEQIhEMUzMTYU0QplbHAaFZxgAHs48dDIwlZxefuOeh1AvZoKJ0urHHaDNptULcPR vA0LetWbSIzq/yJg/9p2h6yhaFKiqcHcpUc+yntc+DF9wGc7mlmsn4KwUDENF18BmyUD IxZQ== X-Gm-Message-State: AOJu0YxqBSSfUhJ1VJGrth2wsPOtNfOc5PPB+1NflSRKKJo1dUfHpXxg sCOTlHq55C7vbjdS98JvULECTbKF7CJJuj1sMf7jl3UuDdjzae6zUOZa0oRNB56rEoE5Fay8ASY AGAjAVo6e0mHlpfypdP0DMa6yVKZG6VDPIP6+HWlcr6MqHlgArn/wVvKYgYiw X-Gm-Gg: ASbGncshFm3CYyTA3ZM5GUzPs5Jw3Zuh4rcAqQYL5clo7SyeoTstbFGSk2nYH37I8Nk C16FkosR1YwVJBZCJOpXv34PTB5Mjkpz5zWu5hxehu7wDdbRB7uxhLK8DPXgw47KEl6tvhrlvLP Gh6UfEtkV5R/cumZ8JaAmPphS4Xq9IromyEMXHBch5hljYWh4mmJR+3npmdCt329GsGnPujmBZB tjnUhBindUTeOtR5j2UuDFhkCnue9CIbSE5PcsrbUy1inZfqtAclIkUwTnFMlbd2qB35RTDBuI5 1ln5jSfwYcH1VHGM+3y5L6EGujUknwDYpGH7IG9Acyu5PMT1mw== X-Google-Smtp-Source: AGHT+IFScVYAJcXRCurH7l3FygUfjP65JF/IRKXVIeiB5otdXiYoGRITxYVZtbkrZ74sm8fEhNsnbF2zNJve X-Received: by 2002:a05:6e02:180b:b0:3df:29c8:49ff with SMTP id e9e14a558f8ab-3e282ef06b8mr35918775ab.22.1752682284384; Wed, 16 Jul 2025 09:11:24 -0700 (PDT) Received: from postal.iol.unh.edu (postal.iol.unh.edu. [2606:4100:3880:1234::84]) by smtp-relay.gmail.com with ESMTPS id e9e14a558f8ab-3e24611161csm8779075ab.17.2025.07.16.09.11.24 (version=TLS1_2 cipher=ECDHE-ECDSA-AES128-GCM-SHA256 bits=128/128); Wed, 16 Jul 2025 09:11:24 -0700 (PDT) X-Relaying-Domain: iol.unh.edu Date: Wed, 16 Jul 2025 09:11:24 -0700 (PDT) Message-ID: <6877cf2c.050a0220.23e2db.e059SMTPIN_ADDED_MISSING@mx.google.com> Received: from [172.21.0.5] (unknown [172.18.0.240]) by postal.iol.unh.edu (Postfix) with ESMTP id 061B8604D420; Wed, 16 Jul 2025 12:11:24 -0400 (EDT) Subject: |SUCCESS| pw155263-155283 [PATCH] [v4,22/22] ci: extend coverage wit From: dpdklab@iol.unh.edu To: Test Report Cc: dpdk-test-reports@iol.unh.edu In-Reply-To: <20250716130212.1736407-23-david.marchand@redhat.com> References: <20250716130212.1736407-23-david.marchand@redhat.com> Content-Type: text/plain X-BeenThere: test-report@dpdk.org X-Mailman-Version: 2.1.29 Precedence: list List-Id: automatic DPDK test reports List-Unsubscribe: , List-Archive: List-Post: List-Help: List-Subscribe: , Errors-To: test-report-bounces@dpdk.org Test-Label: iol-unit-amd64-testing Test-Status: SUCCESS http://dpdk.org/patch/155283 _Testing PASS_ Submitter: David Marchand Date: Wednesday, July 16 2025 13:02:09 DPDK git baseline: Repo:dpdk Branch: master CommitID:9fe9c0b231c8da5435bfccb1963121b4277f961c 155263-155283 --> testing pass Upstream job id: Generic-Unit-Test-DPDK#355741 Test environment and result as below: +-------------------------------+----------------+ | Environment | dpdk_unit_test | +===============================+================+ | Debian GNU/Linux 12 | PASS | +-------------------------------+----------------+ | CentOS Stream 10 | PASS | +-------------------------------+----------------+ | CentOS Stream 9 | PASS | +-------------------------------+----------------+ | Fedora Linux 40 | PASS | +-------------------------------+----------------+ | Red Hat Enterprise Linux 8.10 | PASS | +-------------------------------+----------------+ | Ubuntu 20.04 | PASS | +-------------------------------+----------------+ | Fedora Linux 41 | PASS | +-------------------------------+----------------+ | Ubuntu 22.04 | PASS | +-------------------------------+----------------+ | Red Hat Enterprise Linux 9.5 | PASS | +-------------------------------+----------------+ | Ubuntu 24.04 | PASS | +-------------------------------+----------------+ | Windows Server 2022 | PASS | +-------------------------------+----------------+ Debian GNU/Linux 12 Kernel: 5.15 Compiler: gcc gcc (Debian 12.2.0-14+deb12u1) 12.2.0 CentOS Stream 10 Kernel: 5.15 Compiler: gcc gcc (GCC) 14.2.1 20250110 (Red Hat 14.2.1-8) CentOS Stream 9 Kernel: 5.15 Compiler: gcc gcc (GCC) 11.5.0 20240719 (Red Hat 11.5.0-7) Fedora Linux 40 Kernel: 5.15 Compiler: clang gcc (GCC) 14.2.1 20240912 (Red Hat 14.2.1-3) Red Hat Enterprise Linux 8.10 Kernel: 5.15 Compiler: gcc gcc (GCC) 8.5.0 20210514 (Red Hat 8.5.0-22) Ubuntu 20.04 Kernel: 5.15 Compiler: gcc gcc (Ubuntu 9.4.0-1ubuntu1~20.04.2) 9.4.0 Fedora Linux 41 Kernel: 5.15 Compiler: clang gcc (GCC) 14.3.1 20250523 (Red Hat 14.3.1-1) Ubuntu 22.04 Kernel: 5.15 Compiler: gcc gcc (Ubuntu 11.4.0-1ubuntu1~22.04) 11.4.0 Red Hat Enterprise Linux 9.5 Kernel: 5.15 Compiler: gcc gcc (GCC) 11.5.0 20240719 (Red Hat 11.5.0-2) Ubuntu 24.04 Kernel: 5.15 Compiler: gcc gcc (Ubuntu 13.3.0-6ubuntu2~24.04) 13.3.0 Windows Server 2022 Kernel: 10.0.20348.2031 Compiler: clang 15.0.7, gcc 14.1.0 (MinGW), and MSVC VS 19.39.33521 To view detailed results, visit: https://lab.dpdk.org/results/dashboard/patchsets/33669/ UNH-IOL DPDK Community Lab To manage your email subscriptions, visit: https://lab.dpdk.org/results/dashboard/preferences/subscriptions/