From mboxrd@z Thu Jan 1 00:00:00 1970 Return-Path: Received: from mails.dpdk.org (mails.dpdk.org [217.70.189.124]) by inbox.dpdk.org (Postfix) with ESMTP id 5BFC046B8F for ; Wed, 16 Jul 2025 18:15:58 +0200 (CEST) Received: from mails.dpdk.org (localhost [127.0.0.1]) by mails.dpdk.org (Postfix) with ESMTP id 36F4A400D6; Wed, 16 Jul 2025 18:15:58 +0200 (CEST) Received: from mail-qv1-f100.google.com (mail-qv1-f100.google.com [209.85.219.100]) by mails.dpdk.org (Postfix) with ESMTP id 189A7400D6 for ; Wed, 16 Jul 2025 18:15:57 +0200 (CEST) Received: by mail-qv1-f100.google.com with SMTP id 6a1803df08f44-6fae04a3795so1005446d6.3 for ; Wed, 16 Jul 2025 09:15:57 -0700 (PDT) DKIM-Signature: v=1; a=rsa-sha256; c=relaxed/relaxed; d=iol.unh.edu; s=unh-iol; t=1752682556; x=1753287356; darn=dpdk.org; h=references:in-reply-to:cc:to:from:subject:message-id:date:from:to :cc:subject:date:message-id:reply-to; bh=ctaDhlNxP7GEZMltpFcE+MO51Kt3Au9MfkGXucAfYrc=; b=d2yCWW7jQDS5q3AD3LSnBSskYsvVfy/vYsmlJzFgEzFncK0DhZBkzbhac8skbOJExL oQN9uzHkIYLNOLWLDA7EiNz1SqwQm7JAeo0fwK3b/kqQ4ZOqjKIcRvK26m6vRCzcmghr xNxO6D1b/QAUawScvwai7pYeHSw9qZLm7NtSc= X-Google-DKIM-Signature: v=1; a=rsa-sha256; c=relaxed/relaxed; d=1e100.net; s=20230601; t=1752682556; x=1753287356; h=references:in-reply-to:cc:to:from:subject:message-id:date :x-gm-message-state:from:to:cc:subject:date:message-id:reply-to; bh=ctaDhlNxP7GEZMltpFcE+MO51Kt3Au9MfkGXucAfYrc=; b=A1sXbwGZuMf1M0uL5QR6vYVKhbE7IC+tZP6W/4KOMFHKnpZZjqIaweQQzq6BGDoHsA A4NnTzLObVM1iCTOe9sM/DWmCnqxaAKREVbsgceVW9rE1RbcfF8dMyD+rN7FDgl7PLbI ESJm5BSJt1eD4Tr+PvPwrLI2JIGlXL8C2LVAj34cpl9uNjHn53g7PuSvSM3Va19SmYFe DPJBD0a0BEYK2SuIybMn/eWY9W6KAj0y9HW3BQhWEPHn1zwzsFZtkN9N3QQRuIkrEgNV P6dospD0n6CUcdZ4D7kXAuhSHStamgx5PPwq6XsbzzYGV/v253prrnYzV8JGtT6RmRQi Z2mA== X-Gm-Message-State: AOJu0YyEa3gzl6zrjmoDZsXrF7CCsvYdS6/AmV/1qd4RSl1EQ/TNNAJs ngMoafvMY3B72g/kwG6LUm6YbKIsF+ORvvmFcxIT96et6BL+GGpHEPKUyCu4C3Qy6QId0jtkXLe 5VE5o/mW5rOEoJs7Z2QBqXKPaEU1NfDZRL+oAhZDy6OhgLw02Pk4NR2GroCJQ X-Gm-Gg: ASbGncuAINDmfiMIVfPP/RUnvnPeReZexU8innyOnILqhX/U5MH8tfi9aHBNdbMBVTr TSvQSuN4SpG3lzeYD5KkLPcB7DIwNbAP7gUWOco6/NKRqeFRE7wCqnpMEc7Ug9saycUBqGWJJ5e OF98TQ+40SmI9G46kRbDkegSN+Ye9P4hyPLH9nvV4WUe3mAwDZKj1IPimbndlxe3mnST87n039J 1RUce9aNvFj1KlQkuKVx0NXkrBopUPKI+Btbo7ropohW7iG4zsa7T5Ux8jH5CDNq+99e4mzml1J wBVyB1dqQ4IGYkbIrL+gbvgmDF0pCV9Jv1mpdID1HrKGGiJV5g== X-Google-Smtp-Source: AGHT+IHs6LITiyU49UxuKLEpfCEYht2FajSMtGgC5hMCrpeNkcjPdy1Vhtq/pGwLpSXspPr0XHLpMdQMP7xP X-Received: by 2002:a05:6214:5090:b0:704:8f24:f03d with SMTP id 6a1803df08f44-704f4825428mr65659346d6.16.1752682553449; Wed, 16 Jul 2025 09:15:53 -0700 (PDT) Received: from postal.iol.unh.edu (postal.iol.unh.edu. [2606:4100:3880:1234::84]) by smtp-relay.gmail.com with ESMTPS id d75a77b69052e-4ab597c98e9sm3360261cf.16.2025.07.16.09.15.53 (version=TLS1_2 cipher=ECDHE-ECDSA-AES128-GCM-SHA256 bits=128/128); Wed, 16 Jul 2025 09:15:53 -0700 (PDT) X-Relaying-Domain: iol.unh.edu Date: Wed, 16 Jul 2025 09:15:53 -0700 (PDT) Message-ID: <6877d039.050a0220.d4e2d.019eSMTPIN_ADDED_MISSING@mx.google.com> Received: from [172.21.0.5] (unknown [172.18.0.240]) by postal.iol.unh.edu (Postfix) with ESMTP id 2400A604D420; Wed, 16 Jul 2025 12:15:53 -0400 (EDT) Subject: |SUCCESS| pw155261 [PATCH] app/testpmd: report minimum and maximum M From: dpdklab@iol.unh.edu To: Test Report Cc: dpdk-test-reports@iol.unh.edu In-Reply-To: <20250716102847.1118815-1-dsosnowski@nvidia.com> References: <20250716102847.1118815-1-dsosnowski@nvidia.com> Content-Type: text/plain X-BeenThere: test-report@dpdk.org X-Mailman-Version: 2.1.29 Precedence: list List-Id: automatic DPDK test reports List-Unsubscribe: , List-Archive: List-Post: List-Help: List-Subscribe: , Errors-To: test-report-bounces@dpdk.org Test-Label: iol-compile-arm64-testing Test-Status: SUCCESS http://dpdk.org/patch/155261 _Testing PASS_ Submitter: Dariusz Sosnowski Date: Wednesday, July 16 2025 10:28:46 DPDK git baseline: Repo:dpdk Branch: master CommitID:9fe9c0b231c8da5435bfccb1963121b4277f961c 155261 --> testing pass Upstream job id: Generic-DPDK-Compile-Meson#409106 Test environment and result as below: +------------------------------+--------------------+ | Environment | dpdk_meson_compile | +==============================+====================+ | Red Hat Enterprise Linux 9.5 | PASS | +------------------------------+--------------------+ | Ubuntu 20.04 | PASS | +------------------------------+--------------------+ | Fedora Linux 40 | PASS | +------------------------------+--------------------+ | Fedora Linux 41 | PASS | +------------------------------+--------------------+ | Ubuntu 22.04 | PASS | +------------------------------+--------------------+ | Ubuntu 24.04 | PASS | +------------------------------+--------------------+ | CentOS Stream 10 | PASS | +------------------------------+--------------------+ | Debian GNU/Linux 12 | PASS | +------------------------------+--------------------+ | CentOS Stream 9 | PASS | +------------------------------+--------------------+ Red Hat Enterprise Linux 9.5 Kernel: 5.4 Compiler: gcc gcc (GCC) 11.5.0 20240719 (Red Hat 11.5.0-2) Ubuntu 20.04 Kernel: 5.15 Compiler: aarch64-linux-gnu-gcc gcc (Ubuntu 9.4.0-1ubuntu1~20.04.2) 9.4.0 Fedora Linux 40 Kernel: 5.4 Compiler: gcc gcc (GCC) 14.2.1 20240912 (Red Hat 14.2.1-3) Fedora Linux 41 Kernel: 5.4 Compiler: gcc gcc (GCC) 14.3.1 20250523 (Red Hat 14.3.1-1) Ubuntu 22.04 Kernel: 5.4 Compiler: gcc gcc (Ubuntu 11.4.0-1ubuntu1~22.04) 11.4.0 Ubuntu 24.04 Kernel: 5.4 Compiler: gcc gcc (Ubuntu 13.3.0-6ubuntu2~24.04) 13.3.0 CentOS Stream 10 Kernel: 5.4 Compiler: gcc gcc (GCC) 14.2.1 20250110 (Red Hat 14.2.1-8) Debian GNU/Linux 12 Kernel: 5.4 Compiler: gcc gcc (Debian 12.2.0-14+deb12u1) 12.2.0 CentOS Stream 9 Kernel: 5.4 Compiler: gcc gcc (GCC) 11.5.0 20240719 (Red Hat 11.5.0-7) To view detailed results, visit: https://lab.dpdk.org/results/dashboard/patchsets/33667/ UNH-IOL DPDK Community Lab To manage your email subscriptions, visit: https://lab.dpdk.org/results/dashboard/preferences/subscriptions/