From mboxrd@z Thu Jan 1 00:00:00 1970 Return-Path: Received: from mails.dpdk.org (mails.dpdk.org [217.70.189.124]) by inbox.dpdk.org (Postfix) with ESMTP id 4BD9C46B8F for ; Wed, 16 Jul 2025 18:16:03 +0200 (CEST) Received: from mails.dpdk.org (localhost [127.0.0.1]) by mails.dpdk.org (Postfix) with ESMTP id 48A9F400D6; Wed, 16 Jul 2025 18:16:03 +0200 (CEST) Received: from mail-oa1-f99.google.com (mail-oa1-f99.google.com [209.85.160.99]) by mails.dpdk.org (Postfix) with ESMTP id 822F9400D6 for ; Wed, 16 Jul 2025 18:16:02 +0200 (CEST) Received: by mail-oa1-f99.google.com with SMTP id 586e51a60fabf-2cc89c59cc0so726626fac.0 for ; Wed, 16 Jul 2025 09:16:02 -0700 (PDT) DKIM-Signature: v=1; a=rsa-sha256; c=relaxed/relaxed; d=iol.unh.edu; s=unh-iol; t=1752682562; x=1753287362; darn=dpdk.org; h=references:in-reply-to:cc:to:from:subject:message-id:date:from:to :cc:subject:date:message-id:reply-to; bh=oUgNfdmlE+8OhUqRUV+BjNXIVeL/dSgHT2CDeb4LMwk=; b=Up61+eLfv0QbVGsB+uG1orvIRYcZOiSL/fpm7NFOlMOv6Wt3NJxnV3pQW2KTDD/9mD Y/vwxx1L10P+Y6qgPA02WKqyz760z3hg63XlvlBY0Rv//RSStBA/VZUEzaBKKJ7eAggP ek152mrvD3MWdfYunSZ8326Ax+MXH4DnUMt4I= X-Google-DKIM-Signature: v=1; a=rsa-sha256; c=relaxed/relaxed; d=1e100.net; s=20230601; t=1752682562; x=1753287362; h=references:in-reply-to:cc:to:from:subject:message-id:date :x-gm-message-state:from:to:cc:subject:date:message-id:reply-to; bh=oUgNfdmlE+8OhUqRUV+BjNXIVeL/dSgHT2CDeb4LMwk=; b=VSgXTwmBq3/2yWQrcNfKtvugkTeVPLXO7+eGwOKz1VAeXkT6h6MMRTy+wmu1EgJJGS EQc/aorl4HDhb9d/pcxcdPnKMJvz0YypsUuwm5yGtKboUwwl4JYaYNggASzrElmADIVO RQ8TLiqgjD5RXBeJogR+ckQCBFhSzz2O00FSVQolcg7MHKu5vus1CUzG3/GmGt1oD200 HuAk9gN419JtiTw1sa7ZOaedAQvRqR8zv1GOHvc1r81ylqzEiUrB1SkAF6nI+Enf2cJR M0W1vka+Ee33LXL2tqIWFjVfBmERYHysWsmAsFxgf3Ll6jN+JFZRsKkoTO/f7aLOb3p3 syRA== X-Gm-Message-State: AOJu0YxxYdbK4QMl/HsJktfeh5deB/B3EbXyj7OE6YWlGxbFsSWIwNVE x/DMtIJQhTB0fLdZ6zr5iHxQcDRrl4XcceAF6Kdk9P8EapSX6WDejt2ZyzPhqCaQD1mF19ZcoPh OCvlFqBr4ljebuHnOaqEkrJ3sK58IVlWfYhBtheo+lj+1 X-Gm-Gg: ASbGnctlqFv7MkNd8QivDFvsFTpiF/NO6rsiO9Y+pI23nxCjRQIlof+uI7v+NIMpj1Z z69axvbi4uyIhOOQnDX6E0u+nVzza7bfNFjyhc2cuOnD9XYS4hKlm6Y2GzxVgENa5R8qKeDXIH6 PiyXajp2QlPwICT37GwzNRzNhzb7a3LWfHkyd9V91aGBRrLSeBcf0QbezNPuk1vH/052iWAeStg fFwKTC0bAgbuT3TXXT163ctj5RNhR3eo8urm8NViwQvNoUeOHt5bhCYg3UkPeHeOrsg9uryB2wq jwiUNGczd5IIfmeyJRTByjVqbrnTez+QqVO8raPFaJfspHzf9hJAG7Amop27/wWWE97UExLz X-Google-Smtp-Source: AGHT+IExHhZemsRGsKbS4NzlHo+i2qsuSuDLBZtGDJKZdmE3qAODrbTzGl4o1Z+lfkn6WKjozZMuAI6XVhEu X-Received: by 2002:a05:6871:e321:b0:2d5:2360:4e7d with SMTP id 586e51a60fabf-2ffcba213bbmr66519fac.8.1752682561768; Wed, 16 Jul 2025 09:16:01 -0700 (PDT) Received: from postal.iol.unh.edu (postal.iol.unh.edu. [132.177.123.84]) by smtp-relay.gmail.com with ESMTPS id 586e51a60fabf-2ff8eafeeaesm335819fac.21.2025.07.16.09.16.01 (version=TLS1_2 cipher=ECDHE-ECDSA-AES128-GCM-SHA256 bits=128/128); Wed, 16 Jul 2025 09:16:01 -0700 (PDT) X-Relaying-Domain: iol.unh.edu Date: Wed, 16 Jul 2025 09:16:01 -0700 (PDT) Message-ID: <6877d041.050a0220.39423d.1e48SMTPIN_ADDED_MISSING@mx.google.com> Received: from [172.21.0.7] (unknown [172.18.0.240]) by postal.iol.unh.edu (Postfix) with ESMTP id 3F5B9604D420; Wed, 16 Jul 2025 12:16:01 -0400 (EDT) Subject: |SUCCESS| pw155261 [PATCH] app/testpmd: report minimum and maximum M From: dpdklab@iol.unh.edu To: Test Report Cc: dpdk-test-reports@iol.unh.edu In-Reply-To: <20250716102847.1118815-1-dsosnowski@nvidia.com> References: <20250716102847.1118815-1-dsosnowski@nvidia.com> Content-Type: text/plain X-BeenThere: test-report@dpdk.org X-Mailman-Version: 2.1.29 Precedence: list List-Id: automatic DPDK test reports List-Unsubscribe: , List-Archive: List-Post: List-Help: List-Subscribe: , Errors-To: test-report-bounces@dpdk.org Test-Label: iol-compile-arm64-testing Test-Status: SUCCESS http://dpdk.org/patch/155261 _Testing PASS_ Submitter: Dariusz Sosnowski Date: Wednesday, July 16 2025 10:28:46 DPDK git baseline: Repo:dpdk Branch: master CommitID:9fe9c0b231c8da5435bfccb1963121b4277f961c 155261 --> testing pass Upstream job id: Generic-DPDK-Compile-Meson#409104 Test environment and result as below: +------------------------------+--------------------+ | Environment | dpdk_meson_compile | +==============================+====================+ | Red Hat Enterprise Linux 9.5 | PASS | +------------------------------+--------------------+ | Ubuntu 20.04 | PASS | +------------------------------+--------------------+ | Fedora Linux 40 | PASS | +------------------------------+--------------------+ | Fedora Linux 41 | PASS | +------------------------------+--------------------+ | Ubuntu 22.04 | PASS | +------------------------------+--------------------+ | Ubuntu 24.04 | PASS | +------------------------------+--------------------+ | CentOS Stream 10 | PASS | +------------------------------+--------------------+ | Debian GNU/Linux 12 | PASS | +------------------------------+--------------------+ | CentOS Stream 9 | PASS | +------------------------------+--------------------+ Red Hat Enterprise Linux 9.5 Kernel: 5.4 Compiler: gcc gcc (GCC) 11.5.0 20240719 (Red Hat 11.5.0-2) Ubuntu 20.04 Kernel: 5.15 Compiler: aarch64-linux-gnu-gcc gcc (Ubuntu 9.4.0-1ubuntu1~20.04.2) 9.4.0 Fedora Linux 40 Kernel: 5.4 Compiler: gcc gcc (GCC) 14.2.1 20240912 (Red Hat 14.2.1-3) Fedora Linux 41 Kernel: 5.4 Compiler: gcc gcc (GCC) 14.3.1 20250523 (Red Hat 14.3.1-1) Ubuntu 22.04 Kernel: 5.4 Compiler: gcc gcc (Ubuntu 11.4.0-1ubuntu1~22.04) 11.4.0 Ubuntu 24.04 Kernel: 5.4 Compiler: gcc gcc (Ubuntu 13.3.0-6ubuntu2~24.04) 13.3.0 CentOS Stream 10 Kernel: 5.4 Compiler: gcc gcc (GCC) 14.2.1 20250110 (Red Hat 14.2.1-8) Debian GNU/Linux 12 Kernel: 5.4 Compiler: gcc gcc (Debian 12.2.0-14+deb12u1) 12.2.0 CentOS Stream 9 Kernel: 5.4 Compiler: gcc gcc (GCC) 11.5.0 20240719 (Red Hat 11.5.0-7) To view detailed results, visit: https://lab.dpdk.org/results/dashboard/patchsets/33667/ UNH-IOL DPDK Community Lab To manage your email subscriptions, visit: https://lab.dpdk.org/results/dashboard/preferences/subscriptions/