From mboxrd@z Thu Jan 1 00:00:00 1970 Return-Path: Received: from mails.dpdk.org (mails.dpdk.org [217.70.189.124]) by inbox.dpdk.org (Postfix) with ESMTP id 144E646B8F for ; Wed, 16 Jul 2025 18:33:43 +0200 (CEST) Received: from mails.dpdk.org (localhost [127.0.0.1]) by mails.dpdk.org (Postfix) with ESMTP id 0FE31400D6; Wed, 16 Jul 2025 18:33:43 +0200 (CEST) Received: from mail-oa1-f99.google.com (mail-oa1-f99.google.com [209.85.160.99]) by mails.dpdk.org (Postfix) with ESMTP id D5C8D400D6 for ; Wed, 16 Jul 2025 18:33:41 +0200 (CEST) Received: by mail-oa1-f99.google.com with SMTP id 586e51a60fabf-2ffb85aed35so92315fac.0 for ; Wed, 16 Jul 2025 09:33:41 -0700 (PDT) DKIM-Signature: v=1; a=rsa-sha256; c=relaxed/relaxed; d=iol.unh.edu; s=unh-iol; t=1752683621; x=1753288421; darn=dpdk.org; h=references:in-reply-to:cc:to:from:subject:message-id:date:from:to :cc:subject:date:message-id:reply-to; bh=Xxh8r6ywLCJl3xQKc8Ks4EQkbvdxuCxXkyXU6FXlw/Y=; b=Fn8r3F65iUs25V45R7LYM9vjXWdIKHnwpVsfC3OZKvXMiOpMq50EqqsfkG4LfQEEE5 2g97BpDV6oHBEpCkDWTR5ZFnOdfG4MCLYwAGwmzYGMqAxe2/grtpWnSIGmZ57rbr8ROc 1C6bnLnXdtoQBTrdKCV72OZUv2OChaHdoYp24= X-Google-DKIM-Signature: v=1; a=rsa-sha256; c=relaxed/relaxed; d=1e100.net; s=20230601; t=1752683621; x=1753288421; h=references:in-reply-to:cc:to:from:subject:message-id:date :x-gm-message-state:from:to:cc:subject:date:message-id:reply-to; bh=Xxh8r6ywLCJl3xQKc8Ks4EQkbvdxuCxXkyXU6FXlw/Y=; b=H+m5p1YDVytf0V9NlxGqpMRCm9wry2Lkq7MQROHC9FLDVHRYS4aVTL6aZhvv6yPFl1 fTBx0ExpYwkGIt+IKFjRGCjZVkai/tnXpNvx0qZOGWJIZuYy8XkYKSY5vtzQMbYjkOUc g0aWLND+kcJH6/krobB+OVRkgNwgMmh6yi69GrBDsYjD5KO4isDKaCgeA1lN9qvClN9Q 4e/fVOy++QBVoIqL7PQhzhEJ78ooGJzt7Fta3CgpkVlRAEqnVKjIckPWS8mbK4eGmsmW fxFaJ5Ybh2phVvqz2FYhUBnbbYEINuDeQ/9WHD/2uRg83nXHPrLJBk3nUk/XSRJNGua/ W/1g== X-Gm-Message-State: AOJu0YwXoXMhBCNg652UmvAvHkp7gN/ogJIf76aEE2lhytehuB4dWuiC YzfdNjWDq4urrbS3eISN6mvdPTL/fKYfK4d51SzqENfc26fYP5fxoS1t7hJ2zl6UqKVHtEJHuoK kL6DEG8J6Udc4VZ0uWUtY27ura3h7EmKQy2+58ZpfUpZNorTo3PQXqRM6qzxZ X-Gm-Gg: ASbGncu7GjQUEW3hTxGfEYJyVVw/8Xm9nd4BrmoQpYJ/5EjldlXys9OuxZosegE40Pl NPOWeLsnUrbhmetEqB0+bkRkjfRxHIivCVI6UWUKIk4VpKk2tfEJeb+0JhpuRqYB/XkmOsMtD5u uvl9Qsd824lxe8JpjJtGIChYPRT7+lzmEM2FoECFDaYJ2ZUA+7CLLuSRDl2mhHvsrIpLho34Jbw sUbYt8oARjXT+wLX1T1xiDmobn8WfC9CV8K5pR5dSPpHl5949O9eKEH2CuDIeXTw8Mh9bjrciQW MlPBz087WSlYl3qy/MfJ1GdoVCd9/YbRzoODwUfm79aWV8e7gw== X-Google-Smtp-Source: AGHT+IHCEB2AVS+0r350yQXN/U0PZ/ubcEkil5vToMDGyB9FcQqbXkTJfJoBWIo/ytZgk9+IrG1tCvTJYMT4 X-Received: by 2002:a05:6870:2254:b0:2d4:e29d:5297 with SMTP id 586e51a60fabf-2ffaf544f6fmr3316608fac.29.1752683621078; Wed, 16 Jul 2025 09:33:41 -0700 (PDT) Received: from postal.iol.unh.edu (postal.iol.unh.edu. [2606:4100:3880:1234::84]) by smtp-relay.gmail.com with ESMTPS id 586e51a60fabf-2ff116ce7c2sm974686fac.24.2025.07.16.09.33.40 (version=TLS1_2 cipher=ECDHE-ECDSA-AES128-GCM-SHA256 bits=128/128); Wed, 16 Jul 2025 09:33:41 -0700 (PDT) X-Relaying-Domain: iol.unh.edu Date: Wed, 16 Jul 2025 09:33:41 -0700 (PDT) Message-ID: <6877d465.050a0220.27bb17.792fSMTPIN_ADDED_MISSING@mx.google.com> Received: from [172.21.0.6] (unknown [172.18.0.240]) by postal.iol.unh.edu (Postfix) with ESMTP id 82361604D420; Wed, 16 Jul 2025 12:33:40 -0400 (EDT) Subject: |SUCCESS| pw155288 [PATCH] mailmap: fix entries with many aliases From: dpdklab@iol.unh.edu To: Test Report Cc: dpdk-test-reports@iol.unh.edu In-Reply-To: <20250716144203.1994070-1-david.marchand@redhat.com> References: <20250716144203.1994070-1-david.marchand@redhat.com> Content-Type: text/plain X-BeenThere: test-report@dpdk.org X-Mailman-Version: 2.1.29 Precedence: list List-Id: automatic DPDK test reports List-Unsubscribe: , List-Archive: List-Post: List-Help: List-Subscribe: , Errors-To: test-report-bounces@dpdk.org Test-Label: iol-compile-amd64-testing Test-Status: SUCCESS http://dpdk.org/patch/155288 _Testing PASS_ Submitter: David Marchand Date: Wednesday, July 16 2025 14:41:59 DPDK git baseline: Repo:dpdk Branch: master CommitID:9fe9c0b231c8da5435bfccb1963121b4277f961c 155288 --> testing pass Upstream job id: Windows-Compile-DPDK-Native#29818 Test environment and result as below: +---------------------+-------------------+-------------------------+--------------------+ | Environment | dpdk_msvc_compile | dpdk_llvm_clang_compile | dpdk_meson_compile | +=====================+===================+=========================+====================+ | Windows Server 2022 | PASS | PASS | SKIPPED | +---------------------+-------------------+-------------------------+--------------------+ | FreeBSD 14.2 | SKIPPED | SKIPPED | PASS | +---------------------+-------------------+-------------------------+--------------------+ | Ubuntu 20.04 | SKIPPED | SKIPPED | PASS | +---------------------+-------------------+-------------------------+--------------------+ Windows Server 2022 Kernel: 10.0.20348.2031 Compiler: clang 15.0.7, gcc 14.1.0 (MinGW), and MSVC VS 19.39.33521 FreeBSD 14.2 Kernel: 14.2-RELEASE Compiler: clang 18.1.6 Ubuntu 20.04 Kernel: 4.19 Compiler: gcc gcc (Ubuntu 9.4.0-1ubuntu1~20.04.2) 9.4.0 To view detailed results, visit: https://lab.dpdk.org/results/dashboard/patchsets/33671/ UNH-IOL DPDK Community Lab To manage your email subscriptions, visit: https://lab.dpdk.org/results/dashboard/preferences/subscriptions/