From mboxrd@z Thu Jan 1 00:00:00 1970 Return-Path: Received: from mails.dpdk.org (mails.dpdk.org [217.70.189.124]) by inbox.dpdk.org (Postfix) with ESMTP id CACEE46B8F for ; Wed, 16 Jul 2025 18:42:02 +0200 (CEST) Received: from mails.dpdk.org (localhost [127.0.0.1]) by mails.dpdk.org (Postfix) with ESMTP id C7CE3400D6; Wed, 16 Jul 2025 18:42:02 +0200 (CEST) Received: from mail-pg1-f225.google.com (mail-pg1-f225.google.com [209.85.215.225]) by mails.dpdk.org (Postfix) with ESMTP id 6893A400D6 for ; Wed, 16 Jul 2025 18:42:01 +0200 (CEST) Received: by mail-pg1-f225.google.com with SMTP id 41be03b00d2f7-b3bdab4bf19so3866612a12.2 for ; Wed, 16 Jul 2025 09:42:01 -0700 (PDT) DKIM-Signature: v=1; a=rsa-sha256; c=relaxed/relaxed; d=iol.unh.edu; s=unh-iol; t=1752684120; x=1753288920; darn=dpdk.org; h=references:in-reply-to:cc:to:from:subject:message-id:date:from:to :cc:subject:date:message-id:reply-to; bh=DGj/+QzsMbQQcgT4mlBo7hY4HV0MeqgIw7qgD6n7/MQ=; b=f5vTGeZkxItQ5Am1hGDVc8xo/Z/v7NSLUqXgOf59H77RgW8L14IlG4J09DsxZd2jIz 12AftX+/y9s7si+vfY56SLdMoDdduaKrbzTk+74rYnoVGShbQbljkijqFzLTPi/G/ZDc UBdoj8e6ZN9zvi6EIHOL/1c+d2N3MyGy+TSe4= X-Google-DKIM-Signature: v=1; a=rsa-sha256; c=relaxed/relaxed; d=1e100.net; s=20230601; t=1752684120; x=1753288920; h=references:in-reply-to:cc:to:from:subject:message-id:date :x-gm-message-state:from:to:cc:subject:date:message-id:reply-to; bh=DGj/+QzsMbQQcgT4mlBo7hY4HV0MeqgIw7qgD6n7/MQ=; b=Vdntzzg21XBqfnl4tOFx5PvokTF59xWWlRhyGNghTi/1pAGMoevSHUbOu8fVfVSvcf v/NrRu32RC7UpGzI4ZsNPyVMTvPT1riDjwGoJwgq2Sa8+AnF5MPZgCm0dlSdHiD/yyYn Uo4IeeQJ4nJxJmtXnykpyh9LU58d5gWzof3VnCzgSBSk/xLZ9vjYSHAZH9AFqX+XVMPz JArxMIQm92SKgZW/bV948/q1CcWeCfjYXVOXSwUrFr8apYATcHJKa1OE2JIrSjK266oQ 6qatb2WFPfFfNp6kKLbTq+zepdGmK5WQcjtDHO7NSwbttYSytMlfGN5x9z2v7ZlVvqAk yMYg== X-Gm-Message-State: AOJu0YyUUCKDrfMJMoiqh6EN4OBXTCD+9mjpsRvPTGqdYFrMAVadLEnF YoSKmueJqo0E6JdSTk9XUY0bKfe6Lkc2fp1VOm2gTR6apoqKlWU1oZUND9RfD8N3VU/uWI+4Vlf aaQm2bu/JRVxFfo2NYYOIMCB/puO1RZLMFfRMj4XTXidhSzqES+tV4BnsWAKj X-Gm-Gg: ASbGnctzzkxaldBWQzJQxQZ9O4PHX9xCTOd3nWBStmJMJGcaDwAQ80Ko1gHFUNZAoZH rvcOTkglfRDJtmE8pNW6O7qWlz7rHLMHRF3Opw3t2LrQhtDKby5u/mv5ldFiX3wcEZtyvKOp06R kzeLJLnc+cZRZH1MCTcHzeYGGcG5EDyfNhZ75rdYBP086X1xotaaEsrM6W/lwhBFcxRL3KMyQjK V/a7mMJlPg4hYzRVvO2S+rQP+5t1wUKICUAOTjzUucwZ14rw0DLg8p2f5UI+X2FfmlZrusRg+EY vNwpt8zQ4bzyEqrmsAu4RN6nBGro1RZLAWFModm6ArpNsE0sXQ== X-Google-Smtp-Source: AGHT+IEVnIBFuiiFWZlKSVxE58K2APyiPHYMqdROt71Zh6aQPRadbWvBQIo0SUyJ/LTkefdLMZzjCApNFHy1 X-Received: by 2002:a17:90b:2747:b0:2ff:58c7:a71f with SMTP id 98e67ed59e1d1-31c9e799ca0mr4370176a91.32.1752684120472; Wed, 16 Jul 2025 09:42:00 -0700 (PDT) Received: from postal.iol.unh.edu (postal.iol.unh.edu. [2606:4100:3880:1234::84]) by smtp-relay.gmail.com with ESMTPS id 98e67ed59e1d1-31c9f1ba76bsm74755a91.3.2025.07.16.09.42.00 (version=TLS1_2 cipher=ECDHE-ECDSA-AES128-GCM-SHA256 bits=128/128); Wed, 16 Jul 2025 09:42:00 -0700 (PDT) X-Relaying-Domain: iol.unh.edu Date: Wed, 16 Jul 2025 09:42:00 -0700 (PDT) Message-ID: <6877d658.170a0220.31289f.4ea4SMTPIN_ADDED_MISSING@mx.google.com> Received: from [172.21.0.6] (unknown [172.18.0.240]) by postal.iol.unh.edu (Postfix) with ESMTP id AC57C604D420; Wed, 16 Jul 2025 12:41:59 -0400 (EDT) Subject: |SUCCESS| pw155288 [PATCH] mailmap: fix entries with many aliases From: dpdklab@iol.unh.edu To: Test Report Cc: dpdk-test-reports@iol.unh.edu In-Reply-To: <20250716144203.1994070-1-david.marchand@redhat.com> References: <20250716144203.1994070-1-david.marchand@redhat.com> Content-Type: text/plain X-BeenThere: test-report@dpdk.org X-Mailman-Version: 2.1.29 Precedence: list List-Id: automatic DPDK test reports List-Unsubscribe: , List-Archive: List-Post: List-Help: List-Subscribe: , Errors-To: test-report-bounces@dpdk.org Test-Label: iol-compile-amd64-testing Test-Status: SUCCESS http://dpdk.org/patch/155288 _Testing PASS_ Submitter: David Marchand Date: Wednesday, July 16 2025 14:41:59 DPDK git baseline: Repo:dpdk Branch: master CommitID:9fe9c0b231c8da5435bfccb1963121b4277f961c 155288 --> testing pass Upstream job id: Windows-Compile-DPDK-Native#29819 Test environment and result as below: +---------------------+-------------------+-------------------------+--------------------+----------------------+ | Environment | dpdk_msvc_compile | dpdk_llvm_clang_compile | dpdk_meson_compile | dpdk_mingw64_compile | +=====================+===================+=========================+====================+======================+ | Windows Server 2022 | PASS | PASS | SKIPPED | PASS | +---------------------+-------------------+-------------------------+--------------------+----------------------+ | FreeBSD 14.2 | SKIPPED | SKIPPED | PASS | SKIPPED | +---------------------+-------------------+-------------------------+--------------------+----------------------+ | Ubuntu 20.04 | SKIPPED | SKIPPED | PASS | SKIPPED | +---------------------+-------------------+-------------------------+--------------------+----------------------+ Windows Server 2022 Kernel: 10.0.20348.2031 Compiler: clang 15.0.7, gcc 14.1.0 (MinGW), and MSVC VS 19.39.33521 FreeBSD 14.2 Kernel: 14.2-RELEASE Compiler: clang 18.1.6 Ubuntu 20.04 Kernel: 4.19 Compiler: gcc gcc (Ubuntu 9.4.0-1ubuntu1~20.04.2) 9.4.0 To view detailed results, visit: https://lab.dpdk.org/results/dashboard/patchsets/33671/ UNH-IOL DPDK Community Lab To manage your email subscriptions, visit: https://lab.dpdk.org/results/dashboard/preferences/subscriptions/