From mboxrd@z Thu Jan 1 00:00:00 1970 Return-Path: Received: from mails.dpdk.org (mails.dpdk.org [217.70.189.124]) by inbox.dpdk.org (Postfix) with ESMTP id 2790446B8F for ; Wed, 16 Jul 2025 18:56:23 +0200 (CEST) Received: from mails.dpdk.org (localhost [127.0.0.1]) by mails.dpdk.org (Postfix) with ESMTP id 03808400D6; Wed, 16 Jul 2025 18:56:23 +0200 (CEST) Received: from mail-il1-f228.google.com (mail-il1-f228.google.com [209.85.166.228]) by mails.dpdk.org (Postfix) with ESMTP id 5C39A400D6 for ; Wed, 16 Jul 2025 18:56:21 +0200 (CEST) Received: by mail-il1-f228.google.com with SMTP id e9e14a558f8ab-3ddda0a8ba2so284585ab.0 for ; Wed, 16 Jul 2025 09:56:21 -0700 (PDT) DKIM-Signature: v=1; a=rsa-sha256; c=relaxed/relaxed; d=iol.unh.edu; s=unh-iol; t=1752684980; x=1753289780; darn=dpdk.org; h=references:in-reply-to:cc:to:from:subject:message-id:date:from:to :cc:subject:date:message-id:reply-to; bh=BXg5fYcR08TU0L9aZJzlKaVz74KE+FzBwkQPZlEEVi0=; b=X1SQVAUQdyhmp6GhihxZQ5ZBlv7GL+rfDJprYLjIC1e7Tvt/0bRMyknO3BKFIpricn RVVkStmWgjVhcNGe3N5CsnJScL5a+h2EqutdgiLaUKcGUrfRuBr3jgxM1SPDdk5QeWHh KLvbWURaD7Z0dV5MsAhIqqOoKsCm3NCoCPc3A= X-Google-DKIM-Signature: v=1; a=rsa-sha256; c=relaxed/relaxed; d=1e100.net; s=20230601; t=1752684980; x=1753289780; h=references:in-reply-to:cc:to:from:subject:message-id:date :x-gm-message-state:from:to:cc:subject:date:message-id:reply-to; bh=BXg5fYcR08TU0L9aZJzlKaVz74KE+FzBwkQPZlEEVi0=; b=h+wF9R4QWGH1dq7aCun6ORcYNsPwFvG26wsF5D26HoS8Ib7Vhi9nlfqR3N8d5dcTKX K2SEdCh+IQuKvZlND5HjrvOA1ThZDuvbEeOUUfXS16YRnoQ+BhafTeMd/QRJe+03KJPA honvApd5j/DSih44slJ+U+Z5A+NMaYHVZ5je7xS8FC0jwTTz5AmqYFb0kZpNNUt0Qox+ gASV8K/jdGieL7u9yZCsypT4bVyrc7YTvJ3sUcjtjMc5ehBytUNYUEziuUuAHtxA7Cjw DB4syzdCxUtay70KwgYQ6tSmFJClPh5iiNFForVFGtICPvUSDMMASafTz/zuX8mPqJkU Bm4w== X-Gm-Message-State: AOJu0YwOgSTIvKe8aiR1ycYuFhnImVJmRR8/bG9ad+ALu5rvb/Nuuloc XdCXJAVRvYo5eCzIKjBSeeYN2gh7Twe8v14Etdz1/qoWQAFwQvhRsSl06JM6ev4GqOuqLO+VxxF irD9CsFxDHtjeY9mdpKIYlVGNQzJnwJwI/BHVjTY90ym7 X-Gm-Gg: ASbGncvxP9mx1Xj5mSl4fshcab/CR0sjCG002bFIEw81gzrFdGNNR4sAPWC0rYsDXxS 6reByEc/+iXd8+F7FqaSWXCxK/rQh69v12oJbdQEeicxipUDvYkH1C+G7dg+MEarAwBbDSsc7Ol xN5jAaPiRHOBFuysinHgdlALFBWaTrDeX91y85zm8tM0BaK+7z21STlaITi4r10Z/zWSBOoB15F VWnMtsFfnHv0jeBleijq8zUJOYLBzDem8/Rc4QUOsLDm+BioceMZRzWBm2E6rDkRe++xw0PZ3dT wGnhHIEW1iM4ItB6/RBmsmFB6ci58uEvx8d4XrbLSlLNDohXOD8bIBf32RdSfg09sVGw35ZA X-Google-Smtp-Source: AGHT+IFHSiKAwbRXiWMTsfKbr8YodTsSbT0v/jHNBLnLY7sQTKjM95yGDdp2alKhDD1//bbfvwz51RBHt+q8 X-Received: by 2002:a05:6e02:1305:b0:3e2:81d9:cbbc with SMTP id e9e14a558f8ab-3e2823a7b77mr31957845ab.2.1752684979293; Wed, 16 Jul 2025 09:56:19 -0700 (PDT) Received: from postal.iol.unh.edu (postal.iol.unh.edu. [132.177.123.84]) by smtp-relay.gmail.com with ESMTPS id 8926c6da1cb9f-505562cb989sm707144173.0.2025.07.16.09.56.19 (version=TLS1_2 cipher=ECDHE-ECDSA-AES128-GCM-SHA256 bits=128/128); Wed, 16 Jul 2025 09:56:19 -0700 (PDT) X-Relaying-Domain: iol.unh.edu Date: Wed, 16 Jul 2025 09:56:19 -0700 (PDT) Message-ID: <6877d9b3.050a0220.33e6b4.56b2SMTPIN_ADDED_MISSING@mx.google.com> Received: from [172.21.0.5] (unknown [172.18.0.240]) by postal.iol.unh.edu (Postfix) with ESMTP id B8A62604D420; Wed, 16 Jul 2025 12:56:18 -0400 (EDT) Subject: |SUCCESS| pw155261 [PATCH] app/testpmd: report minimum and maximum M From: dpdklab@iol.unh.edu To: Test Report Cc: dpdk-test-reports@iol.unh.edu In-Reply-To: <20250716102847.1118815-1-dsosnowski@nvidia.com> References: <20250716102847.1118815-1-dsosnowski@nvidia.com> Content-Type: text/plain X-BeenThere: test-report@dpdk.org X-Mailman-Version: 2.1.29 Precedence: list List-Id: automatic DPDK test reports List-Unsubscribe: , List-Archive: List-Post: List-Help: List-Subscribe: , Errors-To: test-report-bounces@dpdk.org Test-Label: iol-abi-testing Test-Status: SUCCESS http://dpdk.org/patch/155261 _Testing PASS_ Submitter: Dariusz Sosnowski Date: Wednesday, July 16 2025 10:28:46 DPDK git baseline: Repo:dpdk Branch: master CommitID:9fe9c0b231c8da5435bfccb1963121b4277f961c 155261 --> testing pass Upstream job id: Generic-DPDK-Compile-ABI#134546 Test environment and result as below: +-------------------------------+----------+ | Environment | abi_test | +===============================+==========+ | CentOS Stream 9 | PASS | +-------------------------------+----------+ | CentOS Stream 10 | PASS | +-------------------------------+----------+ | Fedora Linux 41 | PASS | +-------------------------------+----------+ | Fedora Linux 40 | PASS | +-------------------------------+----------+ | Debian GNU/Linux 12 | PASS | +-------------------------------+----------+ | Red Hat Enterprise Linux 9.5 | PASS | +-------------------------------+----------+ | Red Hat Enterprise Linux 8.10 | PASS | +-------------------------------+----------+ | openSUSE Leap 15.6 | PASS | +-------------------------------+----------+ | Ubuntu 22.04 | PASS | +-------------------------------+----------+ | Ubuntu 24.04 | PASS | +-------------------------------+----------+ CentOS Stream 9 Kernel: 5.15 Compiler: gcc gcc (GCC) 11.5.0 20240719 (Red Hat 11.5.0-7) CentOS Stream 10 Kernel: 5.15 Compiler: gcc gcc (GCC) 14.2.1 20250110 (Red Hat 14.2.1-8) Fedora Linux 41 Kernel: 5.15 Compiler: clang gcc (GCC) 14.3.1 20250523 (Red Hat 14.3.1-1) Fedora Linux 40 Kernel: 5.15 Compiler: gcc gcc (GCC) 14.2.1 20240912 (Red Hat 14.2.1-3) Debian GNU/Linux 12 Kernel: 5.15 Compiler: gcc gcc (Debian 12.2.0-14+deb12u1) 12.2.0 Red Hat Enterprise Linux 9.5 Kernel: 5.15 Compiler: gcc gcc (GCC) 11.5.0 20240719 (Red Hat 11.5.0-2) Red Hat Enterprise Linux 8.10 Kernel: 5.15 Compiler: gcc gcc (GCC) 8.5.0 20210514 (Red Hat 8.5.0-22) openSUSE Leap 15.6 Kernel: 5.15 Compiler: gcc gcc (SUSE Linux) 7.5.0 Ubuntu 22.04 Kernel: 5.15 Compiler: gcc gcc (Ubuntu 11.4.0-1ubuntu1~22.04) 11.4.0 Ubuntu 24.04 Kernel: 5.15 Compiler: gcc gcc (Ubuntu 13.3.0-6ubuntu2~24.04) 13.3.0 To view detailed results, visit: https://lab.dpdk.org/results/dashboard/patchsets/33667/ UNH-IOL DPDK Community Lab To manage your email subscriptions, visit: https://lab.dpdk.org/results/dashboard/preferences/subscriptions/