From mboxrd@z Thu Jan 1 00:00:00 1970 Return-Path: Received: from mails.dpdk.org (mails.dpdk.org [217.70.189.124]) by inbox.dpdk.org (Postfix) with ESMTP id BBF6246B8F for ; Wed, 16 Jul 2025 19:26:28 +0200 (CEST) Received: from mails.dpdk.org (localhost [127.0.0.1]) by mails.dpdk.org (Postfix) with ESMTP id 8FC3E400D6; Wed, 16 Jul 2025 19:26:28 +0200 (CEST) Received: from mail-yb1-f228.google.com (mail-yb1-f228.google.com [209.85.219.228]) by mails.dpdk.org (Postfix) with ESMTP id 1F444400D6 for ; Wed, 16 Jul 2025 19:26:27 +0200 (CEST) Received: by mail-yb1-f228.google.com with SMTP id 3f1490d57ef6-e8bbb605530so1096755276.0 for ; Wed, 16 Jul 2025 10:26:27 -0700 (PDT) DKIM-Signature: v=1; a=rsa-sha256; c=relaxed/relaxed; d=iol.unh.edu; s=unh-iol; t=1752686786; x=1753291586; darn=dpdk.org; h=references:in-reply-to:cc:to:from:subject:message-id:date:from:to :cc:subject:date:message-id:reply-to; bh=T8ATLdEMvYoTPft+7T6Ca0znReicI6bJgb35D8i5bS4=; b=RVcxBUQ2RNHUKRde49NrujDc9XioI4LwZlx0U36qFQdl02ehfn0Wl75BWs7VkILiej zuH3bez2kMsI040Lnv9Yz2tM/QS65jBWQFuaDVOaJO3b8tcQ8oa9C0q7m/6suyriscwh cZHvxDdFTFsC4FI7Tk65k3kPznTp3jnw4IwPc= X-Google-DKIM-Signature: v=1; a=rsa-sha256; c=relaxed/relaxed; d=1e100.net; s=20230601; t=1752686786; x=1753291586; h=references:in-reply-to:cc:to:from:subject:message-id:date :x-gm-message-state:from:to:cc:subject:date:message-id:reply-to; bh=T8ATLdEMvYoTPft+7T6Ca0znReicI6bJgb35D8i5bS4=; b=EC10OjU+/Zo38YViPrFst2Qrp3nM60+Krkws/YuAFW4UD4b7AF/FEQISBq9PGnQFps uGPUEyQa+m2ylrbN4qzZ3yV35+cvrFwU3RPWCcROGG7FEUtBsaRPFVBRMsoxWHglav4r wOPQJwdDQkmWQVq7D8cX8KecNJ5N0vXzaOsMkRwnjeXB6U1KlAmXJkSitDpaoMrY6wm7 apatbYssw/+ZIb1STZEBUYyNoLk2YeCJbKQVVgHUSZLVq/K7YzzFvwMBTBNWftziOGVi XcCx4wjGMbetNTrQjm+Gc3zXc3vXG/5MthiU0MVzb2AdN3F3G0VZvAbW0uoSMKT8PM4O UFJA== X-Gm-Message-State: AOJu0Yy53bTaRr1aQlJVJR9EA0TFqS1S+st0nneg3tT7EuZh7S/goAZF PLI8yk5ZQ7eMErKw+ZNOBq27JCeE+HWn7nF4WBmjgcaZNJFEndEPhNr4JJ/8egJz9tGi0eYJZ3a H8DRbeTkFOTkHpdREU0eKHZRQUAr9Snmhc3OUob46xt21 X-Gm-Gg: ASbGnct7EsLifeggaYczgQMMRULA96f/ZQWnaWrmaHuD0a5gjuM0mwNainj16gBPp5+ qzVlgT6aDvvT4pgwHsFkBti9UnSxdwuHTHgjoudFnd7hQUeouXUeKZ33copxfI3jvOBp2Vch976 u9wF6uvW0VmU0vhkVKt4XK4d0kUBvAb5Ci6XbawVjCYrsSXUOMZZYhPQeaw/b8iJqrRW3ogsXQd 4+yxarTfJ05rT8nF52rTESfrvF61dPH7tN5oPc25Jq+da9d9CSY8dEpr+cKdi5RlyjMs8x4hrj6 lgM/XxfdResT4mpVy6Pj4TIPDTphaaAVR1wgfTUVii0gSI8JfSJfgKgCNfThySQVd+5skpcb X-Google-Smtp-Source: AGHT+IG1Y1EfFXOArBCIJknB5qPiw+fPv1frzkQB8uaV1ynE7OSptVXJ3lWAokE7Vf5cAP122BrhlOUU67OI X-Received: by 2002:a05:690c:103:b0:713:ffaa:5767 with SMTP id 00721157ae682-718480a0008mr5100237b3.7.1752686786261; Wed, 16 Jul 2025 10:26:26 -0700 (PDT) Received: from postal.iol.unh.edu (postal.iol.unh.edu. [132.177.123.84]) by smtp-relay.gmail.com with ESMTPS id 00721157ae682-717c5d857d0sm5068837b3.4.2025.07.16.10.26.26 (version=TLS1_2 cipher=ECDHE-ECDSA-AES128-GCM-SHA256 bits=128/128); Wed, 16 Jul 2025 10:26:26 -0700 (PDT) X-Relaying-Domain: iol.unh.edu Date: Wed, 16 Jul 2025 10:26:26 -0700 (PDT) Message-ID: <6877e0c2.050a0220.1c49e8.bd07SMTPIN_ADDED_MISSING@mx.google.com> Received: from [172.21.0.5] (unknown [172.18.0.240]) by postal.iol.unh.edu (Postfix) with ESMTP id 86F2E604D420; Wed, 16 Jul 2025 13:26:25 -0400 (EDT) Subject: |SUCCESS| pw155260 [PATCH] net/mlx5: fix min and max MTU reporting From: dpdklab@iol.unh.edu To: Test Report Cc: dpdk-test-reports@iol.unh.edu In-Reply-To: <20250716102546.1118749-1-dsosnowski@nvidia.com> References: <20250716102546.1118749-1-dsosnowski@nvidia.com> Content-Type: text/plain X-BeenThere: test-report@dpdk.org X-Mailman-Version: 2.1.29 Precedence: list List-Id: automatic DPDK test reports List-Unsubscribe: , List-Archive: List-Post: List-Help: List-Subscribe: , Errors-To: test-report-bounces@dpdk.org Test-Label: iol-abi-testing Test-Status: SUCCESS http://dpdk.org/patch/155260 _Testing PASS_ Submitter: Dariusz Sosnowski Date: Wednesday, July 16 2025 10:25:45 DPDK git baseline: Repo:dpdk Branch: master CommitID:9fe9c0b231c8da5435bfccb1963121b4277f961c 155260 --> testing pass Upstream job id: Generic-DPDK-Compile-ABI#134525 Test environment and result as below: +-------------------------------+----------+ | Environment | abi_test | +===============================+==========+ | CentOS Stream 9 | PASS | +-------------------------------+----------+ | CentOS Stream 10 | PASS | +-------------------------------+----------+ | Debian GNU/Linux 12 | PASS | +-------------------------------+----------+ | Fedora Linux 40 | PASS | +-------------------------------+----------+ | Red Hat Enterprise Linux 8.10 | PASS | +-------------------------------+----------+ | Red Hat Enterprise Linux 9.5 | PASS | +-------------------------------+----------+ | openSUSE Leap 15.6 | PASS | +-------------------------------+----------+ | Fedora Linux 41 | PASS | +-------------------------------+----------+ | Ubuntu 24.04 | PASS | +-------------------------------+----------+ | Ubuntu 22.04 | PASS | +-------------------------------+----------+ CentOS Stream 9 Kernel: 5.15 Compiler: gcc gcc (GCC) 11.5.0 20240719 (Red Hat 11.5.0-7) CentOS Stream 10 Kernel: 5.15 Compiler: gcc gcc (GCC) 14.2.1 20250110 (Red Hat 14.2.1-8) Debian GNU/Linux 12 Kernel: 5.15 Compiler: gcc gcc (Debian 12.2.0-14+deb12u1) 12.2.0 Fedora Linux 40 Kernel: 5.15 Compiler: clang gcc (GCC) 14.2.1 20240912 (Red Hat 14.2.1-3) Red Hat Enterprise Linux 8.10 Kernel: 5.15 Compiler: gcc gcc (GCC) 8.5.0 20210514 (Red Hat 8.5.0-22) Red Hat Enterprise Linux 9.5 Kernel: 5.15 Compiler: gcc gcc (GCC) 11.5.0 20240719 (Red Hat 11.5.0-2) openSUSE Leap 15.6 Kernel: 5.15 Compiler: gcc gcc (SUSE Linux) 7.5.0 Fedora Linux 41 Kernel: 5.15 Compiler: gcc gcc (GCC) 14.3.1 20250523 (Red Hat 14.3.1-1) Ubuntu 24.04 Kernel: 5.15 Compiler: gcc gcc (Ubuntu 13.3.0-6ubuntu2~24.04) 13.3.0 Ubuntu 22.04 Kernel: 5.15 Compiler: gcc gcc (Ubuntu 11.4.0-1ubuntu1~22.04) 11.4.0 To view detailed results, visit: https://lab.dpdk.org/results/dashboard/patchsets/33666/ UNH-IOL DPDK Community Lab To manage your email subscriptions, visit: https://lab.dpdk.org/results/dashboard/preferences/subscriptions/