From mboxrd@z Thu Jan 1 00:00:00 1970 Return-Path: Received: from mails.dpdk.org (mails.dpdk.org [217.70.189.124]) by inbox.dpdk.org (Postfix) with ESMTP id E9DDB46B8F for ; Wed, 16 Jul 2025 19:28:55 +0200 (CEST) Received: from mails.dpdk.org (localhost [127.0.0.1]) by mails.dpdk.org (Postfix) with ESMTP id E4388400D6; Wed, 16 Jul 2025 19:28:55 +0200 (CEST) Received: from mail-vk1-f228.google.com (mail-vk1-f228.google.com [209.85.221.228]) by mails.dpdk.org (Postfix) with ESMTP id 24846400D6 for ; Wed, 16 Jul 2025 19:28:54 +0200 (CEST) Received: by mail-vk1-f228.google.com with SMTP id 71dfb90a1353d-5314d78e74fso59069e0c.3 for ; Wed, 16 Jul 2025 10:28:54 -0700 (PDT) DKIM-Signature: v=1; a=rsa-sha256; c=relaxed/relaxed; d=iol.unh.edu; s=unh-iol; t=1752686933; x=1753291733; darn=dpdk.org; h=references:in-reply-to:cc:to:from:subject:message-id:date:from:to :cc:subject:date:message-id:reply-to; bh=LbfjW9vTVRIW+5UgRiRi4TO0JiTIqHLn8vY6U21L8qI=; b=MzOKbc1X8MPwvkanjqvLbAOd35KXsICvUEjWhm9b6NCuOVaiooxIjJpcIAo5Mgn9dj BPLjnTl9qtw8PQpyzhjs+IO+oM5ymhWQmJ0vPzjnFjXleN/kLpH1CSYtDVpiOL0v7M5X mKLXqfaArz87UfuzzTBt7EelW/cT2hkOLNPVo= X-Google-DKIM-Signature: v=1; a=rsa-sha256; c=relaxed/relaxed; d=1e100.net; s=20230601; t=1752686933; x=1753291733; h=references:in-reply-to:cc:to:from:subject:message-id:date :x-gm-message-state:from:to:cc:subject:date:message-id:reply-to; bh=LbfjW9vTVRIW+5UgRiRi4TO0JiTIqHLn8vY6U21L8qI=; b=t6YsN2IjZSAJIYm8iiArVcU5Xl3y9pJrzUGWDD8rVY5cs4bz3qTu/qcjXzlGF3A0T7 8iqye30uyK3h1P4eJTNZyBJzracRIRTGwEZAUAw6r5+evj36JVt0nBBPuJa0PX7R6IJt 9Ewd2WRROQAYcaGgV7bYJuSKJmnltguYFZDUStAu27n5FSqySSEX4kdkPyY2v3cZlBDG gvjsWbFLqTGnzCuyofxp7rYtK8UhdDZttFkyVvIToML3XX0NSDTMg3ecEns8mhR9Cx11 NT5lUj/c5rrgroDGiFfDTbyKhdQ2aqXkh0UfEwSmOcBESjkELcbsrjLje5BmK4fDxfM4 5L3g== X-Gm-Message-State: AOJu0YyPduA1jK91Im1hhMTFvkhfDLWesddodA7jIub2VVm4p05KV0DV 5v25Osu1FUOARzH9Jt+ikp0zJs3uZXfthK3mCGaRbmut32rgOBi7/KokEo9SEttK2OByE6yry7c EVKnq93BrfILqEzHwiYujGJwAmQzYJDtEq7tDyPHcY4RJ X-Gm-Gg: ASbGnctzLwhy1VYAo57J0wHbBPNo7eVK1ju7Jus38iU5b+vnyUYcpTJEdXbJbMTNZnj lsAN89C3hGHOMI3umM9OGlggR2t2s4SvqyhvPKxPBHQBdv3dRKB6vuOWJzymxDfbqX3ZvqOPZND 2yRrhIqdZWOhn1gTiguEIEcOqUe/kzY0orqZOBd24NHRv9mW5k/dTPKR0660yfU/KNy2sKqIJPq VbsNqvyXbmWvyu8gOAvZp7tzp8QmKb9CfNTXadcRMm06dELK10OadShF8omPv/VD6DdBuY51hP/ Q1aTARqEB/ptrdogs/lLaI6y6fJkoCQglQGjIQ2io5TMG/mroM+BXalyYGf5YhS6n2zmHLDn X-Google-Smtp-Source: AGHT+IFRV/jMYXGppdZwYnVi/xBZ4Wr5m3/N9jVjBelStjdSHPSLRvJcOEX6rWAHcSVDAhPwCnCi3d3bvMhy X-Received: by 2002:a05:6122:16a4:b0:531:2afc:462a with SMTP id 71dfb90a1353d-5373fbd7f16mr2133696e0c.3.1752686933368; Wed, 16 Jul 2025 10:28:53 -0700 (PDT) Received: from postal.iol.unh.edu (postal.iol.unh.edu. [132.177.123.84]) by smtp-relay.gmail.com with ESMTPS id 71dfb90a1353d-535e727ef8fsm875556e0c.5.2025.07.16.10.28.53 (version=TLS1_2 cipher=ECDHE-ECDSA-AES128-GCM-SHA256 bits=128/128); Wed, 16 Jul 2025 10:28:53 -0700 (PDT) X-Relaying-Domain: iol.unh.edu Date: Wed, 16 Jul 2025 10:28:53 -0700 (PDT) Message-ID: <6877e155.050a0220.81b7b.0b72SMTPIN_ADDED_MISSING@mx.google.com> Received: from [172.21.0.9] (unknown [172.18.0.240]) by postal.iol.unh.edu (Postfix) with ESMTP id 9BE3B604D420; Wed, 16 Jul 2025 13:28:52 -0400 (EDT) Subject: |SUCCESS| pw155263-155283 [PATCH] [v4,22/22] ci: extend coverage wit From: dpdklab@iol.unh.edu To: Test Report Cc: dpdk-test-reports@iol.unh.edu In-Reply-To: <20250716130212.1736407-23-david.marchand@redhat.com> References: <20250716130212.1736407-23-david.marchand@redhat.com> Content-Type: text/plain X-BeenThere: test-report@dpdk.org X-Mailman-Version: 2.1.29 Precedence: list List-Id: automatic DPDK test reports List-Unsubscribe: , List-Archive: List-Post: List-Help: List-Subscribe: , Errors-To: test-report-bounces@dpdk.org Test-Label: iol-compile-amd64-testing Test-Status: SUCCESS http://dpdk.org/patch/155283 _Testing PASS_ Submitter: David Marchand Date: Wednesday, July 16 2025 13:02:09 DPDK git baseline: Repo:dpdk Branch: master CommitID:9fe9c0b231c8da5435bfccb1963121b4277f961c 155263-155283 --> testing pass Upstream job id: Generic-DPDK-Compile-Meson#409152 Test environment and result as below: +-------------------------------+--------------------+-------------------+------------------+-------------------------+-------------------+----------------------+ | Environment | dpdk_meson_compile | dpdk_compile_spdk | dpdk_compile_ovs | dpdk_llvm_clang_compile | dpdk_msvc_compile | dpdk_mingw64_compile | +===============================+====================+===================+==================+=========================+===================+======================+ | CentOS Stream 9 | PASS | PASS | SKIPPED | SKIPPED | SKIPPED | SKIPPED | +-------------------------------+--------------------+-------------------+------------------+-------------------------+-------------------+----------------------+ | Debian GNU/Linux 12 | PASS | PASS | SKIPPED | SKIPPED | SKIPPED | SKIPPED | +-------------------------------+--------------------+-------------------+------------------+-------------------------+-------------------+----------------------+ | CentOS Stream 10 | PASS | SKIPPED | SKIPPED | SKIPPED | SKIPPED | SKIPPED | +-------------------------------+--------------------+-------------------+------------------+-------------------------+-------------------+----------------------+ | Fedora Linux 40 | PASS | PASS | SKIPPED | SKIPPED | SKIPPED | SKIPPED | +-------------------------------+--------------------+-------------------+------------------+-------------------------+-------------------+----------------------+ | Fedora Linux 41 | PASS | PASS | PASS | SKIPPED | SKIPPED | SKIPPED | +-------------------------------+--------------------+-------------------+------------------+-------------------------+-------------------+----------------------+ | openSUSE Leap 15.6 | PASS | SKIPPED | SKIPPED | SKIPPED | SKIPPED | SKIPPED | +-------------------------------+--------------------+-------------------+------------------+-------------------------+-------------------+----------------------+ | Red Hat Enterprise Linux 8.10 | PASS | SKIPPED | SKIPPED | SKIPPED | SKIPPED | SKIPPED | +-------------------------------+--------------------+-------------------+------------------+-------------------------+-------------------+----------------------+ | Red Hat Enterprise Linux 9.5 | PASS | SKIPPED | SKIPPED | SKIPPED | SKIPPED | SKIPPED | +-------------------------------+--------------------+-------------------+------------------+-------------------------+-------------------+----------------------+ | Ubuntu 22.04 | PASS | PASS | SKIPPED | SKIPPED | SKIPPED | SKIPPED | +-------------------------------+--------------------+-------------------+------------------+-------------------------+-------------------+----------------------+ | Ubuntu 20.04 | PASS | SKIPPED | SKIPPED | SKIPPED | SKIPPED | SKIPPED | +-------------------------------+--------------------+-------------------+------------------+-------------------------+-------------------+----------------------+ | Ubuntu 24.04 | PASS | PASS | PASS | SKIPPED | SKIPPED | SKIPPED | +-------------------------------+--------------------+-------------------+------------------+-------------------------+-------------------+----------------------+ | Alpine Linux 3.22.0 | PASS | SKIPPED | SKIPPED | SKIPPED | SKIPPED | SKIPPED | +-------------------------------+--------------------+-------------------+------------------+-------------------------+-------------------+----------------------+ | FreeBSD 14.2 | PASS | SKIPPED | SKIPPED | SKIPPED | SKIPPED | SKIPPED | +-------------------------------+--------------------+-------------------+------------------+-------------------------+-------------------+----------------------+ | Windows Server 2022 | SKIPPED | SKIPPED | SKIPPED | PASS | PASS | PASS | +-------------------------------+--------------------+-------------------+------------------+-------------------------+-------------------+----------------------+ CentOS Stream 9 Kernel: 5.15 Compiler: gcc gcc (GCC) 11.5.0 20240719 (Red Hat 11.5.0-7) Debian GNU/Linux 12 Kernel: 5.15 Compiler: gcc gcc (Debian 12.2.0-14+deb12u1) 12.2.0 CentOS Stream 10 Kernel: 5.15 Compiler: gcc gcc (GCC) 14.2.1 20250110 (Red Hat 14.2.1-8) Fedora Linux 40 Kernel: 5.15 Compiler: gcc gcc (GCC) 14.2.1 20240912 (Red Hat 14.2.1-3) Fedora Linux 41 Kernel: 5.15 Compiler: clang gcc (GCC) 14.3.1 20250523 (Red Hat 14.3.1-1) openSUSE Leap 15.6 Kernel: 5.15 Compiler: gcc gcc (SUSE Linux) 7.5.0 Red Hat Enterprise Linux 8.10 Kernel: 5.15 Compiler: gcc gcc (GCC) 8.5.0 20210514 (Red Hat 8.5.0-22) Red Hat Enterprise Linux 9.5 Kernel: 5.15 Compiler: gcc gcc (GCC) 11.5.0 20240719 (Red Hat 11.5.0-2) Ubuntu 22.04 Kernel: 5.15 Compiler: gcc gcc (Ubuntu 11.4.0-1ubuntu1~22.04) 11.4.0 Ubuntu 20.04 Kernel: 5.15 Compiler: gcc gcc (Ubuntu 9.4.0-1ubuntu1~20.04.2) 9.4.0 Ubuntu 24.04 Kernel: 5.15 Compiler: gcc gcc (Ubuntu 13.3.0-6ubuntu2~24.04) 13.3.0 Alpine Linux 3.22.0 Kernel: 5.15 Compiler: gcc gcc (Alpine 14.2.0) 14.2.0 FreeBSD 14.2 Kernel: 14.2-RELEASE Compiler: clang 18.1.6 Windows Server 2022 Kernel: 10.0.20348.2031 Compiler: clang 15.0.7, gcc 14.1.0 (MinGW), and MSVC VS 19.39.33521 To view detailed results, visit: https://lab.dpdk.org/results/dashboard/patchsets/33669/ UNH-IOL DPDK Community Lab To manage your email subscriptions, visit: https://lab.dpdk.org/results/dashboard/preferences/subscriptions/