From mboxrd@z Thu Jan 1 00:00:00 1970 Return-Path: Received: from mails.dpdk.org (mails.dpdk.org [217.70.189.124]) by inbox.dpdk.org (Postfix) with ESMTP id 0F32046B8F for ; Wed, 16 Jul 2025 19:29:02 +0200 (CEST) Received: from mails.dpdk.org (localhost [127.0.0.1]) by mails.dpdk.org (Postfix) with ESMTP id 0ADF3400D6; Wed, 16 Jul 2025 19:29:02 +0200 (CEST) Received: from mail-pl1-f226.google.com (mail-pl1-f226.google.com [209.85.214.226]) by mails.dpdk.org (Postfix) with ESMTP id 66766400D6 for ; Wed, 16 Jul 2025 19:28:57 +0200 (CEST) Received: by mail-pl1-f226.google.com with SMTP id d9443c01a7336-23aeac7d77aso459125ad.3 for ; Wed, 16 Jul 2025 10:28:57 -0700 (PDT) DKIM-Signature: v=1; a=rsa-sha256; c=relaxed/relaxed; d=iol.unh.edu; s=unh-iol; t=1752686936; x=1753291736; darn=dpdk.org; h=references:in-reply-to:cc:to:from:subject:message-id:date:from:to :cc:subject:date:message-id:reply-to; bh=GMoHL/0y04zK6C3l0JPK11ZqAbrgZpCejdbrsdqcpwk=; b=E595WUacKmmpISl/Eqkr9ZAu56NNHB7OxAOM6cMSvC21wb589G23oVavlM0kxKO9B+ y/xeEolAsriQ77E6jmTBnpEUfFZ9S794ITWyOPpzCYK4vD5axlp3ZMsFtoHQlk3LTuGo 6RtWZay6ZZDs+DFH5JXq6LSxiJpjnqknsK52o= X-Google-DKIM-Signature: v=1; a=rsa-sha256; c=relaxed/relaxed; d=1e100.net; s=20230601; t=1752686936; x=1753291736; h=references:in-reply-to:cc:to:from:subject:message-id:date :x-gm-message-state:from:to:cc:subject:date:message-id:reply-to; bh=GMoHL/0y04zK6C3l0JPK11ZqAbrgZpCejdbrsdqcpwk=; b=J2EpStyAphUQt+BWFthTqcfz3LIttL8GBhhd5wbZ3mfDL5V5lmcwZfnqvibLF1sZwT 0TFvF7wGUsjl4tfw8GoIrbOCdXSeKWELNwUS+FEV6L3V07zWw8nVJcfAj29TOuZchdn9 l1TXQK9nRZHuqiDMkKmxOIpiYpL6swPdYSgIXqfzPU22DlKL4PEGtgjezXykgormM8Jl Hzj1pkGjoUfE63gpriYOm93UUhi694B1cNYJPEY9L+K9L8tShnvkJm9BYcUW977IWt4z kwJT1mKi5TQzslHUSE7C3fQbZd7QIRVgVudzyc1eTkfeRNbETCA972Kt/Duj9/hWBbjg nKYg== X-Gm-Message-State: AOJu0YzBkwGywQBzWm+WKwvTRr8RU4lnSCmOAJ0cRGMC/wA+0NS9wuOJ GEi5gDumAfAKxBjEe1JPo2K4Fc7lkgjx7mENzBQaH27IJUQ14AoCGyAd1Ey6mnpkTWLF0Esrn8X CcTn4LhGO2sbEt38mhGyZJQAlSOyOExLQNoiGwzQPZrhL X-Gm-Gg: ASbGncvL2VrCt/brtC6WyL4ciTRFkytqy4DMKIN51HRpT/YEHzaPQmnUTOv33mOlIF1 77FZpMKJC3IPqh6a9ZkwPLBKq3L9rChyzo7dDJwBiiAZW5ElQnO4zX+5x5T6dP6IDZwCLMdcEtu V8Ej5gCcdbaCcYWyQ4MPiPCtsbeNo/za+8Hf26WX8XY8hLZFLPNe4ym8/11Aizdnb7MPj1Y3GJL 0sJR02OR0yFz0+4QeW0CebpGrJY9C+fH0tRhpB5qfBH7iGpWdwbF/TpepoP+ZzwDEb4NPo1Ekd+ biMFzo8pZIf7W7QZEm1TEVjF3pI/OHlfDUghtQhKq4gYGF1j+p+VPZeC/Dlt/QvFSUxMXJAT X-Google-Smtp-Source: AGHT+IGVgfHvQi5JcY/RSTNJ/vEmjDsz2jWPIRMwjeGd//oFFL+5Ma4cSFq+7Ykgwyhh27ZvrolN5DUEUTZx X-Received: by 2002:a17:902:c405:b0:236:7333:f183 with SMTP id d9443c01a7336-23e24f4a679mr54912715ad.19.1752686936479; Wed, 16 Jul 2025 10:28:56 -0700 (PDT) Received: from postal.iol.unh.edu (postal.iol.unh.edu. [132.177.123.84]) by smtp-relay.gmail.com with ESMTPS id d9443c01a7336-23de42a5399sm7503975ad.47.2025.07.16.10.28.56 (version=TLS1_2 cipher=ECDHE-ECDSA-AES128-GCM-SHA256 bits=128/128); Wed, 16 Jul 2025 10:28:56 -0700 (PDT) X-Relaying-Domain: iol.unh.edu Date: Wed, 16 Jul 2025 10:28:56 -0700 (PDT) Message-ID: <6877e158.170a0220.167380.908aSMTPIN_ADDED_MISSING@mx.google.com> Received: from [172.21.0.10] (unknown [172.18.0.240]) by postal.iol.unh.edu (Postfix) with ESMTP id A4862604D421; Wed, 16 Jul 2025 13:28:54 -0400 (EDT) Subject: |SUCCESS| pw155263-155283 [PATCH] [v4,22/22] ci: extend coverage wit From: dpdklab@iol.unh.edu To: Test Report Cc: dpdk-test-reports@iol.unh.edu In-Reply-To: <20250716130212.1736407-23-david.marchand@redhat.com> References: <20250716130212.1736407-23-david.marchand@redhat.com> Content-Type: text/plain X-BeenThere: test-report@dpdk.org X-Mailman-Version: 2.1.29 Precedence: list List-Id: automatic DPDK test reports List-Unsubscribe: , List-Archive: List-Post: List-Help: List-Subscribe: , Errors-To: test-report-bounces@dpdk.org Test-Label: iol-compile-amd64-testing Test-Status: SUCCESS http://dpdk.org/patch/155283 _Testing PASS_ Submitter: David Marchand Date: Wednesday, July 16 2025 13:02:09 DPDK git baseline: Repo:dpdk Branch: master CommitID:9fe9c0b231c8da5435bfccb1963121b4277f961c 155263-155283 --> testing pass Upstream job id: Generic-DPDK-Compile-Meson#409159 Test environment and result as below: +-------------------------------+--------------------+-------------------+------------------+-------------------------+-------------------+----------------------+ | Environment | dpdk_meson_compile | dpdk_compile_spdk | dpdk_compile_ovs | dpdk_llvm_clang_compile | dpdk_msvc_compile | dpdk_mingw64_compile | +===============================+====================+===================+==================+=========================+===================+======================+ | CentOS Stream 9 | PASS | PASS | SKIPPED | SKIPPED | SKIPPED | SKIPPED | +-------------------------------+--------------------+-------------------+------------------+-------------------------+-------------------+----------------------+ | Debian GNU/Linux 12 | PASS | PASS | SKIPPED | SKIPPED | SKIPPED | SKIPPED | +-------------------------------+--------------------+-------------------+------------------+-------------------------+-------------------+----------------------+ | CentOS Stream 10 | PASS | SKIPPED | SKIPPED | SKIPPED | SKIPPED | SKIPPED | +-------------------------------+--------------------+-------------------+------------------+-------------------------+-------------------+----------------------+ | Fedora Linux 40 | PASS | PASS | SKIPPED | SKIPPED | SKIPPED | SKIPPED | +-------------------------------+--------------------+-------------------+------------------+-------------------------+-------------------+----------------------+ | Fedora Linux 41 | PASS | PASS | PASS | SKIPPED | SKIPPED | SKIPPED | +-------------------------------+--------------------+-------------------+------------------+-------------------------+-------------------+----------------------+ | openSUSE Leap 15.6 | PASS | SKIPPED | SKIPPED | SKIPPED | SKIPPED | SKIPPED | +-------------------------------+--------------------+-------------------+------------------+-------------------------+-------------------+----------------------+ | Red Hat Enterprise Linux 8.10 | PASS | SKIPPED | SKIPPED | SKIPPED | SKIPPED | SKIPPED | +-------------------------------+--------------------+-------------------+------------------+-------------------------+-------------------+----------------------+ | Red Hat Enterprise Linux 9.5 | PASS | SKIPPED | SKIPPED | SKIPPED | SKIPPED | SKIPPED | +-------------------------------+--------------------+-------------------+------------------+-------------------------+-------------------+----------------------+ | Ubuntu 22.04 | PASS | PASS | SKIPPED | SKIPPED | SKIPPED | SKIPPED | +-------------------------------+--------------------+-------------------+------------------+-------------------------+-------------------+----------------------+ | Ubuntu 20.04 | PASS | SKIPPED | SKIPPED | SKIPPED | SKIPPED | SKIPPED | +-------------------------------+--------------------+-------------------+------------------+-------------------------+-------------------+----------------------+ | Ubuntu 24.04 | PASS | PASS | PASS | SKIPPED | SKIPPED | SKIPPED | +-------------------------------+--------------------+-------------------+------------------+-------------------------+-------------------+----------------------+ | Alpine Linux 3.22.0 | PASS | SKIPPED | SKIPPED | SKIPPED | SKIPPED | SKIPPED | +-------------------------------+--------------------+-------------------+------------------+-------------------------+-------------------+----------------------+ | FreeBSD 14.2 | PASS | SKIPPED | SKIPPED | SKIPPED | SKIPPED | SKIPPED | +-------------------------------+--------------------+-------------------+------------------+-------------------------+-------------------+----------------------+ | Windows Server 2022 | SKIPPED | SKIPPED | SKIPPED | PASS | PASS | PASS | +-------------------------------+--------------------+-------------------+------------------+-------------------------+-------------------+----------------------+ CentOS Stream 9 Kernel: 5.15 Compiler: gcc gcc (GCC) 11.5.0 20240719 (Red Hat 11.5.0-7) Debian GNU/Linux 12 Kernel: 5.15 Compiler: gcc gcc (Debian 12.2.0-14+deb12u1) 12.2.0 CentOS Stream 10 Kernel: 5.15 Compiler: gcc gcc (GCC) 14.2.1 20250110 (Red Hat 14.2.1-8) Fedora Linux 40 Kernel: 5.15 Compiler: gcc gcc (GCC) 14.2.1 20240912 (Red Hat 14.2.1-3) Fedora Linux 41 Kernel: 5.15 Compiler: clang gcc (GCC) 14.3.1 20250523 (Red Hat 14.3.1-1) openSUSE Leap 15.6 Kernel: 5.15 Compiler: gcc gcc (SUSE Linux) 7.5.0 Red Hat Enterprise Linux 8.10 Kernel: 5.15 Compiler: gcc gcc (GCC) 8.5.0 20210514 (Red Hat 8.5.0-22) Red Hat Enterprise Linux 9.5 Kernel: 5.15 Compiler: gcc gcc (GCC) 11.5.0 20240719 (Red Hat 11.5.0-2) Ubuntu 22.04 Kernel: 5.15 Compiler: gcc gcc (Ubuntu 11.4.0-1ubuntu1~22.04) 11.4.0 Ubuntu 20.04 Kernel: 5.15 Compiler: gcc gcc (Ubuntu 9.4.0-1ubuntu1~20.04.2) 9.4.0 Ubuntu 24.04 Kernel: 5.15 Compiler: gcc gcc (Ubuntu 13.3.0-6ubuntu2~24.04) 13.3.0 Alpine Linux 3.22.0 Kernel: 5.15 Compiler: gcc gcc (Alpine 14.2.0) 14.2.0 FreeBSD 14.2 Kernel: 14.2-RELEASE Compiler: clang 18.1.6 Windows Server 2022 Kernel: 10.0.20348.2031 Compiler: clang 15.0.7, gcc 14.1.0 (MinGW), and MSVC VS 19.39.33521 To view detailed results, visit: https://lab.dpdk.org/results/dashboard/patchsets/33669/ UNH-IOL DPDK Community Lab To manage your email subscriptions, visit: https://lab.dpdk.org/results/dashboard/preferences/subscriptions/