From mboxrd@z Thu Jan 1 00:00:00 1970 Return-Path: Received: from mails.dpdk.org (mails.dpdk.org [217.70.189.124]) by inbox.dpdk.org (Postfix) with ESMTP id 604AF46B8F for ; Wed, 16 Jul 2025 19:31:27 +0200 (CEST) Received: from mails.dpdk.org (localhost [127.0.0.1]) by mails.dpdk.org (Postfix) with ESMTP id 3F8E2400D6; Wed, 16 Jul 2025 19:31:27 +0200 (CEST) Received: from mail-oa1-f97.google.com (mail-oa1-f97.google.com [209.85.160.97]) by mails.dpdk.org (Postfix) with ESMTP id 9DF9E400D6 for ; Wed, 16 Jul 2025 19:31:25 +0200 (CEST) Received: by mail-oa1-f97.google.com with SMTP id 586e51a60fabf-2cc89c59cc0so770763fac.0 for ; Wed, 16 Jul 2025 10:31:25 -0700 (PDT) DKIM-Signature: v=1; a=rsa-sha256; c=relaxed/relaxed; d=iol.unh.edu; s=unh-iol; t=1752687085; x=1753291885; darn=dpdk.org; h=references:in-reply-to:cc:to:from:subject:message-id:date:from:to :cc:subject:date:message-id:reply-to; bh=ZHceLakvNX+H4YI3myHv4BdJoJTQ/KcWENScPPOEScU=; b=RMWY1geN8MdRI7awwbOP6ML9TFdBnwLozw0gqfvwKTF3Iw8Xz2AmrY2qc2tt64KlFg jAwDvqV+OqIfdY1qk8VxAeKf4yDBgirNGhHVFWzs60r3GlKrtCexjMRuZJfAe0rcHLog xPAbzWX24PmTh7GqYJM+Vr04q9EJg1o5jjySo= X-Google-DKIM-Signature: v=1; a=rsa-sha256; c=relaxed/relaxed; d=1e100.net; s=20230601; t=1752687085; x=1753291885; h=references:in-reply-to:cc:to:from:subject:message-id:date :x-gm-message-state:from:to:cc:subject:date:message-id:reply-to; bh=ZHceLakvNX+H4YI3myHv4BdJoJTQ/KcWENScPPOEScU=; b=Bca9RflMa96TLMa+OvgZUD1gWQlvDnylkqxfNNKFLCun9KUdyMfVX3CFqIGKcQC64P oyCxRiXIKY7OnZbyHaHFPWTGNlWe7SLg2mXTU67deT4ToHIZ3cieue/IlMs6BPpEY+LH Jf0jxe2fsOTifwHiFJpR3cr3+7qCX3yXaGru5mPM+JKoO93ZEC9xZwoRT4wZ9JTxrhZ4 2d+YcIVZySTohfM9A4bbgiSU7RDYfU2lSdR/w3bWiMJ+z58Wt4yvr9mwAasYpTzdKEfM pwWYA6FnTrtZgMtNVCA3DnPmPBTMwkuUOwNIOHv9mN/DZJVXUhk0BfqzSYlFa5/IV5vE kK6A== X-Gm-Message-State: AOJu0Yz3HlBzSwNnhgU2ALN2zC8zykIRxcV3HNRxqigbO0UejBuw3eiM zkiMxZMausP3eQVvHbE9nk+pxFFNFP9FpDJsSkTBzFTsAo/CGyqTI/UTKzVvoqmHgzqOp7yjUxi FpBn5FQBdg0xr6vY5l/aHYy5zoB4VWhIZNPnQYFbsvPeU X-Gm-Gg: ASbGnctUBwx3IJYh48Fe5nR4fero8nVhmmngMnpegQmuZVuHmJuVrM1lPbdbLavoIhb qK4gMXH2w9rvFqDh8YYAW2lFGJ1srLjya9qhFjMMDdNvZ/P7nc9UOhe6ieaIEu8pv6FGqCjGKW+ VOIu1fp3S0pcgVaInxlFBMrSn2gLnlXWccp16k8/gQcNdJdKk+cHwwVsJf0PzlxvaL+NxGNO0pS Y3ypcXLMzkFBWhMXixIRVTTjnQSP/ECpfN4l/KYFlwj7LOobSbIZy96eksX6CzgapPNjZsvwII8 nC31GunHwIwBl3SKIzgD6P/5kL0Mc6QQ/mPG25C/lRSsAihfKBkmezWr4eHKjky/BLxb2V7d X-Google-Smtp-Source: AGHT+IE9cuphBPcWKPlZtgZ62RHUkiHZctAynkIwCy7wdScxVoiFv7XO0zXSxWOZrQU/Thkz5p5NqGw8C8VT X-Received: by 2002:a05:6871:e25e:b0:2e9:5d01:effc with SMTP id 586e51a60fabf-2ffcb8cd37cmr300304fac.2.1752687084760; Wed, 16 Jul 2025 10:31:24 -0700 (PDT) Received: from postal.iol.unh.edu (postal.iol.unh.edu. [132.177.123.84]) by smtp-relay.gmail.com with ESMTPS id 586e51a60fabf-2ff1179dddbsm874466fac.36.2025.07.16.10.31.24 (version=TLS1_2 cipher=ECDHE-ECDSA-AES128-GCM-SHA256 bits=128/128); Wed, 16 Jul 2025 10:31:24 -0700 (PDT) X-Relaying-Domain: iol.unh.edu Date: Wed, 16 Jul 2025 10:31:24 -0700 (PDT) Message-ID: <6877e1ec.050a0220.1c102c.e1abSMTPIN_ADDED_MISSING@mx.google.com> Received: from [172.21.0.9] (unknown [172.18.0.240]) by postal.iol.unh.edu (Postfix) with ESMTP id 1CD57604D420; Wed, 16 Jul 2025 13:31:24 -0400 (EDT) Subject: |SUCCESS| pw155285-155287 [PATCH] [v5,3/3] doc: revise coding guidel From: dpdklab@iol.unh.edu To: Test Report Cc: dpdk-test-reports@iol.unh.edu In-Reply-To: <20250716135708.49233-3-dmarx@iol.unh.edu> References: <20250716135708.49233-3-dmarx@iol.unh.edu> Content-Type: text/plain X-BeenThere: test-report@dpdk.org X-Mailman-Version: 2.1.29 Precedence: list List-Id: automatic DPDK test reports List-Unsubscribe: , List-Archive: List-Post: List-Help: List-Subscribe: , Errors-To: test-report-bounces@dpdk.org Test-Label: iol-abi-testing Test-Status: SUCCESS http://dpdk.org/patch/155287 _Testing PASS_ Submitter: Dean Marx Date: Wednesday, July 16 2025 13:57:06 DPDK git baseline: Repo:dpdk Branch: master CommitID:9fe9c0b231c8da5435bfccb1963121b4277f961c 155285-155287 --> testing pass Upstream job id: Generic-DPDK-Compile-ABI#134548 Test environment and result as below: +-------------------------------+----------+ | Environment | abi_test | +===============================+==========+ | Debian GNU/Linux 12 | PASS | +-------------------------------+----------+ | CentOS Stream 10 | PASS | +-------------------------------+----------+ | Fedora Linux 40 | PASS | +-------------------------------+----------+ | CentOS Stream 9 | PASS | +-------------------------------+----------+ | Ubuntu 24.04 | PASS | +-------------------------------+----------+ | Red Hat Enterprise Linux 8.10 | PASS | +-------------------------------+----------+ | openSUSE Leap 15.6 | PASS | +-------------------------------+----------+ | Red Hat Enterprise Linux 9.5 | PASS | +-------------------------------+----------+ | Fedora Linux 41 | PASS | +-------------------------------+----------+ | Ubuntu 22.04 | PASS | +-------------------------------+----------+ Debian GNU/Linux 12 Kernel: 5.15 Compiler: gcc gcc (Debian 12.2.0-14+deb12u1) 12.2.0 CentOS Stream 10 Kernel: 5.15 Compiler: gcc gcc (GCC) 14.2.1 20250110 (Red Hat 14.2.1-8) Fedora Linux 40 Kernel: 5.15 Compiler: gcc gcc (GCC) 14.2.1 20240912 (Red Hat 14.2.1-3) CentOS Stream 9 Kernel: 5.15 Compiler: gcc gcc (GCC) 11.5.0 20240719 (Red Hat 11.5.0-7) Ubuntu 24.04 Kernel: 5.15 Compiler: gcc gcc (Ubuntu 13.3.0-6ubuntu2~24.04) 13.3.0 Red Hat Enterprise Linux 8.10 Kernel: 5.15 Compiler: gcc gcc (GCC) 8.5.0 20210514 (Red Hat 8.5.0-22) openSUSE Leap 15.6 Kernel: 5.15 Compiler: gcc gcc (SUSE Linux) 7.5.0 Red Hat Enterprise Linux 9.5 Kernel: 5.15 Compiler: gcc gcc (GCC) 11.5.0 20240719 (Red Hat 11.5.0-2) Fedora Linux 41 Kernel: 5.15 Compiler: clang gcc (GCC) 14.3.1 20250523 (Red Hat 14.3.1-1) Ubuntu 22.04 Kernel: 5.15 Compiler: gcc gcc (Ubuntu 11.4.0-1ubuntu1~22.04) 11.4.0 To view detailed results, visit: https://lab.dpdk.org/results/dashboard/patchsets/33670/ UNH-IOL DPDK Community Lab To manage your email subscriptions, visit: https://lab.dpdk.org/results/dashboard/preferences/subscriptions/