From mboxrd@z Thu Jan 1 00:00:00 1970 Return-Path: Received: from mails.dpdk.org (mails.dpdk.org [217.70.189.124]) by inbox.dpdk.org (Postfix) with ESMTP id 5D74F46B8F for ; Wed, 16 Jul 2025 19:32:18 +0200 (CEST) Received: from mails.dpdk.org (localhost [127.0.0.1]) by mails.dpdk.org (Postfix) with ESMTP id 57C5C400D6; Wed, 16 Jul 2025 19:32:18 +0200 (CEST) Received: from mail-il1-f225.google.com (mail-il1-f225.google.com [209.85.166.225]) by mails.dpdk.org (Postfix) with ESMTP id 5B4A3400D6 for ; Wed, 16 Jul 2025 19:32:16 +0200 (CEST) Received: by mail-il1-f225.google.com with SMTP id e9e14a558f8ab-3df4bdadca5so347715ab.1 for ; Wed, 16 Jul 2025 10:32:16 -0700 (PDT) DKIM-Signature: v=1; a=rsa-sha256; c=relaxed/relaxed; d=iol.unh.edu; s=unh-iol; t=1752687135; x=1753291935; darn=dpdk.org; h=references:in-reply-to:cc:to:from:subject:message-id:date:from:to :cc:subject:date:message-id:reply-to; bh=3ZR1ZUIz1rmgywAi1tHFeU2dQFGZT4iBJYr2I+zspE8=; b=AaAnu53sZK+/vE72flBsQVXjG1m5+X/D0oKRaQIht8KsG1kVGEjHIwq2X4F7pBonDO uEqT7cZmomR7pjbdGXWGUI0LtkQ/ypiMOFBUfyjn0U7L7jYLg3TEFSCqIY/oSWqQ6Unl Wm24IjMuOJH++H00tqCSXaABgjOTJCraiBYvI= X-Google-DKIM-Signature: v=1; a=rsa-sha256; c=relaxed/relaxed; d=1e100.net; s=20230601; t=1752687135; x=1753291935; h=references:in-reply-to:cc:to:from:subject:message-id:date :x-gm-message-state:from:to:cc:subject:date:message-id:reply-to; bh=3ZR1ZUIz1rmgywAi1tHFeU2dQFGZT4iBJYr2I+zspE8=; b=ZQHRLn9FBTyVs5XN2ZcdQK7OVmIRmtCMQSYH39ODYf5TNqMlNt+9XlRu+ysG4shNUC tJdr9IJe++zdPKXMplWIDD4D3AB1sNnCiIp+XYO2XrdqmRI53p3k3LqR46kk7oDV5EZk RighK2ow+oUAB5BXBL5DsGnKtx3WLRd3e+zfvr5QKdrAn46e7w+uqg85j5mbQvx/G+u6 ME7t0OjaN6KLHZj0nei0a3cB5Aziu2WhsjwmKW1eAPT2IsQlP5Z0QSmNlhYMK4AbrMLH /iQTDxtGJWBFsLO/qAl1kqbiQQIOKsjOyGhZYFx+jwLXuRjmsCJ9/bSq743C+yJjx93H 8wjw== X-Gm-Message-State: AOJu0Yy8p9hENW2UdOEoNTvTRH+83sOqGqN0FLu5DSSLAK3dDKKni8gC N3ZENEORkSa78YmR6nDoZU47lPdUg8TAZw9W2VTRjENmxgubXqo4Ubbu0iWYKbi3buVn8DCScdY O2wFAYZxwurl0fvwUEipVLTxpyTyPiOsup8WIOWCUNUq+DFRClLtY2KPffX51 X-Gm-Gg: ASbGncvqXGKMiF1EAnmWxRy4m35qFdZFXKFu6qWq7Qev3+0m7LCyoeGoIocW/TtL8Em jkLWvX2piToksfPZNsXa3UVw+6EjeDImZgPq3FfykVgUNly9KMGgjo9B0Lx4Pww3it3evB11TC6 KxjjYcCvAgPNl/Z6pUpPAYddCw648umsBZr8ag0btF8NWDLbKwij6g+a0vYzpC/KZFAshb3YREA Wu7kY8Errcwta3MS0LbLu5dxVtcrWm72/WJONUjYyzd3sOzY+4oSWPOcE5iPJoX7U2Rw8R8B9b5 vaXJHB/RiOnAKxf4d7JKHzvcilcmedfDJSxDr4nDSUWOCK0GIg== X-Google-Smtp-Source: AGHT+IHG4dALmu30iQSePpZE/GGd8hHxpXJHn/Ua8gECklIu1SSdC79jQ/6iYgFJ5hgiino0sOXNFfNvlb9x X-Received: by 2002:a05:6e02:3c87:b0:3dd:babf:9b00 with SMTP id e9e14a558f8ab-3e282300cf6mr45450475ab.1.1752687135547; Wed, 16 Jul 2025 10:32:15 -0700 (PDT) Received: from postal.iol.unh.edu (postal.iol.unh.edu. [2606:4100:3880:1234::84]) by smtp-relay.gmail.com with ESMTPS id e9e14a558f8ab-3e2462139e3sm9203305ab.53.2025.07.16.10.32.15 (version=TLS1_2 cipher=ECDHE-ECDSA-AES128-GCM-SHA256 bits=128/128); Wed, 16 Jul 2025 10:32:15 -0700 (PDT) X-Relaying-Domain: iol.unh.edu Date: Wed, 16 Jul 2025 10:32:15 -0700 (PDT) Message-ID: <6877e21f.050a0220.3a40e4.1045SMTPIN_ADDED_MISSING@mx.google.com> Received: from [172.21.0.5] (unknown [172.18.0.240]) by postal.iol.unh.edu (Postfix) with ESMTP id 0EBEB604D420; Wed, 16 Jul 2025 13:32:15 -0400 (EDT) Subject: |SUCCESS| pw155285-155287 [PATCH] [v5,3/3] doc: revise coding guidel From: dpdklab@iol.unh.edu To: Test Report Cc: dpdk-test-reports@iol.unh.edu In-Reply-To: <20250716135708.49233-3-dmarx@iol.unh.edu> References: <20250716135708.49233-3-dmarx@iol.unh.edu> Content-Type: text/plain X-BeenThere: test-report@dpdk.org X-Mailman-Version: 2.1.29 Precedence: list List-Id: automatic DPDK test reports List-Unsubscribe: , List-Archive: List-Post: List-Help: List-Subscribe: , Errors-To: test-report-bounces@dpdk.org Test-Label: iol-abi-testing Test-Status: SUCCESS http://dpdk.org/patch/155287 _Testing PASS_ Submitter: Dean Marx Date: Wednesday, July 16 2025 13:57:06 DPDK git baseline: Repo:dpdk Branch: master CommitID:9fe9c0b231c8da5435bfccb1963121b4277f961c 155285-155287 --> testing pass Upstream job id: Generic-DPDK-Compile-ABI#134557 Test environment and result as below: +-------------------------------+----------+ | Environment | abi_test | +===============================+==========+ | Debian GNU/Linux 12 | PASS | +-------------------------------+----------+ | CentOS Stream 10 | PASS | +-------------------------------+----------+ | Fedora Linux 40 | PASS | +-------------------------------+----------+ | CentOS Stream 9 | PASS | +-------------------------------+----------+ | Ubuntu 24.04 | PASS | +-------------------------------+----------+ | Red Hat Enterprise Linux 8.10 | PASS | +-------------------------------+----------+ | openSUSE Leap 15.6 | PASS | +-------------------------------+----------+ | Red Hat Enterprise Linux 9.5 | PASS | +-------------------------------+----------+ | Fedora Linux 41 | PASS | +-------------------------------+----------+ | Ubuntu 22.04 | PASS | +-------------------------------+----------+ Debian GNU/Linux 12 Kernel: 5.15 Compiler: gcc gcc (Debian 12.2.0-14+deb12u1) 12.2.0 CentOS Stream 10 Kernel: 5.15 Compiler: gcc gcc (GCC) 14.2.1 20250110 (Red Hat 14.2.1-8) Fedora Linux 40 Kernel: 5.15 Compiler: gcc gcc (GCC) 14.2.1 20240912 (Red Hat 14.2.1-3) CentOS Stream 9 Kernel: 5.15 Compiler: gcc gcc (GCC) 11.5.0 20240719 (Red Hat 11.5.0-7) Ubuntu 24.04 Kernel: 5.15 Compiler: gcc gcc (Ubuntu 13.3.0-6ubuntu2~24.04) 13.3.0 Red Hat Enterprise Linux 8.10 Kernel: 5.15 Compiler: gcc gcc (GCC) 8.5.0 20210514 (Red Hat 8.5.0-22) openSUSE Leap 15.6 Kernel: 5.15 Compiler: gcc gcc (SUSE Linux) 7.5.0 Red Hat Enterprise Linux 9.5 Kernel: 5.15 Compiler: gcc gcc (GCC) 11.5.0 20240719 (Red Hat 11.5.0-2) Fedora Linux 41 Kernel: 5.15 Compiler: clang gcc (GCC) 14.3.1 20250523 (Red Hat 14.3.1-1) Ubuntu 22.04 Kernel: 5.15 Compiler: gcc gcc (Ubuntu 11.4.0-1ubuntu1~22.04) 11.4.0 To view detailed results, visit: https://lab.dpdk.org/results/dashboard/patchsets/33670/ UNH-IOL DPDK Community Lab To manage your email subscriptions, visit: https://lab.dpdk.org/results/dashboard/preferences/subscriptions/