From mboxrd@z Thu Jan 1 00:00:00 1970 Return-Path: Received: from mails.dpdk.org (mails.dpdk.org [217.70.189.124]) by inbox.dpdk.org (Postfix) with ESMTP id 9C02F46B8F for ; Wed, 16 Jul 2025 19:34:12 +0200 (CEST) Received: from mails.dpdk.org (localhost [127.0.0.1]) by mails.dpdk.org (Postfix) with ESMTP id 82D9C400D6; Wed, 16 Jul 2025 19:34:12 +0200 (CEST) Received: from mail-pl1-f226.google.com (mail-pl1-f226.google.com [209.85.214.226]) by mails.dpdk.org (Postfix) with ESMTP id CC073400D6 for ; Wed, 16 Jul 2025 19:34:10 +0200 (CEST) Received: by mail-pl1-f226.google.com with SMTP id d9443c01a7336-2349f096605so611775ad.3 for ; Wed, 16 Jul 2025 10:34:10 -0700 (PDT) DKIM-Signature: v=1; a=rsa-sha256; c=relaxed/relaxed; d=iol.unh.edu; s=unh-iol; t=1752687250; x=1753292050; darn=dpdk.org; h=references:in-reply-to:cc:to:from:subject:message-id:date:from:to :cc:subject:date:message-id:reply-to; bh=Db61ufGK17pvajRNemwJnLArRFM03HDwZD+oVV285lY=; b=Ty8LABnTWP8bR+NtPp5hf4JJYrzyhoNWpnF+GcKxbfdfR/HIXX/KsnKNSP2c+YvtiT xWQERxWDI8iVR5ac9Ga9L/K8b8FNLLMagnt/hD2aiVxuO+gf/tvENJlXXE0GcNvzZByb HU26BcJ1Bd2hVCviepTh7eck460xL+bWN/eBo= X-Google-DKIM-Signature: v=1; a=rsa-sha256; c=relaxed/relaxed; d=1e100.net; s=20230601; t=1752687250; x=1753292050; h=references:in-reply-to:cc:to:from:subject:message-id:date :x-gm-message-state:from:to:cc:subject:date:message-id:reply-to; bh=Db61ufGK17pvajRNemwJnLArRFM03HDwZD+oVV285lY=; b=Jp4tQvzyVIyXPFiboqR/jGo0gyYX0XbAApb9vVseqcg1dlGmIbL+CZyKJUq1H4sa9Y klFauP/dWN7MQZG3CdtuXI/rCPi53Y4Q9kK8DAUOKYP/NeQv+v0e+wsbVFqBHw0VrTb9 RSuP+YeeWVcOFzmAPUJXkp8NRj15FVPYmHI2n/61Ubbj7lXBCb58QFPlStgZHvuCTP1u xHvhMoS6mi4WfimSSwrkyhi7gbSeI6/DRytkJusbugDaKjmv4jOsYzI/nCL3FBRMzo+d UCXOjLQB8gwKbPpsK8oa52U6naF0gSb7VBvMZqPWpJxWHFZemCLSGjucuzhIMlYj9I4+ BS0A== X-Gm-Message-State: AOJu0Yw48/tW3P6vlnODz1D0ahnd6gdXRvmKiHTTGMHEcbB9iyug2wFl NdF1myjDr1ULmsErWbIkb0Q0eOTYfCb8X/rGJoBm1sDhe4orRAUJR9KZBova7x0QyfALwlSjuR0 rFWVI8Mqwf0gZVcvSujN7wteXj0FVX79an+MOrqjck4yl X-Gm-Gg: ASbGncs1BzH1jvl7xmf1RTiKHwEKfPOShJzwBpcQoxc9ILxUYpC0W2f9dD9QufmGVJB dMjRgfNZg/mdSG+HsXwc++VPeEcSrPuaf7nSgSGjGM5iNSToLYlbNI57I0Q4fHdQUxCay4rYrm1 tprJjbvKLflBmQpZGbcT4kSJqfiz6ZNTx+JKBWb0hBQjMvMO0c0s8kED+JOzU4zvkPzCNxzij8R 3TbZMrTXE5AkcXnHzs34UvO1xMpSyhpVMcwEQI036MuAXobr8CRwS1HsY2p/KkyeEYqFm2Taqv+ Q1rinlFoTaCccrPiPH7DleHdDQ+f+bJB2K7/lgItEWAbKtPnTUZjYAJtGT01TbAteDlT/W+v X-Google-Smtp-Source: AGHT+IGtaO4cduS9LqbYD7N2wW0RbnwutoxiCgXbiwwP9cJeWZOxqgW94Y6DCfsZqx7bmBT7QNjJL9nXeSC6 X-Received: by 2002:a17:903:8cc:b0:235:eb71:a398 with SMTP id d9443c01a7336-23e257a280fmr57366205ad.53.1752687249799; Wed, 16 Jul 2025 10:34:09 -0700 (PDT) Received: from postal.iol.unh.edu (postal.iol.unh.edu. [132.177.123.84]) by smtp-relay.gmail.com with ESMTPS id d9443c01a7336-23e25b286b3sm1010895ad.14.2025.07.16.10.34.09 (version=TLS1_2 cipher=ECDHE-ECDSA-AES128-GCM-SHA256 bits=128/128); Wed, 16 Jul 2025 10:34:09 -0700 (PDT) X-Relaying-Domain: iol.unh.edu Date: Wed, 16 Jul 2025 10:34:09 -0700 (PDT) Message-ID: <6877e291.170a0220.1fab11.5a0eSMTPIN_ADDED_MISSING@mx.google.com> Received: from [172.21.0.7] (unknown [172.18.0.240]) by postal.iol.unh.edu (Postfix) with ESMTP id DCCAB604D420; Wed, 16 Jul 2025 13:34:08 -0400 (EDT) Subject: |SUCCESS| pw155285-155287 [PATCH] [v5,3/3] doc: revise coding guidel From: dpdklab@iol.unh.edu To: Test Report Cc: dpdk-test-reports@iol.unh.edu In-Reply-To: <20250716135708.49233-3-dmarx@iol.unh.edu> References: <20250716135708.49233-3-dmarx@iol.unh.edu> Content-Type: text/plain X-BeenThere: test-report@dpdk.org X-Mailman-Version: 2.1.29 Precedence: list List-Id: automatic DPDK test reports List-Unsubscribe: , List-Archive: List-Post: List-Help: List-Subscribe: , Errors-To: test-report-bounces@dpdk.org Test-Label: iol-abi-testing Test-Status: SUCCESS http://dpdk.org/patch/155287 _Testing PASS_ Submitter: Dean Marx Date: Wednesday, July 16 2025 13:57:06 DPDK git baseline: Repo:dpdk Branch: master CommitID:9fe9c0b231c8da5435bfccb1963121b4277f961c 155285-155287 --> testing pass Upstream job id: Generic-DPDK-Compile-ABI#134550 Test environment and result as below: +-------------------------------+----------+ | Environment | abi_test | +===============================+==========+ | Debian GNU/Linux 12 | PASS | +-------------------------------+----------+ | CentOS Stream 10 | PASS | +-------------------------------+----------+ | Fedora Linux 40 | PASS | +-------------------------------+----------+ | CentOS Stream 9 | PASS | +-------------------------------+----------+ | Ubuntu 24.04 | PASS | +-------------------------------+----------+ | Red Hat Enterprise Linux 8.10 | PASS | +-------------------------------+----------+ | openSUSE Leap 15.6 | PASS | +-------------------------------+----------+ | Red Hat Enterprise Linux 9.5 | PASS | +-------------------------------+----------+ | Fedora Linux 41 | PASS | +-------------------------------+----------+ | Ubuntu 22.04 | PASS | +-------------------------------+----------+ Debian GNU/Linux 12 Kernel: 5.15 Compiler: gcc gcc (Debian 12.2.0-14+deb12u1) 12.2.0 CentOS Stream 10 Kernel: 5.15 Compiler: gcc gcc (GCC) 14.2.1 20250110 (Red Hat 14.2.1-8) Fedora Linux 40 Kernel: 5.15 Compiler: gcc gcc (GCC) 14.2.1 20240912 (Red Hat 14.2.1-3) CentOS Stream 9 Kernel: 5.15 Compiler: gcc gcc (GCC) 11.5.0 20240719 (Red Hat 11.5.0-7) Ubuntu 24.04 Kernel: 5.15 Compiler: gcc gcc (Ubuntu 13.3.0-6ubuntu2~24.04) 13.3.0 Red Hat Enterprise Linux 8.10 Kernel: 5.15 Compiler: gcc gcc (GCC) 8.5.0 20210514 (Red Hat 8.5.0-22) openSUSE Leap 15.6 Kernel: 5.15 Compiler: gcc gcc (SUSE Linux) 7.5.0 Red Hat Enterprise Linux 9.5 Kernel: 5.15 Compiler: gcc gcc (GCC) 11.5.0 20240719 (Red Hat 11.5.0-2) Fedora Linux 41 Kernel: 5.15 Compiler: clang gcc (GCC) 14.3.1 20250523 (Red Hat 14.3.1-1) Ubuntu 22.04 Kernel: 5.15 Compiler: gcc gcc (Ubuntu 11.4.0-1ubuntu1~22.04) 11.4.0 To view detailed results, visit: https://lab.dpdk.org/results/dashboard/patchsets/33670/ UNH-IOL DPDK Community Lab To manage your email subscriptions, visit: https://lab.dpdk.org/results/dashboard/preferences/subscriptions/