From mboxrd@z Thu Jan 1 00:00:00 1970 Return-Path: Received: from mails.dpdk.org (mails.dpdk.org [217.70.189.124]) by inbox.dpdk.org (Postfix) with ESMTP id D480346B8F for ; Wed, 16 Jul 2025 19:39:55 +0200 (CEST) Received: from mails.dpdk.org (localhost [127.0.0.1]) by mails.dpdk.org (Postfix) with ESMTP id CE170400D6; Wed, 16 Jul 2025 19:39:55 +0200 (CEST) Received: from mail-vk1-f225.google.com (mail-vk1-f225.google.com [209.85.221.225]) by mails.dpdk.org (Postfix) with ESMTP id AC2CE400D6 for ; Wed, 16 Jul 2025 19:39:54 +0200 (CEST) Received: by mail-vk1-f225.google.com with SMTP id 71dfb90a1353d-5347686c12cso71845e0c.0 for ; Wed, 16 Jul 2025 10:39:54 -0700 (PDT) DKIM-Signature: v=1; a=rsa-sha256; c=relaxed/relaxed; d=iol.unh.edu; s=unh-iol; t=1752687594; x=1753292394; darn=dpdk.org; h=references:in-reply-to:cc:to:from:subject:message-id:date:from:to :cc:subject:date:message-id:reply-to; bh=ihavRQ+gqZiaSU7Y+ayu8u7HnM3FPNYlr3QSt3Xbz5U=; b=LKHsoQfJg9yA4Ljq6lzlpLJ+uz2HbhHa1KUuUQsQAh8ofK7SIbrrck+6db1nzbUIRE xNOw3G8SqIbPG76YRs+14Eh00hgPbBcFokyXYmUjptoUPNNXpzgp7PVRJ5y9vRE5Hz8d hBvbteTWV/S5xANFa7EZLcE4ginK8Lud56gl4= X-Google-DKIM-Signature: v=1; a=rsa-sha256; c=relaxed/relaxed; d=1e100.net; s=20230601; t=1752687594; x=1753292394; h=references:in-reply-to:cc:to:from:subject:message-id:date :x-gm-message-state:from:to:cc:subject:date:message-id:reply-to; bh=ihavRQ+gqZiaSU7Y+ayu8u7HnM3FPNYlr3QSt3Xbz5U=; b=GS7koWTQLRTNKELKO/4ZtOBEq4jDgrlini+sX9nYl8SxtDxamR5LeZGzeGJ47YtzYs 5LyZ2PTlqhuHgtpS+4YbLWqpTIfXCCPJJtIdjB5DFahwW6Ih5WNO0VO7HFKt8ncdk9De j5/7hXdboUrORsW0BAZWKTFcZdoJ+zbFt9UqGJthzeubknUKIkG2/4N1mEvpkpIvFWbI N4xq/TR3ynT/2gLKw75KgPzQhF6aFK2tNmJPuTGwJgK/1GA2E9bWrIeY622Pvaw2vqpy PU0pC+/MV0uEJ0Y8GP6vUzLGGDH41Ahf5smu1KDC7SuYYbYo5MzT5JA0PFHsCQNSu4wN DjsA== X-Gm-Message-State: AOJu0Yx5iisyoo01Mh9ve88Rrws6ARXkvBOI1eXirJ6cv8SuOGynoDIm 4q+lowJ8+7Zgco4X4v4qbqtbNItGHXeld1fno3PDAilpRRXvzDwtM9gI/W5LR2wp3CyI/NpEx8h aN183ubTF2m6u0DaWzxH9EpuQZ1WJyoRcKQUliHbn0bOlMAdWrF5gx33X/MqT X-Gm-Gg: ASbGncvsvSCJPY51WJ8wxEEO+A511i6jsN3V+04I6bm3wQf2rXIu4G4PR+VVLdRAH+2 wc0h0xXLEYAlwSyAJfLKRAHTebCgdjMyXUKur9sX5hZvrWtXp9FD4eZKplLVE8CviBaZvb7FcEU mLh6/8lh9BA8XE5mWNhd7rfyctpfMpCOd/pcU5vg72db/InnkUWlbUyx9XWoD1nnfvVP9Y5jQhc Ivw444b/rmTO8ifM2GKiutMI4/MGzWY0xOalG7NPXjAfqQfASF4jsiZX0H5q/DxFg8zbxzmJrhq pQQpq71dX+B8X/dyFU2CaX2zsu7dblx1MxRVj6zaNRl0yBL/oA== X-Google-Smtp-Source: AGHT+IEPB44mOgb7AmW/QtDBDAhtkE1xEvr9T+ZAbholtrna/cybKimapXq8zt5nLM5GOAhFTHWOydkv+fgY X-Received: by 2002:a05:6122:1798:b0:535:e789:6ccc with SMTP id 71dfb90a1353d-5373e278f9cmr2788161e0c.3.1752687594074; Wed, 16 Jul 2025 10:39:54 -0700 (PDT) Received: from postal.iol.unh.edu (postal.iol.unh.edu. [2606:4100:3880:1234::84]) by smtp-relay.gmail.com with ESMTPS id 71dfb90a1353d-535e72780dbsm885124e0c.4.2025.07.16.10.39.54 (version=TLS1_2 cipher=ECDHE-ECDSA-AES128-GCM-SHA256 bits=128/128); Wed, 16 Jul 2025 10:39:54 -0700 (PDT) X-Relaying-Domain: iol.unh.edu Date: Wed, 16 Jul 2025 10:39:54 -0700 (PDT) Message-ID: <6877e3ea.050a0220.2f7948.f101SMTPIN_ADDED_MISSING@mx.google.com> Received: from [172.21.0.5] (unknown [172.18.0.240]) by postal.iol.unh.edu (Postfix) with ESMTP id B9AD0604D420; Wed, 16 Jul 2025 13:39:53 -0400 (EDT) Subject: |SUCCESS| pw155285-155287 [PATCH] [v5,3/3] doc: revise coding guidel From: dpdklab@iol.unh.edu To: Test Report Cc: dpdk-test-reports@iol.unh.edu In-Reply-To: <20250716135708.49233-3-dmarx@iol.unh.edu> References: <20250716135708.49233-3-dmarx@iol.unh.edu> Content-Type: text/plain X-BeenThere: test-report@dpdk.org X-Mailman-Version: 2.1.29 Precedence: list List-Id: automatic DPDK test reports List-Unsubscribe: , List-Archive: List-Post: List-Help: List-Subscribe: , Errors-To: test-report-bounces@dpdk.org Test-Label: iol-unit-amd64-testing Test-Status: SUCCESS http://dpdk.org/patch/155287 _Testing PASS_ Submitter: Dean Marx Date: Wednesday, July 16 2025 13:57:06 DPDK git baseline: Repo:dpdk Branch: master CommitID:9fe9c0b231c8da5435bfccb1963121b4277f961c 155285-155287 --> testing pass Upstream job id: Generic-Unit-Test-DPDK#355784 Test environment and result as below: +-------------------------------+----------------+ | Environment | dpdk_unit_test | +===============================+================+ | CentOS Stream 9 | PASS | +-------------------------------+----------------+ | CentOS Stream 10 | PASS | +-------------------------------+----------------+ | Fedora Linux 40 | PASS | +-------------------------------+----------------+ | Debian GNU/Linux 12 | PASS | +-------------------------------+----------------+ | Ubuntu 20.04 | PASS | +-------------------------------+----------------+ | Fedora Linux 41 | PASS | +-------------------------------+----------------+ | Red Hat Enterprise Linux 9.5 | PASS | +-------------------------------+----------------+ | Red Hat Enterprise Linux 8.10 | PASS | +-------------------------------+----------------+ | Ubuntu 24.04 | PASS | +-------------------------------+----------------+ | Ubuntu 22.04 | PASS | +-------------------------------+----------------+ | Windows Server 2022 | PASS | +-------------------------------+----------------+ CentOS Stream 9 Kernel: 5.15 Compiler: gcc gcc (GCC) 11.5.0 20240719 (Red Hat 11.5.0-7) CentOS Stream 10 Kernel: 5.15 Compiler: gcc gcc (GCC) 14.2.1 20250110 (Red Hat 14.2.1-8) Fedora Linux 40 Kernel: 5.15 Compiler: clang gcc (GCC) 14.2.1 20240912 (Red Hat 14.2.1-3) Debian GNU/Linux 12 Kernel: 5.15 Compiler: gcc gcc (Debian 12.2.0-14+deb12u1) 12.2.0 Ubuntu 20.04 Kernel: 5.15 Compiler: gcc gcc (Ubuntu 9.4.0-1ubuntu1~20.04.2) 9.4.0 Fedora Linux 41 Kernel: 5.15 Compiler: gcc gcc (GCC) 14.3.1 20250523 (Red Hat 14.3.1-1) Red Hat Enterprise Linux 9.5 Kernel: 5.15 Compiler: gcc gcc (GCC) 11.5.0 20240719 (Red Hat 11.5.0-2) Red Hat Enterprise Linux 8.10 Kernel: 5.15 Compiler: gcc gcc (GCC) 8.5.0 20210514 (Red Hat 8.5.0-22) Ubuntu 24.04 Kernel: 5.15 Compiler: gcc gcc (Ubuntu 13.3.0-6ubuntu2~24.04) 13.3.0 Ubuntu 22.04 Kernel: 5.15 Compiler: gcc gcc (Ubuntu 11.4.0-1ubuntu1~22.04) 11.4.0 Windows Server 2022 Kernel: 10.0.20348.2031 Compiler: clang 15.0.7, gcc 14.1.0 (MinGW), and MSVC VS 19.39.33521 To view detailed results, visit: https://lab.dpdk.org/results/dashboard/patchsets/33670/ UNH-IOL DPDK Community Lab To manage your email subscriptions, visit: https://lab.dpdk.org/results/dashboard/preferences/subscriptions/