From mboxrd@z Thu Jan 1 00:00:00 1970 Return-Path: Received: from mails.dpdk.org (mails.dpdk.org [217.70.189.124]) by inbox.dpdk.org (Postfix) with ESMTP id D3C3446B90 for ; Wed, 16 Jul 2025 20:13:50 +0200 (CEST) Received: from mails.dpdk.org (localhost [127.0.0.1]) by mails.dpdk.org (Postfix) with ESMTP id CCDEF400D6; Wed, 16 Jul 2025 20:13:50 +0200 (CEST) Received: from mail-ua1-f97.google.com (mail-ua1-f97.google.com [209.85.222.97]) by mails.dpdk.org (Postfix) with ESMTP id B4FEF400D6 for ; Wed, 16 Jul 2025 20:13:48 +0200 (CEST) Received: by mail-ua1-f97.google.com with SMTP id a1e0cc1a2514c-884f2b3bc2eso98480241.2 for ; Wed, 16 Jul 2025 11:13:48 -0700 (PDT) DKIM-Signature: v=1; a=rsa-sha256; c=relaxed/relaxed; d=iol.unh.edu; s=unh-iol; t=1752689628; x=1753294428; darn=dpdk.org; h=references:in-reply-to:cc:to:from:subject:message-id:date:from:to :cc:subject:date:message-id:reply-to; bh=/9M0U81QUt8YMTYf3HIoO+RM+ABXyA3rOuNXlOw8iiQ=; b=U+MhD5FnAE3+aWxkhRStxyYT/627cO37jagPkpV7cgrjOXo9BqHp3VccfxnfysI81t jrfU8BoQr/Jo7rNpFp/u+puPpdelB6Zr3LsKBLS08qbdFjsVVP/Wdnpaz+Ov/KTjlQpC bHIp6NEJRLZvw0KRBz8ZxXs65yw8NKXSE6VMY= X-Google-DKIM-Signature: v=1; a=rsa-sha256; c=relaxed/relaxed; d=1e100.net; s=20230601; t=1752689628; x=1753294428; h=references:in-reply-to:cc:to:from:subject:message-id:date :x-gm-message-state:from:to:cc:subject:date:message-id:reply-to; bh=/9M0U81QUt8YMTYf3HIoO+RM+ABXyA3rOuNXlOw8iiQ=; b=MPylCKK05MmvnSFO1FuiqGyymLiHqmxkh725gT839n8irj1AFpmjasyZrOci34e+Sl DBfeUz25R/8BtANErmNClVFAuuR6c5KQOf3og+fdivklAV+TP5JQmAJO23B0IA+M/gA1 F7fWTAzeZXZZvGrWLFciKKM9ZX8POCnuB8qT1zmK5LixLg+qYBSyYjTIvAlRfA5VawAX Q7kUqCjOT1bzfUmZiZHsgL9NOAMTKiqWtZkmhgU61m7zZO5hzDumNR8rVYizS0wUvDD4 Gk5wY1hAC1dKDWK5pQAWgEM4dmoCxQIPXl4TGHWgtnD68SguCE4MaHXRWR9+V8HAwfZv u5iQ== X-Gm-Message-State: AOJu0YzQftDdDpE9w7dj1wKvYmWVS0md+bz/WRBB9tbiDBozUHrgjgSK FUy1TOUwU7rXabrjLJRFKbEa3jVxRzN2hazoV4e6Jksr83Ujcd9md4pf5TkVMznqx6t8zdHQgiR D+H5SPmU8ceSmf0Rrln11BkVunXeFGPyoWL9P5xNt69bZ X-Gm-Gg: ASbGncuIqbRqQOVgMp75VDpInwQWK7to214exJhUOU4mO1qVjm3b+VEStbot+ZNMm98 aq7ERFw80leyfv1YDiTARCAUs44aT5W6dfG2g54sF/ezKruYzwxs5ZDpEGPa2vUFvM/BU0Avz7F jzeuxqHF5GK41gxj8B5tuvmBIGY1IYemc3co+3T4a8rXPcNgvF3hcOa7nwfJuJEnWomQo5bbp2e NJ+JZy0Kj1AsRIYI4GlLwoLrluS0cTxZ1pka9mAERFlbO7v7QbckRQSeIBg+CvNq56mwe0Styse hFz0yDbiOXvRaT3pIJKSvlZo221kucG2GuT2Ei66g38jmFydNP+YgP/YDpBc0CYJYylwc92h X-Google-Smtp-Source: AGHT+IGfU7v7AMWz3W7mR61OHh3CfE4WwUljuSe+0vYd+jeLW1Ya2idhScb4+1LfYRabmrSe2znoX8rDyONq X-Received: by 2002:a05:6102:8002:b0:4e2:ecd8:a27 with SMTP id ada2fe7eead31-4f955a7df84mr2029304137.4.1752689628015; Wed, 16 Jul 2025 11:13:48 -0700 (PDT) Received: from postal.iol.unh.edu (postal.iol.unh.edu. [132.177.123.84]) by smtp-relay.gmail.com with ESMTPS id ada2fe7eead31-4f62fb0d0f8sm162475137.4.2025.07.16.11.13.47 (version=TLS1_2 cipher=ECDHE-ECDSA-AES128-GCM-SHA256 bits=128/128); Wed, 16 Jul 2025 11:13:48 -0700 (PDT) X-Relaying-Domain: iol.unh.edu Date: Wed, 16 Jul 2025 11:13:48 -0700 (PDT) Message-ID: <6877ebdc.050a0220.21b8d7.7533SMTPIN_ADDED_MISSING@mx.google.com> Received: from [172.21.0.6] (unknown [172.18.0.240]) by postal.iol.unh.edu (Postfix) with ESMTP id 9413D6050A61; Wed, 16 Jul 2025 14:13:47 -0400 (EDT) Subject: |SUCCESS| pw155285-155287 [PATCH] [v5,3/3] doc: revise coding guidel From: dpdklab@iol.unh.edu To: Test Report Cc: dpdk-test-reports@iol.unh.edu In-Reply-To: <20250716135708.49233-3-dmarx@iol.unh.edu> References: <20250716135708.49233-3-dmarx@iol.unh.edu> Content-Type: text/plain X-BeenThere: test-report@dpdk.org X-Mailman-Version: 2.1.29 Precedence: list List-Id: automatic DPDK test reports List-Unsubscribe: , List-Archive: List-Post: List-Help: List-Subscribe: , Errors-To: test-report-bounces@dpdk.org Test-Label: iol-compile-amd64-testing Test-Status: SUCCESS http://dpdk.org/patch/155287 _Testing PASS_ Submitter: Dean Marx Date: Wednesday, July 16 2025 13:57:06 DPDK git baseline: Repo:dpdk Branch: master CommitID:9fe9c0b231c8da5435bfccb1963121b4277f961c 155285-155287 --> testing pass Upstream job id: Generic-DPDK-Compile-Meson#409188 Test environment and result as below: +-------------------------------+--------------------+-------------------+------------------+-------------------------+-------------------+----------------------+ | Environment | dpdk_meson_compile | dpdk_compile_spdk | dpdk_compile_ovs | dpdk_llvm_clang_compile | dpdk_msvc_compile | dpdk_mingw64_compile | +===============================+====================+===================+==================+=========================+===================+======================+ | CentOS Stream 9 | PASS | PASS | SKIPPED | SKIPPED | SKIPPED | SKIPPED | +-------------------------------+--------------------+-------------------+------------------+-------------------------+-------------------+----------------------+ | CentOS Stream 10 | PASS | SKIPPED | SKIPPED | SKIPPED | SKIPPED | SKIPPED | +-------------------------------+--------------------+-------------------+------------------+-------------------------+-------------------+----------------------+ | Debian GNU/Linux 12 | PASS | PASS | SKIPPED | SKIPPED | SKIPPED | SKIPPED | +-------------------------------+--------------------+-------------------+------------------+-------------------------+-------------------+----------------------+ | Fedora Linux 40 | PASS | PASS | SKIPPED | SKIPPED | SKIPPED | SKIPPED | +-------------------------------+--------------------+-------------------+------------------+-------------------------+-------------------+----------------------+ | Fedora Linux 41 | PASS | PASS | PASS | SKIPPED | SKIPPED | SKIPPED | +-------------------------------+--------------------+-------------------+------------------+-------------------------+-------------------+----------------------+ | openSUSE Leap 15.6 | PASS | SKIPPED | SKIPPED | SKIPPED | SKIPPED | SKIPPED | +-------------------------------+--------------------+-------------------+------------------+-------------------------+-------------------+----------------------+ | Red Hat Enterprise Linux 8.10 | PASS | SKIPPED | SKIPPED | SKIPPED | SKIPPED | SKIPPED | +-------------------------------+--------------------+-------------------+------------------+-------------------------+-------------------+----------------------+ | Ubuntu 22.04 | PASS | PASS | SKIPPED | SKIPPED | SKIPPED | SKIPPED | +-------------------------------+--------------------+-------------------+------------------+-------------------------+-------------------+----------------------+ | Red Hat Enterprise Linux 9.5 | PASS | SKIPPED | SKIPPED | SKIPPED | SKIPPED | SKIPPED | +-------------------------------+--------------------+-------------------+------------------+-------------------------+-------------------+----------------------+ | Ubuntu 20.04 | PASS | SKIPPED | SKIPPED | SKIPPED | SKIPPED | SKIPPED | +-------------------------------+--------------------+-------------------+------------------+-------------------------+-------------------+----------------------+ | Ubuntu 24.04 | PASS | PASS | PASS | SKIPPED | SKIPPED | SKIPPED | +-------------------------------+--------------------+-------------------+------------------+-------------------------+-------------------+----------------------+ | Alpine Linux 3.22.0 | PASS | SKIPPED | SKIPPED | SKIPPED | SKIPPED | SKIPPED | +-------------------------------+--------------------+-------------------+------------------+-------------------------+-------------------+----------------------+ | FreeBSD 14.2 | PASS | SKIPPED | SKIPPED | SKIPPED | SKIPPED | SKIPPED | +-------------------------------+--------------------+-------------------+------------------+-------------------------+-------------------+----------------------+ | Windows Server 2022 | SKIPPED | SKIPPED | SKIPPED | PASS | PASS | PASS | +-------------------------------+--------------------+-------------------+------------------+-------------------------+-------------------+----------------------+ CentOS Stream 9 Kernel: 5.15 Compiler: gcc gcc (GCC) 11.5.0 20240719 (Red Hat 11.5.0-7) CentOS Stream 10 Kernel: 5.15 Compiler: gcc gcc (GCC) 14.2.1 20250110 (Red Hat 14.2.1-8) Debian GNU/Linux 12 Kernel: 5.15 Compiler: gcc gcc (Debian 12.2.0-14+deb12u1) 12.2.0 Fedora Linux 40 Kernel: 5.15 Compiler: clang gcc (GCC) 14.2.1 20240912 (Red Hat 14.2.1-3) Fedora Linux 41 Kernel: 5.15 Compiler: clang gcc (GCC) 14.3.1 20250523 (Red Hat 14.3.1-1) openSUSE Leap 15.6 Kernel: 5.15 Compiler: gcc gcc (SUSE Linux) 7.5.0 Red Hat Enterprise Linux 8.10 Kernel: 5.15 Compiler: gcc gcc (GCC) 8.5.0 20210514 (Red Hat 8.5.0-22) Ubuntu 22.04 Kernel: 5.15 Compiler: gcc gcc (Ubuntu 11.4.0-1ubuntu1~22.04) 11.4.0 Red Hat Enterprise Linux 9.5 Kernel: 5.15 Compiler: gcc gcc (GCC) 11.5.0 20240719 (Red Hat 11.5.0-2) Ubuntu 20.04 Kernel: 4.19 Compiler: gcc gcc (Ubuntu 9.4.0-1ubuntu1~20.04.2) 9.4.0 Ubuntu 24.04 Kernel: 5.15 Compiler: gcc gcc (Ubuntu 13.3.0-6ubuntu2~24.04) 13.3.0 Alpine Linux 3.22.0 Kernel: 5.15 Compiler: gcc gcc (Alpine 14.2.0) 14.2.0 FreeBSD 14.2 Kernel: 14.2-RELEASE Compiler: clang 18.1.6 Windows Server 2022 Kernel: 10.0.20348.2031 Compiler: clang 15.0.7, gcc 14.1.0 (MinGW), and MSVC VS 19.39.33521 To view detailed results, visit: https://lab.dpdk.org/results/dashboard/patchsets/33670/ UNH-IOL DPDK Community Lab To manage your email subscriptions, visit: https://lab.dpdk.org/results/dashboard/preferences/subscriptions/