From mboxrd@z Thu Jan 1 00:00:00 1970 Return-Path: Received: from mails.dpdk.org (mails.dpdk.org [217.70.189.124]) by inbox.dpdk.org (Postfix) with ESMTP id 4C36E46B90 for ; Wed, 16 Jul 2025 20:17:40 +0200 (CEST) Received: from mails.dpdk.org (localhost [127.0.0.1]) by mails.dpdk.org (Postfix) with ESMTP id 47D30400D6; Wed, 16 Jul 2025 20:17:40 +0200 (CEST) Received: from mail-qt1-f226.google.com (mail-qt1-f226.google.com [209.85.160.226]) by mails.dpdk.org (Postfix) with ESMTP id 9CC8C400D6 for ; Wed, 16 Jul 2025 20:17:39 +0200 (CEST) Received: by mail-qt1-f226.google.com with SMTP id d75a77b69052e-4ab8e2c85d7so2272711cf.2 for ; Wed, 16 Jul 2025 11:17:39 -0700 (PDT) DKIM-Signature: v=1; a=rsa-sha256; c=relaxed/relaxed; d=iol.unh.edu; s=unh-iol; t=1752689859; x=1753294659; darn=dpdk.org; h=references:in-reply-to:cc:to:from:subject:message-id:date:from:to :cc:subject:date:message-id:reply-to; bh=rrUJsrUDHJ6wPVuqeVwVqzWj1QdM+gLSSMP1dT30NLE=; b=L7iI/d4+jqzFFEyODrdH44D6GrjV4vYnwB+s+qp9niG2AAZx3WGi+KLO2lOjqqFqzJ YKARDjlGnp9RbRwSF2YOAOujUAbDXBrSAvCNBBm1FXa/XdzdhDuor2u/7GbNcHoLtATv 2GhhaUdXt/PseEnFJjYKQSFTwsGtSoLOPMds4= X-Google-DKIM-Signature: v=1; a=rsa-sha256; c=relaxed/relaxed; d=1e100.net; s=20230601; t=1752689859; x=1753294659; h=references:in-reply-to:cc:to:from:subject:message-id:date :x-gm-message-state:from:to:cc:subject:date:message-id:reply-to; bh=rrUJsrUDHJ6wPVuqeVwVqzWj1QdM+gLSSMP1dT30NLE=; b=l+tESokzN7yIHAlbP2xffrqcuhNQa6T0QLM4dbGYe53J+lH00M48+9LJf9/jRkXr4+ NVO2SNhmtvKV+l1QuGI7HlHg/KvdNWG+nX227jSP3ASBbL/HoudQ6VERAcrJPmkoeEDw r58nXVqbmrV6SEk5tTykmmfnSHfkN966l6HEOHVvoXrvGVVZlao+2ylERqvEgZQxcHQ+ kOs0Z7x2IYrmmsO/4RrpnIc4oN7rV/X2LX79oHKRZOyhrzA4Q/vYpoE3iO5EFGOI+Ujo WFKzVOKZdKEF65wfTwPK7mBnfa2O5JWCBtAn6jdfHml+4CU2ttU5uJYw2VufxFd+RM99 P9QQ== X-Gm-Message-State: AOJu0YyMVkmUXkjIOnvQB+jkBGnNbC91Dwt9Opoya8YCPjzu/invtEqO RDMPD+N30aIbXW9y94eja34rcvwA81DC2auTtlQ3/3v7oBqzfBV7tp0z6DefmxjJPlEKa0Xt0uP wxgxHOTw4bPluZJ5AgaM3n0mChj+AywnKdrPxE3UPeOF/ X-Gm-Gg: ASbGnctuNYwtboyG4TgMx4gHxk6F6Bng1PY4N4a9M4eWtbMgMvprAlSsiz72TVvGbcB 3S1+fwi6NpVWGNYXzXTVbjBmK4rymp6Oyspd8MtQ+JF5R2CgUYGvjpmtqZ6bzsJtSCy3moPBlrb 3UUP7FK86b73nZIRaVS9D7WZJDA07E6Vk+sx10W3M/XKfmzcWMSySR7cBRZzdeBpX3tJbya3NFH PC2wQpvVbcDLKq9VHtGGruD6ym6s7O1Q3ScmhnAjd4gDBA3ouI6O+sM8KLu7cQCVvFgOT22NoPz +r4MBX5Q2b/gs8SSwyRtr9FruNeS5Hx2OX5wFZ4nM3X0xlSM8ROjbU+ASgVsBfaPovsi95vU X-Google-Smtp-Source: AGHT+IHZLqKWabqiB4SYxBKZQTyywFoAZjkyNmQQCCly6d7I/d+h52ZuxPa3vGJfouhIRGtwkWQYpdZfvnma X-Received: by 2002:a05:622a:4d4a:b0:4ab:77a3:2f64 with SMTP id d75a77b69052e-4ab939d91dcmr48419411cf.0.1752689859000; Wed, 16 Jul 2025 11:17:39 -0700 (PDT) Received: from postal.iol.unh.edu (postal.iol.unh.edu. [132.177.123.84]) by smtp-relay.gmail.com with ESMTPS id 6a1803df08f44-704979a878dsm7603516d6.22.2025.07.16.11.17.38 (version=TLS1_2 cipher=ECDHE-ECDSA-AES128-GCM-SHA256 bits=128/128); Wed, 16 Jul 2025 11:17:38 -0700 (PDT) X-Relaying-Domain: iol.unh.edu Date: Wed, 16 Jul 2025 11:17:38 -0700 (PDT) Message-ID: <6877ecc2.050a0220.388f92.8141SMTPIN_ADDED_MISSING@mx.google.com> Received: from [172.21.0.6] (unknown [172.18.0.240]) by postal.iol.unh.edu (Postfix) with ESMTP id A634A6050A61; Wed, 16 Jul 2025 14:17:38 -0400 (EDT) Subject: |SUCCESS| pw155288 [PATCH] mailmap: fix entries with many aliases From: dpdklab@iol.unh.edu To: Test Report Cc: dpdk-test-reports@iol.unh.edu In-Reply-To: <20250716144203.1994070-1-david.marchand@redhat.com> References: <20250716144203.1994070-1-david.marchand@redhat.com> Content-Type: text/plain X-BeenThere: test-report@dpdk.org X-Mailman-Version: 2.1.29 Precedence: list List-Id: automatic DPDK test reports List-Unsubscribe: , List-Archive: List-Post: List-Help: List-Subscribe: , Errors-To: test-report-bounces@dpdk.org Test-Label: iol-unit-amd64-testing Test-Status: SUCCESS http://dpdk.org/patch/155288 _Testing PASS_ Submitter: David Marchand Date: Wednesday, July 16 2025 14:41:59 DPDK git baseline: Repo:dpdk Branch: master CommitID:9fe9c0b231c8da5435bfccb1963121b4277f961c 155288 --> testing pass Upstream job id: Generic-Unit-Test-DPDK#355794 Test environment and result as below: +-------------------------------+----------------+ | Environment | dpdk_unit_test | +===============================+================+ | Fedora Linux 40 | PASS | +-------------------------------+----------------+ | Ubuntu 20.04 | PASS | +-------------------------------+----------------+ | Ubuntu 22.04 | PASS | +-------------------------------+----------------+ | Red Hat Enterprise Linux 8.10 | PASS | +-------------------------------+----------------+ | Fedora Linux 41 | PASS | +-------------------------------+----------------+ | Red Hat Enterprise Linux 9.5 | PASS | +-------------------------------+----------------+ | Debian GNU/Linux 12 | PASS | +-------------------------------+----------------+ | CentOS Stream 9 | PASS | +-------------------------------+----------------+ | CentOS Stream 10 | PASS | +-------------------------------+----------------+ | Ubuntu 24.04 | PASS | +-------------------------------+----------------+ | Windows Server 2022 | PASS | +-------------------------------+----------------+ Fedora Linux 40 Kernel: 5.15 Compiler: clang gcc (GCC) 14.2.1 20240912 (Red Hat 14.2.1-3) Ubuntu 20.04 Kernel: 5.15 Compiler: gcc gcc (Ubuntu 9.4.0-1ubuntu1~20.04.2) 9.4.0 Ubuntu 22.04 Kernel: 5.15 Compiler: gcc gcc (Ubuntu 11.4.0-1ubuntu1~22.04) 11.4.0 Red Hat Enterprise Linux 8.10 Kernel: 5.15 Compiler: gcc gcc (GCC) 8.5.0 20210514 (Red Hat 8.5.0-22) Fedora Linux 41 Kernel: 5.15 Compiler: gcc gcc (GCC) 14.3.1 20250523 (Red Hat 14.3.1-1) Red Hat Enterprise Linux 9.5 Kernel: 5.15 Compiler: gcc gcc (GCC) 11.5.0 20240719 (Red Hat 11.5.0-2) Debian GNU/Linux 12 Kernel: 5.15 Compiler: gcc gcc (Debian 12.2.0-14+deb12u1) 12.2.0 CentOS Stream 9 Kernel: 5.15 Compiler: gcc gcc (GCC) 11.5.0 20240719 (Red Hat 11.5.0-7) CentOS Stream 10 Kernel: 5.15 Compiler: gcc gcc (GCC) 14.2.1 20250110 (Red Hat 14.2.1-8) Ubuntu 24.04 Kernel: 5.15 Compiler: gcc gcc (Ubuntu 13.3.0-6ubuntu2~24.04) 13.3.0 Windows Server 2022 Kernel: 10.0.20348.2031 Compiler: clang 15.0.7, gcc 14.1.0 (MinGW), and MSVC VS 19.39.33521 To view detailed results, visit: https://lab.dpdk.org/results/dashboard/patchsets/33671/ UNH-IOL DPDK Community Lab To manage your email subscriptions, visit: https://lab.dpdk.org/results/dashboard/preferences/subscriptions/