From mboxrd@z Thu Jan 1 00:00:00 1970 Return-Path: Received: from mails.dpdk.org (mails.dpdk.org [217.70.189.124]) by inbox.dpdk.org (Postfix) with ESMTP id A8E8B46B90 for ; Wed, 16 Jul 2025 20:21:39 +0200 (CEST) Received: from mails.dpdk.org (localhost [127.0.0.1]) by mails.dpdk.org (Postfix) with ESMTP id A4627400D6; Wed, 16 Jul 2025 20:21:39 +0200 (CEST) Received: from mail-oa1-f97.google.com (mail-oa1-f97.google.com [209.85.160.97]) by mails.dpdk.org (Postfix) with ESMTP id 9E602400D6 for ; Wed, 16 Jul 2025 20:21:38 +0200 (CEST) Received: by mail-oa1-f97.google.com with SMTP id 586e51a60fabf-2ea34731c5dso159688fac.0 for ; Wed, 16 Jul 2025 11:21:38 -0700 (PDT) DKIM-Signature: v=1; a=rsa-sha256; c=relaxed/relaxed; d=iol.unh.edu; s=unh-iol; t=1752690098; x=1753294898; darn=dpdk.org; h=references:in-reply-to:cc:to:from:subject:message-id:date:from:to :cc:subject:date:message-id:reply-to; bh=q8Q8+1ds+bk8Ya9FDY29fnxIg/a+KSBcq68kftRt914=; b=FiPKFyNbSRTKQ1x3MaYA51Bv07E1oEzlUUAMY1311DYjMO6X6k75rDXAY1RD4F5sLs GCObrsH2hs07a5PqRNGcAtjITgFiYRNcNIx3X+WD4or97umf6DWjwpKBhNOmXubfuTvm hTzDKfzaodRQPTckoJiGsErhtcoZEkophn6hM= X-Google-DKIM-Signature: v=1; a=rsa-sha256; c=relaxed/relaxed; d=1e100.net; s=20230601; t=1752690098; x=1753294898; h=references:in-reply-to:cc:to:from:subject:message-id:date :x-gm-message-state:from:to:cc:subject:date:message-id:reply-to; bh=q8Q8+1ds+bk8Ya9FDY29fnxIg/a+KSBcq68kftRt914=; b=eiPAsR8zFNAq7ctj5V4U02o5GnNKEHBj7gTUUwAphbNpMN9QcSRyxErDssWHg1476A a4XkuKMqHiZ5jTGHgJDjnuHfeUX4mYVs/o9iiY5LGEKwYEO/Ne2HsP7uzfkgigQC1KGy beqcw9dW+lyESH7K1gLbaxX4dRX8L5KNDIXmSR/i+PCr/Nafxa0DrIC477kfk3mYXj7+ iAK5C1b7y84NKIiAiJgE3vG1ODmBQZ9ptYHvfoDcIAMlbdn84QBpPLv8+Zu3QSfT3g/L biE0qKroga5qou3qJk2wO9eWH2vlwe5K1lAJh/TSoVq3euZJ8Gj20LvWjvBsiqte6+38 YMWg== X-Gm-Message-State: AOJu0YzORXTs4fzEBmTB4oqZ53/rYMoFE29gHdfKlfQGj469pL92vTAX VLZRtoiZc50OuPIKRxbTNjaUPcVTgus1MckL3SRHDjoET7NVxhYaMDplGqXPXSDew8Z5ukP1lRY UVThGfqHNiN2TXNVqcmgIRG3pxa18+g297Rkj1yfyWVX/ X-Gm-Gg: ASbGncvCjhtdxp7Ma+OVSQNviNymgXlQR+fhdHLFLTVex4krDqpV+Ki8iNTzbSAXvNg 0l402QazhNLFxUpF7phg3uTlotXxS4YcV5yv8JcJTe2jg0KXz+R6qqFka2IqVL31qwHt40c3dF1 nI1nC66/K786jp3UlWWEoy13orKa1E7EcFLw92+4BSv2SzHS9rKtqcNHhpUt+mMIsloKyG7o19p gyP78Jxm+pveuVKkNqb3PP/pMFv9atfplmNwxgJwseG/esPQcSwPlBB0aTkTb5Tn6CuaZmiR8ti +0GywWxExXD+pPk0Iqyc7co9jk/yESR+jG4VDduY29RL6zXHDhrzUjsrDSlwRhgERVL9CICb X-Google-Smtp-Source: AGHT+IFb4gQxz3YOP4cctnxOtVT6jK8Rgqi2I4sg3eO+HqlKRiHrM5oYNNJwk1WiG54EjorLQqmQ7Cc/4AMp X-Received: by 2002:a05:6870:170f:b0:2ff:ab94:a16a with SMTP id 586e51a60fabf-2ffb244fca2mr2740187fac.24.1752690097872; Wed, 16 Jul 2025 11:21:37 -0700 (PDT) Received: from postal.iol.unh.edu (postal.iol.unh.edu. [132.177.123.84]) by smtp-relay.gmail.com with ESMTPS id 586e51a60fabf-2ff8eafeeaesm349003fac.21.2025.07.16.11.21.37 (version=TLS1_2 cipher=ECDHE-ECDSA-AES128-GCM-SHA256 bits=128/128); Wed, 16 Jul 2025 11:21:37 -0700 (PDT) X-Relaying-Domain: iol.unh.edu Date: Wed, 16 Jul 2025 11:21:37 -0700 (PDT) Message-ID: <6877edb1.050a0220.39423d.2bb6SMTPIN_ADDED_MISSING@mx.google.com> Received: from [172.21.0.6] (unknown [172.18.0.240]) by postal.iol.unh.edu (Postfix) with ESMTP id 57F456050A61; Wed, 16 Jul 2025 14:21:37 -0400 (EDT) Subject: |SUCCESS| pw155262 [PATCH] net/crc: reduce usage of static arrays in From: dpdklab@iol.unh.edu To: Test Report Cc: dpdk-test-reports@iol.unh.edu In-Reply-To: <20250716103439.831760-1-16567adigashreesh@gmail.com> References: <20250716103439.831760-1-16567adigashreesh@gmail.com> Content-Type: text/plain X-BeenThere: test-report@dpdk.org X-Mailman-Version: 2.1.29 Precedence: list List-Id: automatic DPDK test reports List-Unsubscribe: , List-Archive: List-Post: List-Help: List-Subscribe: , Errors-To: test-report-bounces@dpdk.org Test-Label: iol-compile-arm64-testing Test-Status: SUCCESS http://dpdk.org/patch/155262 _Testing PASS_ Submitter: Shreesh Adiga <16567adigashreesh@gmail.com> Date: Wednesday, July 16 2025 10:34:39 DPDK git baseline: Repo:dpdk Branch: master CommitID:9fe9c0b231c8da5435bfccb1963121b4277f961c 155262 --> testing pass Upstream job id: Generic-DPDK-Compile-Meson#409135 Test environment and result as below: +------------------------------+--------------------+ | Environment | dpdk_meson_compile | +==============================+====================+ | Red Hat Enterprise Linux 9.5 | PASS | +------------------------------+--------------------+ | Ubuntu 20.04 | PASS | +------------------------------+--------------------+ | Debian GNU/Linux 12 | PASS | +------------------------------+--------------------+ | Fedora Linux 40 | PASS | +------------------------------+--------------------+ | Fedora Linux 41 | PASS | +------------------------------+--------------------+ | Ubuntu 24.04 | PASS | +------------------------------+--------------------+ | Ubuntu 22.04 | PASS | +------------------------------+--------------------+ | CentOS Stream 10 | PASS | +------------------------------+--------------------+ | CentOS Stream 9 | PASS | +------------------------------+--------------------+ Red Hat Enterprise Linux 9.5 Kernel: 5.4 Compiler: gcc gcc (GCC) 11.5.0 20240719 (Red Hat 11.5.0-2) Ubuntu 20.04 Kernel: 5.4 Compiler: gcc gcc (Ubuntu 9.4.0-1ubuntu1~20.04.2) 9.4.0 Debian GNU/Linux 12 Kernel: 5.4 Compiler: gcc gcc (Debian 12.2.0-14+deb12u1) 12.2.0 Fedora Linux 40 Kernel: 5.4 Compiler: clang gcc (GCC) 14.2.1 20240912 (Red Hat 14.2.1-3) Fedora Linux 41 Kernel: 5.4 Compiler: clang gcc (GCC) 14.3.1 20250523 (Red Hat 14.3.1-1) Ubuntu 24.04 Kernel: 5.4 Compiler: gcc gcc (Ubuntu 13.3.0-6ubuntu2~24.04) 13.3.0 Ubuntu 22.04 Kernel: 5.4 Compiler: gcc gcc (Ubuntu 11.4.0-1ubuntu1~22.04) 11.4.0 CentOS Stream 10 Kernel: 5.4 Compiler: gcc gcc (GCC) 14.2.1 20250110 (Red Hat 14.2.1-8) CentOS Stream 9 Kernel: 5.4 Compiler: gcc gcc (GCC) 11.5.0 20240719 (Red Hat 11.5.0-7) To view detailed results, visit: https://lab.dpdk.org/results/dashboard/patchsets/33668/ UNH-IOL DPDK Community Lab To manage your email subscriptions, visit: https://lab.dpdk.org/results/dashboard/preferences/subscriptions/