From mboxrd@z Thu Jan 1 00:00:00 1970 Return-Path: Received: from mails.dpdk.org (mails.dpdk.org [217.70.189.124]) by inbox.dpdk.org (Postfix) with ESMTP id C117A46B90 for ; Wed, 16 Jul 2025 20:22:11 +0200 (CEST) Received: from mails.dpdk.org (localhost [127.0.0.1]) by mails.dpdk.org (Postfix) with ESMTP id BCADD400D6; Wed, 16 Jul 2025 20:22:11 +0200 (CEST) Received: from mail-pl1-f226.google.com (mail-pl1-f226.google.com [209.85.214.226]) by mails.dpdk.org (Postfix) with ESMTP id B70E9400D6 for ; Wed, 16 Jul 2025 20:22:10 +0200 (CEST) Received: by mail-pl1-f226.google.com with SMTP id d9443c01a7336-234f17910d8so919705ad.3 for ; Wed, 16 Jul 2025 11:22:10 -0700 (PDT) DKIM-Signature: v=1; a=rsa-sha256; c=relaxed/relaxed; d=iol.unh.edu; s=unh-iol; t=1752690130; x=1753294930; darn=dpdk.org; h=references:in-reply-to:cc:to:from:subject:message-id:date:from:to :cc:subject:date:message-id:reply-to; bh=8wLB0ezSoUpk6Ksz9G1W2s75gzOr3mfAkwWIIVvkEWc=; b=fEBiJ3t/dPWx2yrGLjEELF2K0DrJBM8NxxIFSjRbXb3CzU8/FlP74F8mq+ogWTjOhH QKp7K0745/fO8yC0If4SzgzRMq+VxCwKi9RvMBV0p7ipCfFvLkiFJMvd9yyJyckcQtw4 TOuM6B+KDF2PZtuUEZuDsiw2NhU/zy/9oW/L8= X-Google-DKIM-Signature: v=1; a=rsa-sha256; c=relaxed/relaxed; d=1e100.net; s=20230601; t=1752690130; x=1753294930; h=references:in-reply-to:cc:to:from:subject:message-id:date :x-gm-message-state:from:to:cc:subject:date:message-id:reply-to; bh=8wLB0ezSoUpk6Ksz9G1W2s75gzOr3mfAkwWIIVvkEWc=; b=VbMfpYmC+RRN7e1SUfs9YIm9Zd/3ZsgOJc3D4MejqPNqVWqZyexRF8HNcBht/CHffF /x+cHsdDVptZ1gjQ+7ie7XAD/n7FWHMGFj/YkI//l2I6Pz6SEPddlw0LdrYkktRIrQLM bwIe/ZeghBmI67N/DyBWKH6cJx+96VoV8v9rBhQ00tdcnxX/diqW/i1hCVd/OtlWuY2G SeW6nCIzzYVa7lV/YtmpmKhpad7JDNzsYQIxB1NE0IMab+mQf7DqEA7WHIdp1oitzM8Y +7yHNJFGoFd0f5mKYofGTYrb9j8QLlCa6Jq1J47dx1QT3ddGaSGv5UuUIx5ROvQK3yDg APZg== X-Gm-Message-State: AOJu0YwYBwdZ90uWkqeMR5qGZkxzyDkWlzjPp6ThuvdGvjI265nTyE9J XXl/2zON+ZDER2HCP1/moOmx613lx7bnT5UCknCrZsMQpEYl/d35XnbiDjU7zna0rmnmet1otJq Sl4fRDN1438VhON8EnB3UH2MQastwua/fxtqLhnaINJjonAf0te+C5DM4/nIT X-Gm-Gg: ASbGncuDni29AmtQxZJvcn8H4DGzBrhP6oqFJH9fwXAhfau56ns8QeG8/lTwQsT6s29 W+5fx7YveG4lVDY2TVTzF1fvCXEBgf+yMg8m0YMajQPjOxTvf5di2a2dp6nWx3JkpXUiA5GjDMy aMcga2xTM1/M4BTPuMwoTuzbf83rORSlgk4/tefWUdujbZ/cn8Q5nIR06YsV0vUlX9AFkiMNrZG k8IswmeCk3itxc4zkjoJjCiBuTQcuL47T6twgsAMeqFif/gNqcKM3+VhoqEao7xGwrXmkEeRmLc xsnadDwiGQ90ip2uoXYPTgvo/qa25o2oYyWJB4UyobWn/gYa4Q== X-Google-Smtp-Source: AGHT+IHhmPAkXejgV0UFSto/+9ssjFj+FI2i029p7HBwbLbpR3U5O9iwqyl8M8A5vg2bCdVjbBCn20/sZF6B X-Received: by 2002:a17:903:1b0f:b0:23d:eb0f:f44 with SMTP id d9443c01a7336-23e24ebe611mr55665985ad.8.1752690129820; Wed, 16 Jul 2025 11:22:09 -0700 (PDT) Received: from postal.iol.unh.edu (postal.iol.unh.edu. [2606:4100:3880:1234::84]) by smtp-relay.gmail.com with ESMTPS id d9443c01a7336-23de432dd22sm7694345ad.89.2025.07.16.11.22.09 (version=TLS1_2 cipher=ECDHE-ECDSA-AES128-GCM-SHA256 bits=128/128); Wed, 16 Jul 2025 11:22:09 -0700 (PDT) X-Relaying-Domain: iol.unh.edu Date: Wed, 16 Jul 2025 11:22:09 -0700 (PDT) Message-ID: <6877edd1.170a0220.2e9a0b.a71bSMTPIN_ADDED_MISSING@mx.google.com> Received: from [172.21.0.5] (unknown [172.18.0.240]) by postal.iol.unh.edu (Postfix) with ESMTP id EF83B6050A61; Wed, 16 Jul 2025 14:22:08 -0400 (EDT) Subject: |SUCCESS| pw155262 [PATCH] net/crc: reduce usage of static arrays in From: dpdklab@iol.unh.edu To: Test Report Cc: dpdk-test-reports@iol.unh.edu In-Reply-To: <20250716103439.831760-1-16567adigashreesh@gmail.com> References: <20250716103439.831760-1-16567adigashreesh@gmail.com> Content-Type: text/plain X-BeenThere: test-report@dpdk.org X-Mailman-Version: 2.1.29 Precedence: list List-Id: automatic DPDK test reports List-Unsubscribe: , List-Archive: List-Post: List-Help: List-Subscribe: , Errors-To: test-report-bounces@dpdk.org Test-Label: iol-compile-arm64-testing Test-Status: SUCCESS http://dpdk.org/patch/155262 _Testing PASS_ Submitter: Shreesh Adiga <16567adigashreesh@gmail.com> Date: Wednesday, July 16 2025 10:34:39 DPDK git baseline: Repo:dpdk Branch: master CommitID:9fe9c0b231c8da5435bfccb1963121b4277f961c 155262 --> testing pass Upstream job id: Generic-DPDK-Compile-Meson#409137 Test environment and result as below: +------------------------------+--------------------+ | Environment | dpdk_meson_compile | +==============================+====================+ | Red Hat Enterprise Linux 9.5 | PASS | +------------------------------+--------------------+ | Ubuntu 20.04 | PASS | +------------------------------+--------------------+ | Debian GNU/Linux 12 | PASS | +------------------------------+--------------------+ | Fedora Linux 40 | PASS | +------------------------------+--------------------+ | Fedora Linux 41 | PASS | +------------------------------+--------------------+ | Ubuntu 24.04 | PASS | +------------------------------+--------------------+ | Ubuntu 22.04 | PASS | +------------------------------+--------------------+ | CentOS Stream 10 | PASS | +------------------------------+--------------------+ | CentOS Stream 9 | PASS | +------------------------------+--------------------+ Red Hat Enterprise Linux 9.5 Kernel: 5.4 Compiler: gcc gcc (GCC) 11.5.0 20240719 (Red Hat 11.5.0-2) Ubuntu 20.04 Kernel: 5.4 Compiler: gcc gcc (Ubuntu 9.4.0-1ubuntu1~20.04.2) 9.4.0 Debian GNU/Linux 12 Kernel: 5.4 Compiler: gcc gcc (Debian 12.2.0-14+deb12u1) 12.2.0 Fedora Linux 40 Kernel: 5.4 Compiler: clang gcc (GCC) 14.2.1 20240912 (Red Hat 14.2.1-3) Fedora Linux 41 Kernel: 5.4 Compiler: clang gcc (GCC) 14.3.1 20250523 (Red Hat 14.3.1-1) Ubuntu 24.04 Kernel: 5.4 Compiler: gcc gcc (Ubuntu 13.3.0-6ubuntu2~24.04) 13.3.0 Ubuntu 22.04 Kernel: 5.4 Compiler: gcc gcc (Ubuntu 11.4.0-1ubuntu1~22.04) 11.4.0 CentOS Stream 10 Kernel: 5.4 Compiler: gcc gcc (GCC) 14.2.1 20250110 (Red Hat 14.2.1-8) CentOS Stream 9 Kernel: 5.4 Compiler: gcc gcc (GCC) 11.5.0 20240719 (Red Hat 11.5.0-7) To view detailed results, visit: https://lab.dpdk.org/results/dashboard/patchsets/33668/ UNH-IOL DPDK Community Lab To manage your email subscriptions, visit: https://lab.dpdk.org/results/dashboard/preferences/subscriptions/