From mboxrd@z Thu Jan 1 00:00:00 1970 Return-Path: Received: from mails.dpdk.org (mails.dpdk.org [217.70.189.124]) by inbox.dpdk.org (Postfix) with ESMTP id 37DFD46B90 for ; Wed, 16 Jul 2025 20:48:17 +0200 (CEST) Received: from mails.dpdk.org (localhost [127.0.0.1]) by mails.dpdk.org (Postfix) with ESMTP id 0B691400D6; Wed, 16 Jul 2025 20:48:17 +0200 (CEST) Received: from mail-pl1-f227.google.com (mail-pl1-f227.google.com [209.85.214.227]) by mails.dpdk.org (Postfix) with ESMTP id 91FED400D6 for ; Wed, 16 Jul 2025 20:48:15 +0200 (CEST) Received: by mail-pl1-f227.google.com with SMTP id d9443c01a7336-23636167afeso1178325ad.3 for ; Wed, 16 Jul 2025 11:48:15 -0700 (PDT) DKIM-Signature: v=1; a=rsa-sha256; c=relaxed/relaxed; d=iol.unh.edu; s=unh-iol; t=1752691694; x=1753296494; darn=dpdk.org; h=references:in-reply-to:cc:to:from:subject:message-id:date:from:to :cc:subject:date:message-id:reply-to; bh=0kAyDGw6UcsZ7Yd29GmGreDpD/k9986o/8OGoV6ngcA=; b=GHpxjgFTxq6NMEeHLL4oDainTwhTIwQoeLVc9PQvpcVaJQeEpC7EK2JQe1fEHjo8xf dVhFW2L0DfRdkii0fjnsLkU70XpxMRZO44IMwTNNk5c07aTPX9lnab1ok40Ay3C7MfZz zwdbXkDjmBI7zjz4I+TiKQU1nHVw3cfUk60cU= X-Google-DKIM-Signature: v=1; a=rsa-sha256; c=relaxed/relaxed; d=1e100.net; s=20230601; t=1752691694; x=1753296494; h=references:in-reply-to:cc:to:from:subject:message-id:date :x-gm-message-state:from:to:cc:subject:date:message-id:reply-to; bh=0kAyDGw6UcsZ7Yd29GmGreDpD/k9986o/8OGoV6ngcA=; b=oyLBeduLXcOKL6B/45/Ekn+pBbI+YtzYdQVmHTTlAbdD+whX8drEyw3pyToj+wmaj/ oCVHLrfdJFmHHSRaQLGH1AF2GQ1W6MghtGmiyxCcOVcst+Z2evIcRZ3E6h0Mx4+HMOy2 DUdQjbSosHO/uiT7gVBOfb06v9djTaEsQk5FYPekPV5rkztk8C6n18Hg7UiLjTIYoIez ySDK3vrXYBDrpIWo1tg1OjjUvxKW+Nf7zYrIBPjoTdpCN/hFh1h+xr66m9pcRLrPZf+j EBWltCZ4nYjcjaEx/ptLEXvUP2aCdJzUqAqdD1Fq5A1OCOqH1sZYDd07eqCZdEsJ/trc c+mQ== X-Gm-Message-State: AOJu0YyciAZsnUAvS2ytU7sGYliONKgKh2SzIn574KoIJPyMdyRiEZ1g kYxA8hWCTCdrNuKJrl3idVX72Su2XNUHTsxiHDoUaGYuGDuI0N+6/sd/Yz01bo8aX6uWfj+4yYf Vazx+E6GJkoWRKqr3rCuYSX/glNwkjjwIT9ui3CGzUSGh X-Gm-Gg: ASbGncuV1UKJpSnDhhfume70WYE9dJv2CqoIGDkLVf37d+m+iCJkfQQWVcfe45gwkGQ YWiEZD9CoIVxX0tGkg89QeEOoKUvLON+rr/G4R1WS9YaG+hzZ65lP9NLQdRZxCF7ZiwvuOAQi/H PG8jBbEK5QUVTD5AIIkk5u0ArmnG4U2L3Nq+mVMdkE2cRbTNJtp2Y5XZ1JRBkWm0FCd7OFxwyvw NDp/VRWqHXIndw7FxfvbHsooMj4igTkR2ldZwtTrOnE0wLymFYQJVkkwLPED/FziQrMZtVBr7RV FJ+8WwdKBZFMiCOa0XK/0ZICNc99P347Ph37FWcxr2B7XcoZccGXOZekzO7tsHaoRcyGC+/W X-Google-Smtp-Source: AGHT+IHMFojlCERLtamo02o2dsqMCzD8Q9GXxc9BbEovt/8qqH0vDdbBGxaN0t8CsUFC1LSrbyKZPu9Qq6Sy X-Received: by 2002:a17:903:8d0:b0:234:966c:a2f3 with SMTP id d9443c01a7336-23e2572ab55mr58523305ad.27.1752691694529; Wed, 16 Jul 2025 11:48:14 -0700 (PDT) Received: from postal.iol.unh.edu (postal.iol.unh.edu. [132.177.123.84]) by smtp-relay.gmail.com with ESMTPS id d9443c01a7336-23de42a3aa4sm7584385ad.40.2025.07.16.11.48.14 (version=TLS1_2 cipher=ECDHE-ECDSA-AES128-GCM-SHA256 bits=128/128); Wed, 16 Jul 2025 11:48:14 -0700 (PDT) X-Relaying-Domain: iol.unh.edu Date: Wed, 16 Jul 2025 11:48:14 -0700 (PDT) Message-ID: <6877f3ee.170a0220.19df84.b24dSMTPIN_ADDED_MISSING@mx.google.com> Received: from [172.21.0.5] (unknown [172.18.0.240]) by postal.iol.unh.edu (Postfix) with ESMTP id EAE99604D420; Wed, 16 Jul 2025 14:48:13 -0400 (EDT) Subject: |SUCCESS| pw155263-155283 [PATCH] [v4,22/22] ci: extend coverage wit From: dpdklab@iol.unh.edu To: Test Report Cc: dpdk-test-reports@iol.unh.edu In-Reply-To: <20250716130212.1736407-23-david.marchand@redhat.com> References: <20250716130212.1736407-23-david.marchand@redhat.com> Content-Type: text/plain X-BeenThere: test-report@dpdk.org X-Mailman-Version: 2.1.29 Precedence: list List-Id: automatic DPDK test reports List-Unsubscribe: , List-Archive: List-Post: List-Help: List-Subscribe: , Errors-To: test-report-bounces@dpdk.org Test-Label: iol-unit-arm64-testing Test-Status: SUCCESS http://dpdk.org/patch/155283 _Testing PASS_ Submitter: David Marchand Date: Wednesday, July 16 2025 13:02:09 DPDK git baseline: Repo:dpdk Branch: master CommitID:9fe9c0b231c8da5435bfccb1963121b4277f961c 155263-155283 --> testing pass Upstream job id: Generic-Unit-Test-DPDK#355761 Test environment and result as below: +------------------------------+----------------+------------------------------+--------------+---------------------------+ | Environment | dpdk_unit_test | cryptodev_sw_snow3g_autotest | lpm_autotest | cryptodev_sw_zuc_autotest | +==============================+================+==============================+==============+===========================+ | CentOS Stream 10 | PASS | SKIPPED | SKIPPED | SKIPPED | +------------------------------+----------------+------------------------------+--------------+---------------------------+ | Fedora Linux 40 | PASS | SKIPPED | SKIPPED | SKIPPED | +------------------------------+----------------+------------------------------+--------------+---------------------------+ | Debian GNU/Linux 12 | PASS | SKIPPED | SKIPPED | SKIPPED | +------------------------------+----------------+------------------------------+--------------+---------------------------+ | CentOS Stream 9 | PASS | SKIPPED | SKIPPED | SKIPPED | +------------------------------+----------------+------------------------------+--------------+---------------------------+ | Ubuntu 20.04 | PASS | SKIPPED | PASS | SKIPPED | +------------------------------+----------------+------------------------------+--------------+---------------------------+ | Red Hat Enterprise Linux 9.5 | PASS | SKIPPED | SKIPPED | SKIPPED | +------------------------------+----------------+------------------------------+--------------+---------------------------+ | Fedora Linux 41 | PASS | SKIPPED | SKIPPED | SKIPPED | +------------------------------+----------------+------------------------------+--------------+---------------------------+ | Ubuntu 22.04 | PASS | SKIPPED | SKIPPED | SKIPPED | +------------------------------+----------------+------------------------------+--------------+---------------------------+ | Ubuntu 24.04 | PASS | SKIPPED | SKIPPED | SKIPPED | +------------------------------+----------------+------------------------------+--------------+---------------------------+ | Debian 12 (arm) | SKIPPED | PASS | SKIPPED | PASS | +------------------------------+----------------+------------------------------+--------------+---------------------------+ CentOS Stream 10 Kernel: 5.4 Compiler: gcc gcc (GCC) 14.2.1 20250110 (Red Hat 14.2.1-8) Fedora Linux 40 Kernel: 5.4 Compiler: gcc gcc (GCC) 14.2.1 20240912 (Red Hat 14.2.1-3) Debian GNU/Linux 12 Kernel: 5.4 Compiler: gcc gcc (Debian 12.2.0-14+deb12u1) 12.2.0 CentOS Stream 9 Kernel: 5.4 Compiler: gcc gcc (GCC) 11.5.0 20240719 (Red Hat 11.5.0-7) Ubuntu 20.04 Kernel: 5.4 Compiler: gcc gcc (Ubuntu 9.4.0-1ubuntu1~20.04.2) 9.4.0 Red Hat Enterprise Linux 9.5 Kernel: 5.4 Compiler: gcc gcc (GCC) 11.5.0 20240719 (Red Hat 11.5.0-2) Fedora Linux 41 Kernel: 5.4 Compiler: gcc gcc (GCC) 14.3.1 20250523 (Red Hat 14.3.1-1) Ubuntu 22.04 Kernel: 5.4 Compiler: gcc gcc (Ubuntu 11.4.0-1ubuntu1~22.04) 11.4.0 Ubuntu 24.04 Kernel: 5.4 Compiler: gcc gcc (Ubuntu 13.3.0-6ubuntu2~24.04) 13.3.0 Debian 12 (arm) Kernel: Depends on container host Compiler: gcc (Debian 12.2.0-14) 12.2.0 To view detailed results, visit: https://lab.dpdk.org/results/dashboard/patchsets/33669/ UNH-IOL DPDK Community Lab To manage your email subscriptions, visit: https://lab.dpdk.org/results/dashboard/preferences/subscriptions/