From mboxrd@z Thu Jan 1 00:00:00 1970 Return-Path: Received: from mails.dpdk.org (mails.dpdk.org [217.70.189.124]) by inbox.dpdk.org (Postfix) with ESMTP id 5242C46B90 for ; Wed, 16 Jul 2025 21:08:22 +0200 (CEST) Received: from mails.dpdk.org (localhost [127.0.0.1]) by mails.dpdk.org (Postfix) with ESMTP id 36829400D6; Wed, 16 Jul 2025 21:08:22 +0200 (CEST) Received: from mail-qt1-f228.google.com (mail-qt1-f228.google.com [209.85.160.228]) by mails.dpdk.org (Postfix) with ESMTP id D4B01400D6 for ; Wed, 16 Jul 2025 21:08:20 +0200 (CEST) Received: by mail-qt1-f228.google.com with SMTP id d75a77b69052e-4ab7082b3f7so2842801cf.3 for ; Wed, 16 Jul 2025 12:08:20 -0700 (PDT) DKIM-Signature: v=1; a=rsa-sha256; c=relaxed/relaxed; d=iol.unh.edu; s=unh-iol; t=1752692900; x=1753297700; darn=dpdk.org; h=references:in-reply-to:cc:to:from:subject:message-id:date:from:to :cc:subject:date:message-id:reply-to; bh=XjVjPUScBq7yVTvmHMpabXY556WgowgW9ZantLodubw=; b=DVdFF99XapawJlnenQPayThOgSF8jWZxUSawuVjGmr+N7eiIHllx/8eAhvSGc+yhHL nh+2Do6S5HxOoAbOdFNM218Q9qLCpDaPhbYUpoyE92VbAGTsL3p/0W2L47Jdqh3EpSu6 Dz/v4ssSuMf5ILuiimgSrfX9FHfZInWIcydrc= X-Google-DKIM-Signature: v=1; a=rsa-sha256; c=relaxed/relaxed; d=1e100.net; s=20230601; t=1752692900; x=1753297700; h=references:in-reply-to:cc:to:from:subject:message-id:date :x-gm-message-state:from:to:cc:subject:date:message-id:reply-to; bh=XjVjPUScBq7yVTvmHMpabXY556WgowgW9ZantLodubw=; b=PO8hyNpQmE4R/ZkXDnbR4wHhhEUK/DgMaexn+ohrrK407Kkhmle9jr7kR4KrtcYuC+ YpSgm0G0Vyx9oJksLjy1YIZz55wNxbJz+ZwsPboSi7tNA11k8DjG1CMeWSRwAj/Y4vfk +s0MPbnfYONpq/Vu+/0iMtnpQLfg9NN/0PXw5WiH2jn/5SxOqdtQ/nQ1QNYpOkbUcR/F BgdIkK4AEdbHRKbDbRSjfQqdulmagpDR3k4qp+1kKiHek+hyf0Tkzn6+P8Gu5jVIdhI1 OoTLdt+DiIN2Z+EczCTdBUlXFDDbflOI4gkLvW/TFadBW+dyUKYXcwA+jk91L/yGkeBi utOw== X-Gm-Message-State: AOJu0Yw4gXjgcEGPk5t0nxeJgyKHpcrEVzr6/x3FlCp3pvUonNxSj7XS xrl9pre3cS0QXlU1SPgRVJ7KJdeND5kmaF4z9oXtOBMNCIy60/ZjYs9Ulqprvgc1mS9vaZxlwdU /5CxtLafYF2vkf0seul4lgh5v+QL9G7kIBsllI8HkkvWQ X-Gm-Gg: ASbGncu5yHoIuusoAOrbQm5nv25UxsCPetwthng6Nmn3SS6VtwRRECrwQ7EQeyTrJjH h/Xz08Hc+xzmxqgCi3x5hFBOFloLEL48HpN6lukwsOKrklqe/8sWbxfgXeKMEHebXB2VX1Co5B8 03TKpM7by44ad7WZM6Kp4K7jNHUotRjEhykBQC7S0Gp/5B6h40ybmvdDzMp3PoE8DwtrtoAnAcd PqiSKK9cT/PgDlfdxFUj4GZH90S4NgisTUQPAJ4K8/hUxuMuqSkKdBD++aQljIhHJJsGLm2X2mf n/TqSfAt+6IMFSoysHH3BFNmzz0iC+AFk+9Du6ilyfjU6z6KgLYhZT24otH328UugWt4bITZ X-Google-Smtp-Source: AGHT+IE3hqVJlRN9aOaU3z2Gzp9rMWt5CmmfFEnSdpWAPbOYj0WfZ2VR+1URD8DtypvSuf1bR6NaqkPPuxiS X-Received: by 2002:a05:622a:610:b0:4ab:66d1:dcdd with SMTP id d75a77b69052e-4ab93d814demr74802521cf.39.1752692900170; Wed, 16 Jul 2025 12:08:20 -0700 (PDT) Received: from postal.iol.unh.edu (postal.iol.unh.edu. [132.177.123.84]) by smtp-relay.gmail.com with ESMTPS id d75a77b69052e-4ab6030279fsm4454161cf.7.2025.07.16.12.08.20 (version=TLS1_2 cipher=ECDHE-ECDSA-AES128-GCM-SHA256 bits=128/128); Wed, 16 Jul 2025 12:08:20 -0700 (PDT) X-Relaying-Domain: iol.unh.edu Date: Wed, 16 Jul 2025 12:08:20 -0700 (PDT) Message-ID: <6877f8a4.c80a0220.169385.9182SMTPIN_ADDED_MISSING@mx.google.com> Received: from [172.21.0.6] (unknown [172.18.0.240]) by postal.iol.unh.edu (Postfix) with ESMTP id 954B86051830; Wed, 16 Jul 2025 15:08:19 -0400 (EDT) Subject: |SUCCESS| pw155285-155287 [PATCH] [v5,3/3] doc: revise coding guidel From: dpdklab@iol.unh.edu To: Test Report Cc: dpdk-test-reports@iol.unh.edu In-Reply-To: <20250716135708.49233-3-dmarx@iol.unh.edu> References: <20250716135708.49233-3-dmarx@iol.unh.edu> Content-Type: text/plain X-BeenThere: test-report@dpdk.org X-Mailman-Version: 2.1.29 Precedence: list List-Id: automatic DPDK test reports List-Unsubscribe: , List-Archive: List-Post: List-Help: List-Subscribe: , Errors-To: test-report-bounces@dpdk.org Test-Label: iol-unit-arm64-testing Test-Status: SUCCESS http://dpdk.org/patch/155287 _Testing PASS_ Submitter: Dean Marx Date: Wednesday, July 16 2025 13:57:06 DPDK git baseline: Repo:dpdk Branch: master CommitID:9fe9c0b231c8da5435bfccb1963121b4277f961c 155285-155287 --> testing pass Upstream job id: Generic-Unit-Test-DPDK#355778 Test environment and result as below: +------------------------------+----------------+--------------+---------------------------+------------------------------+ | Environment | dpdk_unit_test | lpm_autotest | cryptodev_sw_zuc_autotest | cryptodev_sw_snow3g_autotest | +==============================+================+==============+===========================+==============================+ | Fedora Linux 40 | PASS | SKIPPED | SKIPPED | SKIPPED | +------------------------------+----------------+--------------+---------------------------+------------------------------+ | CentOS Stream 10 | PASS | SKIPPED | SKIPPED | SKIPPED | +------------------------------+----------------+--------------+---------------------------+------------------------------+ | Debian GNU/Linux 12 | PASS | SKIPPED | SKIPPED | SKIPPED | +------------------------------+----------------+--------------+---------------------------+------------------------------+ | CentOS Stream 9 | PASS | SKIPPED | SKIPPED | SKIPPED | +------------------------------+----------------+--------------+---------------------------+------------------------------+ | Fedora Linux 41 | PASS | SKIPPED | SKIPPED | SKIPPED | +------------------------------+----------------+--------------+---------------------------+------------------------------+ | Ubuntu 20.04 | PASS | PASS | SKIPPED | SKIPPED | +------------------------------+----------------+--------------+---------------------------+------------------------------+ | Ubuntu 24.04 | PASS | SKIPPED | SKIPPED | SKIPPED | +------------------------------+----------------+--------------+---------------------------+------------------------------+ | Ubuntu 22.04 | PASS | SKIPPED | SKIPPED | SKIPPED | +------------------------------+----------------+--------------+---------------------------+------------------------------+ | Red Hat Enterprise Linux 9.5 | PASS | SKIPPED | SKIPPED | SKIPPED | +------------------------------+----------------+--------------+---------------------------+------------------------------+ | Debian 12 (arm) | SKIPPED | SKIPPED | PASS | PASS | +------------------------------+----------------+--------------+---------------------------+------------------------------+ Fedora Linux 40 Kernel: 5.4 Compiler: gcc gcc (GCC) 14.2.1 20240912 (Red Hat 14.2.1-3) CentOS Stream 10 Kernel: 5.4 Compiler: gcc gcc (GCC) 14.2.1 20250110 (Red Hat 14.2.1-8) Debian GNU/Linux 12 Kernel: 5.4 Compiler: gcc gcc (Debian 12.2.0-14+deb12u1) 12.2.0 CentOS Stream 9 Kernel: 5.4 Compiler: gcc gcc (GCC) 11.5.0 20240719 (Red Hat 11.5.0-7) Fedora Linux 41 Kernel: 5.4 Compiler: clang gcc (GCC) 14.3.1 20250523 (Red Hat 14.3.1-1) Ubuntu 20.04 Kernel: 5.4 Compiler: gcc gcc (Ubuntu 9.4.0-1ubuntu1~20.04.2) 9.4.0 Ubuntu 24.04 Kernel: 5.4 Compiler: gcc gcc (Ubuntu 13.3.0-6ubuntu2~24.04) 13.3.0 Ubuntu 22.04 Kernel: 5.4 Compiler: gcc gcc (Ubuntu 11.4.0-1ubuntu1~22.04) 11.4.0 Red Hat Enterprise Linux 9.5 Kernel: 5.4 Compiler: gcc gcc (GCC) 11.5.0 20240719 (Red Hat 11.5.0-2) Debian 12 (arm) Kernel: Depends on container host Compiler: gcc (Debian 12.2.0-14) 12.2.0 To view detailed results, visit: https://lab.dpdk.org/results/dashboard/patchsets/33670/ UNH-IOL DPDK Community Lab To manage your email subscriptions, visit: https://lab.dpdk.org/results/dashboard/preferences/subscriptions/