From mboxrd@z Thu Jan 1 00:00:00 1970 Return-Path: Received: from mails.dpdk.org (mails.dpdk.org [217.70.189.124]) by inbox.dpdk.org (Postfix) with ESMTP id 7CB6446B90 for ; Wed, 16 Jul 2025 21:23:41 +0200 (CEST) Received: from mails.dpdk.org (localhost [127.0.0.1]) by mails.dpdk.org (Postfix) with ESMTP id 789E6400D6; Wed, 16 Jul 2025 21:23:41 +0200 (CEST) Received: from mail-yb1-f225.google.com (mail-yb1-f225.google.com [209.85.219.225]) by mails.dpdk.org (Postfix) with ESMTP id D492C400D6 for ; Wed, 16 Jul 2025 21:23:40 +0200 (CEST) Received: by mail-yb1-f225.google.com with SMTP id 3f1490d57ef6-e8bbb605530so1190357276.0 for ; Wed, 16 Jul 2025 12:23:40 -0700 (PDT) DKIM-Signature: v=1; a=rsa-sha256; c=relaxed/relaxed; d=iol.unh.edu; s=unh-iol; t=1752693820; x=1753298620; darn=dpdk.org; h=references:in-reply-to:cc:to:from:subject:message-id:date:from:to :cc:subject:date:message-id:reply-to; bh=bzyGcrrR7Fxn+hrfGdcBsTCIV8QB1AsIEcVG3XPQj4g=; b=WpqzhU/fmF6Y5O6i4P+2/goHzy9KXuEFHVWFzUFq0cPlTBJul9gUxcXPJuz5x7aZXq 88pPTu980gRgjdGKxyHKCHA4MzYWbntpo5wosQIEEjDEZk21WGRwkP5yK1e9P3nIKRSJ kWjhS5NVw8tBa5KpGaAuqkcNqIsCCL2H02IhU= X-Google-DKIM-Signature: v=1; a=rsa-sha256; c=relaxed/relaxed; d=1e100.net; s=20230601; t=1752693820; x=1753298620; h=references:in-reply-to:cc:to:from:subject:message-id:date :x-gm-message-state:from:to:cc:subject:date:message-id:reply-to; bh=bzyGcrrR7Fxn+hrfGdcBsTCIV8QB1AsIEcVG3XPQj4g=; b=kuKGNFH7udWciQtU8obgUXca8x8lG1NUKVHKwGKUwA3q8EJQGaWyZYYfQSzLAi5IN3 M6sF/u6DVkXkp39I5bm9dxCALdQWueh9iiv+2L/ATdRwrx9F6Za8QbsbTVhsg6mdPDPm 7hbd3Sy0Ky0izbc5Dop/yjgcfea9Oobbspy+UaSCE+sQZZzM16HdjfXomqE2ZYgMb3Lp K1rlI/AeZpDlw20SHlIGtmKS4Le5NpvMnjq5fC4dbseULd4QvalzNaSm5nxjIGlfIVEb WQzam/PiN9Zzj7OpZNzjm2lObevzaGwetP8wCpvgtpW+J65a8U2gQGtb8N3392xr7sGs wlmw== X-Gm-Message-State: AOJu0YwGcuthzxGDvWadcV1qf0sU7/AcMxDxR1YNzObp39AsuEJCO5eD Yg77rzwJ02DbYy5zKIubffonHiD/z5ZVq9YQWzuI0GeCg1a5+B5oUH1NWe/Jo5B9gjK4lmLByd+ ko0ouUQHJex2R44E8EPA5bXu2EhLGJCvN4gDS83LB7Co1NsWpWzEDDtS62wW8 X-Gm-Gg: ASbGncsBouSgO+OeXvkiE1kAmHROOAhTXwRucuRAX8NIqORA7ZZD5+86c2B3BQgCEz/ oSCCTbZra449qNSY9KUGKiWtkQCoAzGPl+znEaAgQo4lkj1YyZr4Wh2CRt4FW3Fe9ERBSWgp6Qr GIr42+ZxgOsycgHgB0A2xz0rq0Fa9QXyab8GixlYOX8DkbDL10eeLCMZCNUX8Yfs526HIy/DxGQ vdwORDUOYR7LKbWLYeE8I+ks2zpn8DEi2sdUvn8wi/Zfk8PNZGoVRRO3IySeXmQt0AzkrWFNe+s /8GjNc2ATI1nQZJf0M6qsOlhLZZ07fXptGEXZvjTXqrDq4hEhg== X-Google-Smtp-Source: AGHT+IHrelB+oTj2Th7vwOSXwqFheTB3Rv7gL1upZwnvEdFh6eAvtZdKQqh44AD0T8lNNoMADke+JxPc2ns/ X-Received: by 2002:a05:6902:6a08:b0:e8b:c0c3:dc81 with SMTP id 3f1490d57ef6-e8bd6ee310cmr722052276.20.1752693820159; Wed, 16 Jul 2025 12:23:40 -0700 (PDT) Received: from postal.iol.unh.edu (postal.iol.unh.edu. [2606:4100:3880:1234::84]) by smtp-relay.gmail.com with ESMTPS id 3f1490d57ef6-e8b7ae972c1sm764864276.11.2025.07.16.12.23.40 (version=TLS1_2 cipher=ECDHE-ECDSA-AES128-GCM-SHA256 bits=128/128); Wed, 16 Jul 2025 12:23:40 -0700 (PDT) X-Relaying-Domain: iol.unh.edu Date: Wed, 16 Jul 2025 12:23:40 -0700 (PDT) Message-ID: <6877fc3c.250a0220.2a1b4d.7757SMTPIN_ADDED_MISSING@mx.google.com> Received: from [172.21.0.5] (unknown [172.18.0.240]) by postal.iol.unh.edu (Postfix) with ESMTP id B521B604D420; Wed, 16 Jul 2025 15:23:39 -0400 (EDT) Subject: |SUCCESS| pw155288 [PATCH] mailmap: fix entries with many aliases From: dpdklab@iol.unh.edu To: Test Report Cc: dpdk-test-reports@iol.unh.edu In-Reply-To: <20250716144203.1994070-1-david.marchand@redhat.com> References: <20250716144203.1994070-1-david.marchand@redhat.com> Content-Type: text/plain X-BeenThere: test-report@dpdk.org X-Mailman-Version: 2.1.29 Precedence: list List-Id: automatic DPDK test reports List-Unsubscribe: , List-Archive: List-Post: List-Help: List-Subscribe: , Errors-To: test-report-bounces@dpdk.org Test-Label: iol-abi-testing Test-Status: SUCCESS http://dpdk.org/patch/155288 _Testing PASS_ Submitter: David Marchand Date: Wednesday, July 16 2025 14:41:59 DPDK git baseline: Repo:dpdk Branch: master CommitID:9fe9c0b231c8da5435bfccb1963121b4277f961c 155288 --> testing pass Upstream job id: Generic-DPDK-Compile-ABI#134568 Test environment and result as below: +-------------------------------+----------+ | Environment | abi_test | +===============================+==========+ | CentOS Stream 9 | PASS | +-------------------------------+----------+ | CentOS Stream 10 | PASS | +-------------------------------+----------+ | Ubuntu 24.04 | PASS | +-------------------------------+----------+ | Fedora Linux 40 | PASS | +-------------------------------+----------+ | Fedora Linux 41 | PASS | +-------------------------------+----------+ | Debian GNU/Linux 12 | PASS | +-------------------------------+----------+ | Red Hat Enterprise Linux 9.5 | PASS | +-------------------------------+----------+ | Ubuntu 22.04 | PASS | +-------------------------------+----------+ | Red Hat Enterprise Linux 8.10 | PASS | +-------------------------------+----------+ | openSUSE Leap 15.6 | PASS | +-------------------------------+----------+ CentOS Stream 9 Kernel: 5.15 Compiler: gcc gcc (GCC) 11.5.0 20240719 (Red Hat 11.5.0-7) CentOS Stream 10 Kernel: 5.15 Compiler: gcc gcc (GCC) 14.2.1 20250110 (Red Hat 14.2.1-8) Ubuntu 24.04 Kernel: 5.15 Compiler: gcc gcc (Ubuntu 13.3.0-6ubuntu2~24.04) 13.3.0 Fedora Linux 40 Kernel: 5.15 Compiler: clang gcc (GCC) 14.2.1 20240912 (Red Hat 14.2.1-3) Fedora Linux 41 Kernel: 5.15 Compiler: gcc gcc (GCC) 14.3.1 20250523 (Red Hat 14.3.1-1) Debian GNU/Linux 12 Kernel: 5.15 Compiler: gcc gcc (Debian 12.2.0-14+deb12u1) 12.2.0 Red Hat Enterprise Linux 9.5 Kernel: 5.15 Compiler: gcc gcc (GCC) 11.5.0 20240719 (Red Hat 11.5.0-2) Ubuntu 22.04 Kernel: 5.15 Compiler: gcc gcc (Ubuntu 11.4.0-1ubuntu1~22.04) 11.4.0 Red Hat Enterprise Linux 8.10 Kernel: 5.15 Compiler: gcc gcc (GCC) 8.5.0 20210514 (Red Hat 8.5.0-22) openSUSE Leap 15.6 Kernel: 5.15 Compiler: gcc gcc (SUSE Linux) 7.5.0 To view detailed results, visit: https://lab.dpdk.org/results/dashboard/patchsets/33671/ UNH-IOL DPDK Community Lab To manage your email subscriptions, visit: https://lab.dpdk.org/results/dashboard/preferences/subscriptions/