From mboxrd@z Thu Jan 1 00:00:00 1970 Return-Path: Received: from mails.dpdk.org (mails.dpdk.org [217.70.189.124]) by inbox.dpdk.org (Postfix) with ESMTP id 2251A46B90 for ; Wed, 16 Jul 2025 21:43:45 +0200 (CEST) Received: from mails.dpdk.org (localhost [127.0.0.1]) by mails.dpdk.org (Postfix) with ESMTP id 06B80400D6; Wed, 16 Jul 2025 21:43:45 +0200 (CEST) Received: from mail-vk1-f225.google.com (mail-vk1-f225.google.com [209.85.221.225]) by mails.dpdk.org (Postfix) with ESMTP id 1FE96400D6 for ; Wed, 16 Jul 2025 21:43:44 +0200 (CEST) Received: by mail-vk1-f225.google.com with SMTP id 71dfb90a1353d-5316a5e4c6cso138921e0c.1 for ; Wed, 16 Jul 2025 12:43:44 -0700 (PDT) DKIM-Signature: v=1; a=rsa-sha256; c=relaxed/relaxed; d=iol.unh.edu; s=unh-iol; t=1752695023; x=1753299823; darn=dpdk.org; h=references:in-reply-to:cc:to:from:subject:message-id:date:from:to :cc:subject:date:message-id:reply-to; bh=OwgGdPpO9OLBqUP58XflCU+XRFX2boJz9Rlsn4x7gbQ=; b=L96yPVQcGlrets1GOlFj+kZjx68sMzxo6P+1KwYBfpP1HXwXshW8bMYTGxNKCKhsD5 hupMLzLqg7HAYM2C9Db9lf3pV1r/OTauI/BOSKasuJqpLhBewznWJqyjCg17P7er6N5I dW/LqEODXvNTCO/hPMKQN48JtKPaVH6FvEV6E= X-Google-DKIM-Signature: v=1; a=rsa-sha256; c=relaxed/relaxed; d=1e100.net; s=20230601; t=1752695023; x=1753299823; h=references:in-reply-to:cc:to:from:subject:message-id:date :x-gm-message-state:from:to:cc:subject:date:message-id:reply-to; bh=OwgGdPpO9OLBqUP58XflCU+XRFX2boJz9Rlsn4x7gbQ=; b=MsoyZYcf1flT2fHwB6GYxrMR0PkraPyXwduVLBHTq/64phGuRD8Ym3HmDh7BiUKTcA InOjWS7wTdq7fzZIwgGzI3cuVG3WTV8dqeb122krRqO6rQvWOhNdXHNHUrPU+zCN70EH qzGmg6IQd2WxMuvy9wIBk6ALFNvR0YSx2oeiB5wdpqJ0F6huOpa3UOiKUuHToDEPHEOM +v/plLrxnJbIGay63f6rK9ehQZMHltNcE5dySeYTmrdCS0toZa7r2nFlV0rgl/8FZFRC fI+evXnH6+YSpPWqMds3sGd63uhe2mxzYNnqmONdf10+KPSKQslZ8btkPfnMF6qZKckJ p+0Q== X-Gm-Message-State: AOJu0YwBT2KeOZNkdMHi67aHAqRfJbuwKkksb+Nkvrvmv9e1ZVpfRmNt axVm52rqbMOfw6p9OVWQQl4v4jIFXiCn5kwoLk3F3r4OiiQxNjaFpgXtdZ8sqsi5Zm0zf/qa2T4 5Dpijt+1AvQfYDuo97IZ08i2YyFt91gG5csdmCIO/PPSOyl+mM673m34thjWi X-Gm-Gg: ASbGncsNmdVinAciXllp3nP4BN2nqQ5+O75ly7y9Gaoloc5+G/U9H0sGVSVCXijEPIO YyibcI1zwj4jB+6mXl7OEONXf+czJOZa44KhgYBnWxxyCG6vZY+uchn/wDh7z1qCpCI5DZrpY44 O+PX21BTpAr8+EhJ5aqDjJKeNravOxw/gNAaEpXgyJ3d71+tDMyhimqJSCxqPJ6sJi3mI8gPWq2 unM/ucO25dGeqVjucFd1c5vb3zvqsRya7xjvZdyapwURxddCvSybxdMcZFWV+DGwgfHcCCzpauP 8sPOiuv1K5KHC1cl9BK6CUrzkQbO9dWLVascNvY9OKiN3stE2g== X-Google-Smtp-Source: AGHT+IF6f4AMhMXVopOG7YUfKjO5bQXLBsa4N9tub1QDt6NDlGBcG4YOWp2THTiyDhyqjVQsS4yJrpQ7M6zU X-Received: by 2002:a05:6122:2492:b0:535:aea0:7a0a with SMTP id 71dfb90a1353d-5373e272f46mr2916594e0c.2.1752695023434; Wed, 16 Jul 2025 12:43:43 -0700 (PDT) Received: from postal.iol.unh.edu (postal.iol.unh.edu. [2606:4100:3880:1234::84]) by smtp-relay.gmail.com with ESMTPS id 71dfb90a1353d-535e73b3b78sm893624e0c.8.2025.07.16.12.43.43 (version=TLS1_2 cipher=ECDHE-ECDSA-AES128-GCM-SHA256 bits=128/128); Wed, 16 Jul 2025 12:43:43 -0700 (PDT) X-Relaying-Domain: iol.unh.edu Date: Wed, 16 Jul 2025 12:43:43 -0700 (PDT) Message-ID: <687800ef.050a0220.24087f.0557SMTPIN_ADDED_MISSING@mx.google.com> Received: from [172.21.0.7] (unknown [172.18.0.240]) by postal.iol.unh.edu (Postfix) with ESMTP id 1A7D9604D420; Wed, 16 Jul 2025 15:43:43 -0400 (EDT) Subject: |SUCCESS| pw155289 [PATCH] net/ice: fix assumption about tag placeme From: dpdklab@iol.unh.edu To: Test Report Cc: dpdk-test-reports@iol.unh.edu In-Reply-To: <20250716173922.688476-1-bruce.richardson@intel.com> References: <20250716173922.688476-1-bruce.richardson@intel.com> Content-Type: text/plain X-BeenThere: test-report@dpdk.org X-Mailman-Version: 2.1.29 Precedence: list List-Id: automatic DPDK test reports List-Unsubscribe: , List-Archive: List-Post: List-Help: List-Subscribe: , Errors-To: test-report-bounces@dpdk.org Test-Label: iol-unit-amd64-testing Test-Status: SUCCESS http://dpdk.org/patch/155289 _Testing PASS_ Submitter: Bruce Richardson Date: Wednesday, July 16 2025 17:39:22 DPDK git baseline: Repo:dpdk Branch: master CommitID:a6b10031d251fcc7dadede461f7e1d005024b139 155289 --> testing pass Upstream job id: Generic-Unit-Test-DPDK#355816 Test environment and result as below: +-------------------------------+----------------+ | Environment | dpdk_unit_test | +===============================+================+ | Fedora Linux 40 | PASS | +-------------------------------+----------------+ | CentOS Stream 9 | PASS | +-------------------------------+----------------+ | CentOS Stream 10 | PASS | +-------------------------------+----------------+ | Fedora Linux 41 | PASS | +-------------------------------+----------------+ | Debian GNU/Linux 12 | PASS | +-------------------------------+----------------+ | Ubuntu 24.04 | PASS | +-------------------------------+----------------+ | Ubuntu 22.04 | PASS | +-------------------------------+----------------+ | Red Hat Enterprise Linux 8.10 | PASS | +-------------------------------+----------------+ | Red Hat Enterprise Linux 9.5 | PASS | +-------------------------------+----------------+ | Ubuntu 20.04 | PASS | +-------------------------------+----------------+ | Windows Server 2022 | PASS | +-------------------------------+----------------+ Fedora Linux 40 Kernel: 5.15 Compiler: gcc gcc (GCC) 14.2.1 20240912 (Red Hat 14.2.1-3) CentOS Stream 9 Kernel: 5.15 Compiler: gcc gcc (GCC) 11.5.0 20240719 (Red Hat 11.5.0-7) CentOS Stream 10 Kernel: 5.15 Compiler: gcc gcc (GCC) 14.2.1 20250110 (Red Hat 14.2.1-8) Fedora Linux 41 Kernel: 5.15 Compiler: gcc gcc (GCC) 14.3.1 20250523 (Red Hat 14.3.1-1) Debian GNU/Linux 12 Kernel: 5.15 Compiler: gcc gcc (Debian 12.2.0-14+deb12u1) 12.2.0 Ubuntu 24.04 Kernel: 5.15 Compiler: gcc gcc (Ubuntu 13.3.0-6ubuntu2~24.04) 13.3.0 Ubuntu 22.04 Kernel: 5.15 Compiler: gcc gcc (Ubuntu 11.4.0-1ubuntu1~22.04) 11.4.0 Red Hat Enterprise Linux 8.10 Kernel: 5.15 Compiler: gcc gcc (GCC) 8.5.0 20210514 (Red Hat 8.5.0-22) Red Hat Enterprise Linux 9.5 Kernel: 5.15 Compiler: gcc gcc (GCC) 11.5.0 20240719 (Red Hat 11.5.0-2) Ubuntu 20.04 Kernel: 5.15 Compiler: gcc gcc (Ubuntu 9.4.0-1ubuntu1~20.04.2) 9.4.0 Windows Server 2022 Kernel: 10.0.20348.2031 Compiler: clang 15.0.7, gcc 14.1.0 (MinGW), and MSVC VS 19.39.33521 To view detailed results, visit: https://lab.dpdk.org/results/dashboard/patchsets/33672/ UNH-IOL DPDK Community Lab To manage your email subscriptions, visit: https://lab.dpdk.org/results/dashboard/preferences/subscriptions/