From mboxrd@z Thu Jan 1 00:00:00 1970 Return-Path: Received: from mails.dpdk.org (mails.dpdk.org [217.70.189.124]) by inbox.dpdk.org (Postfix) with ESMTP id 17BE146B91 for ; Wed, 16 Jul 2025 22:02:47 +0200 (CEST) Received: from mails.dpdk.org (localhost [127.0.0.1]) by mails.dpdk.org (Postfix) with ESMTP id 13297400D6; Wed, 16 Jul 2025 22:02:47 +0200 (CEST) Received: from mail-io1-f99.google.com (mail-io1-f99.google.com [209.85.166.99]) by mails.dpdk.org (Postfix) with ESMTP id 4EDC4400D6 for ; Wed, 16 Jul 2025 22:02:45 +0200 (CEST) Received: by mail-io1-f99.google.com with SMTP id ca18e2360f4ac-87a5603a8bdso7208539f.3 for ; Wed, 16 Jul 2025 13:02:45 -0700 (PDT) DKIM-Signature: v=1; a=rsa-sha256; c=relaxed/relaxed; d=iol.unh.edu; s=unh-iol; t=1752696164; x=1753300964; darn=dpdk.org; h=references:in-reply-to:cc:to:from:subject:message-id:date:from:to :cc:subject:date:message-id:reply-to; bh=/0F6WB6YEOUhwfjf6vVRtQrp/RSBNkon3ll1y5l0vas=; b=VniNnpEUgcEWSxDD28UEzuqggQQx18nCyDrRlypexBg4NW+3y0k9PeaYJJZ9TpwAFw 2fXEWygB7UjPch3uyIC1fZFwGFRDlnY8Rr8lLemjyB26S2dZ8a6fJNvAeUafVMsizz1e VCCH63MPJJyxbkINDDIaTAQFYJ+Mj8mJNL37k= X-Google-DKIM-Signature: v=1; a=rsa-sha256; c=relaxed/relaxed; d=1e100.net; s=20230601; t=1752696164; x=1753300964; h=references:in-reply-to:cc:to:from:subject:message-id:date :x-gm-message-state:from:to:cc:subject:date:message-id:reply-to; bh=/0F6WB6YEOUhwfjf6vVRtQrp/RSBNkon3ll1y5l0vas=; b=H6u3kxWO4ZtOlUrxzGywveC3QPjUISpKUNcMq2nJ2LPjHcYvRPR9aXfzCVeb3Gqi8w 1w+LA2Prp3ydxQpaJJyjofBd8ZRVZSkm0kCtAAjy7GneFe5SyJEIefOBXsgNQBTIHg5C HGO3P1pbEYJVI4dslgdDr9PNGdCrByj2u6nng3hmd3cOeC++3Ps/wR6D2jnKDpDo3OQU kyc6wH9U2FUCTVSgsb4ty8rPcheUWNog6jFAy257gw6qmOteiiSgZdOwlxr9aQtqHvBo bJrUSnLOnkMwkNKkmupbRQWPxQvpQl5mmrjbLJncYp/cIIzwbZdcanoF9QRyZDFFkCLx vnEA== X-Gm-Message-State: AOJu0YwH6BVU9xyKcsOKxmqJHnb2qMcD5su9bMPEevQO9IM2aHenvpvo JYLOP5qqlVeZBP2xQXrYvSmldd1FGPRMgWAbrDUTfm1dCXqNt1tym49IBmHW5AyUsKQEw+nE9K0 UFFM2GMqsnIQr5uoY9Bv5QJ9cg3hfVW9LVlxyddW3tj/tthvS/hQh+Hlt5SfD X-Gm-Gg: ASbGnctDl4/gwcX7Kvt9TV9tiOYQZe1DgbHKO27sM8B1u0rP8IuQqlt19PxjoTLme8E Bx3H+hMfncsRaz90+DD8bUfAXI64J9md1ssAWLZz0d8l/Ua9JbcTbKiRFJIDHl1TUqoNQ+/SX3X +dGTNcRHGpdYSQi7AZKiV9yqlM8oPnCw+GH4dLNZ5AxFDQl8o8iunCGLlK8y7MAJCWiweuzAJOg 5y2kiDebwYa99rt6+/QTUcZjgn1savmJf1sOozia3VmJfR7yEtFPF05OM610+joN7FEcnk6KBRa LWWcgjOzPHbChArC6ob40I1ZbpnpLBtEHcSIAsj93SlT41+sWQ== X-Google-Smtp-Source: AGHT+IGDf607cskA3SFmnw6TtDjjC5hjqTmCHy2xSNLEyC2F0Bme//WCYg8sVSSgnOD/xbVWd1U9f9ZsGn43 X-Received: by 2002:a05:6e02:3b04:b0:3dd:d155:94cb with SMTP id e9e14a558f8ab-3e28236479bmr37419835ab.7.1752696164546; Wed, 16 Jul 2025 13:02:44 -0700 (PDT) Received: from postal.iol.unh.edu (postal.iol.unh.edu. [2606:4100:3880:1234::84]) by smtp-relay.gmail.com with ESMTPS id e9e14a558f8ab-3e24611161csm9000455ab.17.2025.07.16.13.02.44 (version=TLS1_2 cipher=ECDHE-ECDSA-AES128-GCM-SHA256 bits=128/128); Wed, 16 Jul 2025 13:02:44 -0700 (PDT) X-Relaying-Domain: iol.unh.edu Date: Wed, 16 Jul 2025 13:02:44 -0700 (PDT) Message-ID: <68780564.050a0220.23e2db.f445SMTPIN_ADDED_MISSING@mx.google.com> Received: from [172.21.0.5] (unknown [172.18.0.240]) by postal.iol.unh.edu (Postfix) with ESMTP id 0C42E604D420; Wed, 16 Jul 2025 16:02:44 -0400 (EDT) Subject: |SUCCESS| pw155288 [PATCH] mailmap: fix entries with many aliases From: dpdklab@iol.unh.edu To: Test Report Cc: dpdk-test-reports@iol.unh.edu In-Reply-To: <20250716144203.1994070-1-david.marchand@redhat.com> References: <20250716144203.1994070-1-david.marchand@redhat.com> Content-Type: text/plain X-BeenThere: test-report@dpdk.org X-Mailman-Version: 2.1.29 Precedence: list List-Id: automatic DPDK test reports List-Unsubscribe: , List-Archive: List-Post: List-Help: List-Subscribe: , Errors-To: test-report-bounces@dpdk.org Test-Label: iol-compile-amd64-testing Test-Status: SUCCESS http://dpdk.org/patch/155288 _Testing PASS_ Submitter: David Marchand Date: Wednesday, July 16 2025 14:41:59 DPDK git baseline: Repo:dpdk Branch: master CommitID:9fe9c0b231c8da5435bfccb1963121b4277f961c 155288 --> testing pass Upstream job id: Generic-DPDK-Compile-Meson#409213 Test environment and result as below: +-------------------------------+-------------------+-------------------------+--------------------+----------------------+-------------------+------------------+ | Environment | dpdk_msvc_compile | dpdk_llvm_clang_compile | dpdk_meson_compile | dpdk_mingw64_compile | dpdk_compile_spdk | dpdk_compile_ovs | +===============================+===================+=========================+====================+======================+===================+==================+ | Windows Server 2022 | PASS | PASS | SKIPPED | PASS | SKIPPED | SKIPPED | +-------------------------------+-------------------+-------------------------+--------------------+----------------------+-------------------+------------------+ | FreeBSD 14.2 | SKIPPED | SKIPPED | PASS | SKIPPED | SKIPPED | SKIPPED | +-------------------------------+-------------------+-------------------------+--------------------+----------------------+-------------------+------------------+ | Ubuntu 20.04 | SKIPPED | SKIPPED | PASS | SKIPPED | SKIPPED | SKIPPED | +-------------------------------+-------------------+-------------------------+--------------------+----------------------+-------------------+------------------+ | CentOS Stream 9 | SKIPPED | SKIPPED | PASS | SKIPPED | PASS | SKIPPED | +-------------------------------+-------------------+-------------------------+--------------------+----------------------+-------------------+------------------+ | CentOS Stream 10 | SKIPPED | SKIPPED | PASS | SKIPPED | SKIPPED | SKIPPED | +-------------------------------+-------------------+-------------------------+--------------------+----------------------+-------------------+------------------+ | Debian GNU/Linux 12 | SKIPPED | SKIPPED | PASS | SKIPPED | PASS | SKIPPED | +-------------------------------+-------------------+-------------------------+--------------------+----------------------+-------------------+------------------+ | Fedora Linux 40 | SKIPPED | SKIPPED | PASS | SKIPPED | PASS | SKIPPED | +-------------------------------+-------------------+-------------------------+--------------------+----------------------+-------------------+------------------+ | Fedora Linux 41 | SKIPPED | SKIPPED | PASS | SKIPPED | PASS | PASS | +-------------------------------+-------------------+-------------------------+--------------------+----------------------+-------------------+------------------+ | openSUSE Leap 15.6 | SKIPPED | SKIPPED | PASS | SKIPPED | SKIPPED | SKIPPED | +-------------------------------+-------------------+-------------------------+--------------------+----------------------+-------------------+------------------+ | Red Hat Enterprise Linux 8.10 | SKIPPED | SKIPPED | PASS | SKIPPED | SKIPPED | SKIPPED | +-------------------------------+-------------------+-------------------------+--------------------+----------------------+-------------------+------------------+ | Red Hat Enterprise Linux 9.5 | SKIPPED | SKIPPED | PASS | SKIPPED | SKIPPED | SKIPPED | +-------------------------------+-------------------+-------------------------+--------------------+----------------------+-------------------+------------------+ | Ubuntu 22.04 | SKIPPED | SKIPPED | PASS | SKIPPED | PASS | SKIPPED | +-------------------------------+-------------------+-------------------------+--------------------+----------------------+-------------------+------------------+ | Ubuntu 24.04 | SKIPPED | SKIPPED | PASS | SKIPPED | PASS | PASS | +-------------------------------+-------------------+-------------------------+--------------------+----------------------+-------------------+------------------+ | Alpine Linux 3.22.0 | SKIPPED | SKIPPED | PASS | SKIPPED | SKIPPED | SKIPPED | +-------------------------------+-------------------+-------------------------+--------------------+----------------------+-------------------+------------------+ Windows Server 2022 Kernel: 10.0.20348.2031 Compiler: clang 15.0.7, gcc 14.1.0 (MinGW), and MSVC VS 19.39.33521 FreeBSD 14.2 Kernel: 14.2-RELEASE Compiler: clang 18.1.6 Ubuntu 20.04 Kernel: 4.19 Compiler: gcc gcc (Ubuntu 9.4.0-1ubuntu1~20.04.2) 9.4.0 CentOS Stream 9 Kernel: 5.15 Compiler: gcc gcc (GCC) 11.5.0 20240719 (Red Hat 11.5.0-7) CentOS Stream 10 Kernel: 5.15 Compiler: gcc gcc (GCC) 14.2.1 20250110 (Red Hat 14.2.1-8) Debian GNU/Linux 12 Kernel: 5.15 Compiler: gcc gcc (Debian 12.2.0-14+deb12u1) 12.2.0 Fedora Linux 40 Kernel: 5.15 Compiler: clang gcc (GCC) 14.2.1 20240912 (Red Hat 14.2.1-3) Fedora Linux 41 Kernel: 5.15 Compiler: clang gcc (GCC) 14.3.1 20250523 (Red Hat 14.3.1-1) openSUSE Leap 15.6 Kernel: 5.15 Compiler: gcc gcc (SUSE Linux) 7.5.0 Red Hat Enterprise Linux 8.10 Kernel: 5.15 Compiler: gcc gcc (GCC) 8.5.0 20210514 (Red Hat 8.5.0-22) Red Hat Enterprise Linux 9.5 Kernel: 5.15 Compiler: gcc gcc (GCC) 11.5.0 20240719 (Red Hat 11.5.0-2) Ubuntu 22.04 Kernel: 5.15 Compiler: gcc gcc (Ubuntu 11.4.0-1ubuntu1~22.04) 11.4.0 Ubuntu 24.04 Kernel: 5.15 Compiler: gcc gcc (Ubuntu 13.3.0-6ubuntu2~24.04) 13.3.0 Alpine Linux 3.22.0 Kernel: 5.15 Compiler: gcc gcc (Alpine 14.2.0) 14.2.0 To view detailed results, visit: https://lab.dpdk.org/results/dashboard/patchsets/33671/ UNH-IOL DPDK Community Lab To manage your email subscriptions, visit: https://lab.dpdk.org/results/dashboard/preferences/subscriptions/