From mboxrd@z Thu Jan 1 00:00:00 1970 Return-Path: Received: from mails.dpdk.org (mails.dpdk.org [217.70.189.124]) by inbox.dpdk.org (Postfix) with ESMTP id 3B24E46B91 for ; Wed, 16 Jul 2025 22:14:40 +0200 (CEST) Received: from mails.dpdk.org (localhost [127.0.0.1]) by mails.dpdk.org (Postfix) with ESMTP id 36729400D6; Wed, 16 Jul 2025 22:14:40 +0200 (CEST) Received: from mail-pl1-f227.google.com (mail-pl1-f227.google.com [209.85.214.227]) by mails.dpdk.org (Postfix) with ESMTP id D577B400D6 for ; Wed, 16 Jul 2025 22:14:39 +0200 (CEST) Received: by mail-pl1-f227.google.com with SMTP id d9443c01a7336-235f9ea8d08so1899845ad.1 for ; Wed, 16 Jul 2025 13:14:39 -0700 (PDT) DKIM-Signature: v=1; a=rsa-sha256; c=relaxed/relaxed; d=iol.unh.edu; s=unh-iol; t=1752696879; x=1753301679; darn=dpdk.org; h=references:in-reply-to:cc:to:from:subject:message-id:date:from:to :cc:subject:date:message-id:reply-to; bh=/u6zhmd4cT3A6xthWFwc/0nBzQayCbKEfnsi8/TngSI=; b=F9/FCkcRvsn9uCW+aVgrY7tth4xRWpLNw2+lq3VyCRlbuVY6E07z46+i6BHqSXcq8F uJ8VXfItnc16ZiIYk2E9hjdZmvOX4MsKZFzR5LbfkrXnLOe+8gMQRS1H4oDkb55DCoQU IrPHb68d8s53AzWdL/k6v+bM/phwrCGijqrCQ= X-Google-DKIM-Signature: v=1; a=rsa-sha256; c=relaxed/relaxed; d=1e100.net; s=20230601; t=1752696879; x=1753301679; h=references:in-reply-to:cc:to:from:subject:message-id:date :x-gm-message-state:from:to:cc:subject:date:message-id:reply-to; bh=/u6zhmd4cT3A6xthWFwc/0nBzQayCbKEfnsi8/TngSI=; b=OgevVVbp8f5prBaaj8MhftFBolxKoGrLx3pIOwq5HzlwsqektL5OmDUOoX06f9tlhS 4xBn5eZYhC6P8uRs4QfOE7V8KMXjkNPxHytrQi2V9UMmvCRbbZ7TJuslefrj3T7OBnxR M+6boNToPcRBYfFMtpT3M71wboS2LGDK15j++fBwocD9B9QTQZ48/vKnuXW0p7VXFDgE pvuYlxZcKakeIdy9aZE12mjfIwfbHtoPOHZx9J98acVP4A/dc/NIdcxQWC78ziuzWGJo HPgdzViZFv/JhMcSxayTUjCGJZO34XwEtA7DUgbZNRIThYPa3tqBuyx9IshSyqJteFqX p7iQ== X-Gm-Message-State: AOJu0YwV8GNb2LKkhRgAi9VpJ0ejJD/UWM1qASK4MpqVLx3zUlvrM3VP txLy8ukmXU2FOExuBM0w8F24WwOF6NY+Ikvh+2SD5BlERxNepY5T6B3S/jZK7L8/jFb478gjSMh 8if+t62Ui6PkiNZ2pth+i6QL7SzZMsfcWWsy2B/nsLCWy X-Gm-Gg: ASbGnct6CZGqSsSrnXRIt7oS2muTbhG5w29oK9VAw9Y+jBTALDOuGR69VDd6lkwiDy/ m9q8fssqDFFk72mGy/4Keb3WDAeAFLAKHI5IwvNtjfZY2X8+BTWM2ehYxrrXKwtyCQ85yqJe/Go Lc2iuyyqAQKEzfcCc4OWTvPuyLmTzapJuun5OotYVqlg7QJC29nLOZ7FSDXas4fxelsPv93e9Fa 7SoQk5phVEWrODQwYnz8csfxBgrjPlLsBN7fLwjmqs4LoD6gv2d2hC+p2h+2vC3xfnb20wE7Qgt iuvJk1t8r6IXAmzhSwsC9oI/5Z9pK+vga8EStyHjnLsRBk6SSgwWAopl601KKBC2vzCIvumc X-Google-Smtp-Source: AGHT+IEMBC7GLnUpR1OO26tpuGMbz+jkPl0h5+w+9SFnjE/xJIDkWGHa3ZG+u66poLRelOm0QkebKu5pfkDx X-Received: by 2002:a17:902:d603:b0:234:d292:be7f with SMTP id d9443c01a7336-23e24f4a936mr61453745ad.31.1752696878906; Wed, 16 Jul 2025 13:14:38 -0700 (PDT) Received: from postal.iol.unh.edu (postal.iol.unh.edu. [132.177.123.84]) by smtp-relay.gmail.com with ESMTPS id d9443c01a7336-23e30dfa49csm48465ad.51.2025.07.16.13.14.38 (version=TLS1_2 cipher=ECDHE-ECDSA-AES128-GCM-SHA256 bits=128/128); Wed, 16 Jul 2025 13:14:38 -0700 (PDT) X-Relaying-Domain: iol.unh.edu Date: Wed, 16 Jul 2025 13:14:38 -0700 (PDT) Message-ID: <6878082e.170a0220.3b4cd0.030bSMTPIN_ADDED_MISSING@mx.google.com> Received: from [172.21.0.5] (unknown [172.18.0.240]) by postal.iol.unh.edu (Postfix) with ESMTP id 0CF72604D420; Wed, 16 Jul 2025 16:14:38 -0400 (EDT) Subject: |SUCCESS| pw155288 [PATCH] mailmap: fix entries with many aliases From: dpdklab@iol.unh.edu To: Test Report Cc: dpdk-test-reports@iol.unh.edu In-Reply-To: <20250716144203.1994070-1-david.marchand@redhat.com> References: <20250716144203.1994070-1-david.marchand@redhat.com> Content-Type: text/plain X-BeenThere: test-report@dpdk.org X-Mailman-Version: 2.1.29 Precedence: list List-Id: automatic DPDK test reports List-Unsubscribe: , List-Archive: List-Post: List-Help: List-Subscribe: , Errors-To: test-report-bounces@dpdk.org Test-Label: iol-unit-arm64-testing Test-Status: SUCCESS http://dpdk.org/patch/155288 _Testing PASS_ Submitter: David Marchand Date: Wednesday, July 16 2025 14:41:59 DPDK git baseline: Repo:dpdk Branch: master CommitID:9fe9c0b231c8da5435bfccb1963121b4277f961c 155288 --> testing pass Upstream job id: Generic-Unit-Test-DPDK#355798 Test environment and result as below: +------------------------------+--------------+----------------+---------------------------+------------------------------+ | Environment | lpm_autotest | dpdk_unit_test | cryptodev_sw_zuc_autotest | cryptodev_sw_snow3g_autotest | +==============================+==============+================+===========================+==============================+ | Ubuntu 20.04 | PASS | PASS | SKIPPED | SKIPPED | +------------------------------+--------------+----------------+---------------------------+------------------------------+ | Fedora Linux 41 | SKIPPED | PASS | SKIPPED | SKIPPED | +------------------------------+--------------+----------------+---------------------------+------------------------------+ | CentOS Stream 10 | SKIPPED | PASS | SKIPPED | SKIPPED | +------------------------------+--------------+----------------+---------------------------+------------------------------+ | CentOS Stream 9 | SKIPPED | PASS | SKIPPED | SKIPPED | +------------------------------+--------------+----------------+---------------------------+------------------------------+ | Ubuntu 24.04 | SKIPPED | PASS | SKIPPED | SKIPPED | +------------------------------+--------------+----------------+---------------------------+------------------------------+ | Red Hat Enterprise Linux 9.5 | SKIPPED | PASS | SKIPPED | SKIPPED | +------------------------------+--------------+----------------+---------------------------+------------------------------+ | Fedora Linux 40 | SKIPPED | PASS | SKIPPED | SKIPPED | +------------------------------+--------------+----------------+---------------------------+------------------------------+ | Ubuntu 22.04 | SKIPPED | PASS | SKIPPED | SKIPPED | +------------------------------+--------------+----------------+---------------------------+------------------------------+ | Debian GNU/Linux 12 | SKIPPED | PASS | SKIPPED | SKIPPED | +------------------------------+--------------+----------------+---------------------------+------------------------------+ | Debian 12 (arm) | SKIPPED | SKIPPED | PASS | PASS | +------------------------------+--------------+----------------+---------------------------+------------------------------+ Ubuntu 20.04 Kernel: 5.4 Compiler: gcc gcc (Ubuntu 9.4.0-1ubuntu1~20.04.2) 9.4.0 Fedora Linux 41 Kernel: 5.4 Compiler: clang gcc (GCC) 14.3.1 20250523 (Red Hat 14.3.1-1) CentOS Stream 10 Kernel: 5.4 Compiler: gcc gcc (GCC) 14.2.1 20250110 (Red Hat 14.2.1-8) CentOS Stream 9 Kernel: 5.4 Compiler: gcc gcc (GCC) 11.5.0 20240719 (Red Hat 11.5.0-7) Ubuntu 24.04 Kernel: 5.4 Compiler: gcc gcc (Ubuntu 13.3.0-6ubuntu2~24.04) 13.3.0 Red Hat Enterprise Linux 9.5 Kernel: 5.4 Compiler: gcc gcc (GCC) 11.5.0 20240719 (Red Hat 11.5.0-2) Fedora Linux 40 Kernel: 5.4 Compiler: clang gcc (GCC) 14.2.1 20240912 (Red Hat 14.2.1-3) Ubuntu 22.04 Kernel: 5.4 Compiler: gcc gcc (Ubuntu 11.4.0-1ubuntu1~22.04) 11.4.0 Debian GNU/Linux 12 Kernel: 5.4 Compiler: gcc gcc (Debian 12.2.0-14+deb12u1) 12.2.0 Debian 12 (arm) Kernel: Depends on container host Compiler: gcc (Debian 12.2.0-14) 12.2.0 To view detailed results, visit: https://lab.dpdk.org/results/dashboard/patchsets/33671/ UNH-IOL DPDK Community Lab To manage your email subscriptions, visit: https://lab.dpdk.org/results/dashboard/preferences/subscriptions/