From mboxrd@z Thu Jan 1 00:00:00 1970 Return-Path: Received: from mails.dpdk.org (mails.dpdk.org [217.70.189.124]) by inbox.dpdk.org (Postfix) with ESMTP id 58D7D46B91 for ; Wed, 16 Jul 2025 22:17:56 +0200 (CEST) Received: from mails.dpdk.org (localhost [127.0.0.1]) by mails.dpdk.org (Postfix) with ESMTP id 51E47400D6; Wed, 16 Jul 2025 22:17:56 +0200 (CEST) Received: from mail-pl1-f226.google.com (mail-pl1-f226.google.com [209.85.214.226]) by mails.dpdk.org (Postfix) with ESMTP id 75154400D6 for ; Wed, 16 Jul 2025 22:17:55 +0200 (CEST) Received: by mail-pl1-f226.google.com with SMTP id d9443c01a7336-235ea292956so2067145ad.1 for ; Wed, 16 Jul 2025 13:17:55 -0700 (PDT) DKIM-Signature: v=1; a=rsa-sha256; c=relaxed/relaxed; d=iol.unh.edu; s=unh-iol; t=1752697074; x=1753301874; darn=dpdk.org; h=references:in-reply-to:cc:to:from:subject:message-id:date:from:to :cc:subject:date:message-id:reply-to; bh=CERzyKLMK9RuD7YK4+dZq+R7ZAOCDYtHTJzQj4Uq/zA=; b=QO+aX2XQjpwmFKfUUeAsqi7SAQZRJoguEKAdB8llSCM3ds1qwF7Mift7KikBC0u3Cc XlHgZfsuBpgSZ+iptSWG5JjGZMgcb1tX0QfjuRla5OcEAS/mrjyalSe8VQ51IauhB/dD TBTpW+/EU9I9lKYzu2CBi6P7dItLRPjngQnG0= X-Google-DKIM-Signature: v=1; a=rsa-sha256; c=relaxed/relaxed; d=1e100.net; s=20230601; t=1752697074; x=1753301874; h=references:in-reply-to:cc:to:from:subject:message-id:date :x-gm-message-state:from:to:cc:subject:date:message-id:reply-to; bh=CERzyKLMK9RuD7YK4+dZq+R7ZAOCDYtHTJzQj4Uq/zA=; b=uXbW+bZ5hBuu9DH5r2BGlAodcYdasGs9thOGEdMDzynzENmLuxfvcNEoGwL8su2d0z tUgt1G8wPQha9HMjwzASyps+5BUv+5HBfdMgXnwx7Sg1kpk3A5CsItGqr/Cv1lb79Qpk acPQQWmOcyZ3UJX+2JxJEqunJMH0WheBcxTWnO6geJVvY46xENSHybs8OBF6n7KN8kdU B7cJgFAKbCFGpNP0a0Nt5G9N6G/ZyiVdvseCvULKQDRqVagPuhX97NVfMTbRWnhXKBH3 NNF4Rjlu5cV/CUUdRrFWr/jcK2lpkhdbQW0JJuZSb1n5OUQWoE85e/4VRqoqvJqG0Tde YXpA== X-Gm-Message-State: AOJu0YwWX9rwMKXW9Bll1QF58Q/gLAKOfWoUAzVJYUHfEXvmjRTLPjO6 ZPYGtRcxj/ZgiWmHT/lvJQjrnWubbz0QXsNI4/Nb0lxaehM1a05qAQnaYoCjXx56KRu3TNMs/oQ N9frHeApQLTwdS7Fr9Y7qpdBkJy3LEfdIJzBZFBjRmvGHuc2Bb+LR4nsVh93T X-Gm-Gg: ASbGnctY9lyfpTUlEnb3RTvRh3kt5T/mBYaXde1I5opVDNsz6i35KjFpYuxQJhVg7/V GI2+1tVfipmQL99eNdjbvvVeOu4Me7avQ0nhfZpKpElAIF3ohxwALFjjBBlz4jEQv3NkNXkx40c KzesRqykg1QC2hSQKbw2dos4J1uXIo0H51YDT5XUIc9Cl02n0KkO4HUWLT1w6GqZCWnJoD2u+ZA S12l01kYVBD1VGzZCrjkqO/ukllwetdPUgjQhrEhpfzg/pBGeC4ZKX3s6qP2CrO0XY+f/PVjAxu zeCMKuQNQl+S1mrxYCEpSRDA8raOi8TVDyTtur3rQubqlU3cvw== X-Google-Smtp-Source: AGHT+IGvDplGqffH2qSbepxpVd5JC7AYQ7R3VGRCUACRVmy5zzex2ZyKw0iLmV/9dmyoQwL2aIYgRxLBKpLy X-Received: by 2002:a17:903:40c9:b0:235:5d1:e366 with SMTP id d9443c01a7336-23e25684990mr62080105ad.10.1752697074570; Wed, 16 Jul 2025 13:17:54 -0700 (PDT) Received: from postal.iol.unh.edu (postal.iol.unh.edu. [2606:4100:3880:1234::84]) by smtp-relay.gmail.com with ESMTPS id d9443c01a7336-23de432ce79sm8258095ad.84.2025.07.16.13.17.54 (version=TLS1_2 cipher=ECDHE-ECDSA-AES128-GCM-SHA256 bits=128/128); Wed, 16 Jul 2025 13:17:54 -0700 (PDT) X-Relaying-Domain: iol.unh.edu Date: Wed, 16 Jul 2025 13:17:54 -0700 (PDT) Message-ID: <687808f2.170a0220.529b7.4e0bSMTPIN_ADDED_MISSING@mx.google.com> Received: from [172.21.0.5] (unknown [172.18.0.240]) by postal.iol.unh.edu (Postfix) with ESMTP id C4C24604D420; Wed, 16 Jul 2025 16:17:53 -0400 (EDT) Subject: |SUCCESS| pw155290-155292 [PATCH] [v6,3/3] doc: revise coding guidel From: dpdklab@iol.unh.edu To: Test Report Cc: dpdk-test-reports@iol.unh.edu In-Reply-To: <20250716182546.58567-3-dmarx@iol.unh.edu> References: <20250716182546.58567-3-dmarx@iol.unh.edu> Content-Type: text/plain X-BeenThere: test-report@dpdk.org X-Mailman-Version: 2.1.29 Precedence: list List-Id: automatic DPDK test reports List-Unsubscribe: , List-Archive: List-Post: List-Help: List-Subscribe: , Errors-To: test-report-bounces@dpdk.org Test-Label: iol-compile-amd64-testing Test-Status: SUCCESS http://dpdk.org/patch/155292 _Testing PASS_ Submitter: Dean Marx Date: Wednesday, July 16 2025 18:25:46 DPDK git baseline: Repo:dpdk Branch: master CommitID:9fe9c0b231c8da5435bfccb1963121b4277f961c 155290-155292 --> testing pass Upstream job id: Windows-Compile-DPDK-Native#29823 Test environment and result as below: +---------------------+--------------------+-------------------------+-------------------+----------------------+ | Environment | dpdk_meson_compile | dpdk_llvm_clang_compile | dpdk_msvc_compile | dpdk_mingw64_compile | +=====================+====================+=========================+===================+======================+ | Ubuntu 20.04 | PASS | SKIPPED | SKIPPED | SKIPPED | +---------------------+--------------------+-------------------------+-------------------+----------------------+ | FreeBSD 14.2 | PASS | SKIPPED | SKIPPED | SKIPPED | +---------------------+--------------------+-------------------------+-------------------+----------------------+ | Windows Server 2022 | SKIPPED | PASS | PASS | PASS | +---------------------+--------------------+-------------------------+-------------------+----------------------+ Ubuntu 20.04 Kernel: 4.19 Compiler: gcc gcc (Ubuntu 9.4.0-1ubuntu1~20.04.2) 9.4.0 FreeBSD 14.2 Kernel: 14.2-RELEASE Compiler: clang 18.1.6 Windows Server 2022 Kernel: 10.0.20348.2031 Compiler: clang 15.0.7, gcc 14.1.0 (MinGW), and MSVC VS 19.39.33521 To view detailed results, visit: https://lab.dpdk.org/results/dashboard/patchsets/33673/ UNH-IOL DPDK Community Lab To manage your email subscriptions, visit: https://lab.dpdk.org/results/dashboard/preferences/subscriptions/