From mboxrd@z Thu Jan 1 00:00:00 1970 Return-Path: Received: from mails.dpdk.org (mails.dpdk.org [217.70.189.124]) by inbox.dpdk.org (Postfix) with ESMTP id 752C046B91 for ; Wed, 16 Jul 2025 22:29:05 +0200 (CEST) Received: from mails.dpdk.org (localhost [127.0.0.1]) by mails.dpdk.org (Postfix) with ESMTP id 5B72D400D6; Wed, 16 Jul 2025 22:29:05 +0200 (CEST) Received: from mail-pl1-f226.google.com (mail-pl1-f226.google.com [209.85.214.226]) by mails.dpdk.org (Postfix) with ESMTP id 09EF5400D6 for ; Wed, 16 Jul 2025 22:29:04 +0200 (CEST) Received: by mail-pl1-f226.google.com with SMTP id d9443c01a7336-23649faf69fso2339485ad.0 for ; Wed, 16 Jul 2025 13:29:03 -0700 (PDT) DKIM-Signature: v=1; a=rsa-sha256; c=relaxed/relaxed; d=iol.unh.edu; s=unh-iol; t=1752697743; x=1753302543; darn=dpdk.org; h=references:in-reply-to:cc:to:from:subject:message-id:date:from:to :cc:subject:date:message-id:reply-to; bh=QcDPPDUFLaZoMnleaeJE4RDSQLhqWzVyGh1SGDFqRSg=; b=RX9MkUyYIBHXOkLB9qX8kBMwGrLB23fdNHZ0+j/Mup84Jc4cSyQXdvuy1MjlgEmCyk eiFlJqUuTmuHunzaPn1ant3XjsENupSY8Q1ZgQrxFnBD2t/p3OXRsxcgRnJqx2REn7Ph R7JOVC4lRVdQIKDuMWSlmAMyhUfnkwcRNLIjw= X-Google-DKIM-Signature: v=1; a=rsa-sha256; c=relaxed/relaxed; d=1e100.net; s=20230601; t=1752697743; x=1753302543; h=references:in-reply-to:cc:to:from:subject:message-id:date :x-gm-message-state:from:to:cc:subject:date:message-id:reply-to; bh=QcDPPDUFLaZoMnleaeJE4RDSQLhqWzVyGh1SGDFqRSg=; b=goQ54+dB66mk7knTmD6tBH0vQ5cV45sPiLdOhrHeaAIxqS8aWn+2zRDIxumV7483XY 6Yz77uBtM7JWP09MM8ylD8e2z456iK6x53YMPygaOGIH4ZEQ/8VVuT+LtJzQhS03L3W3 MfZzg6qym4fGWMVzrBqC9Nb+lHEiD0w1xPomc5Tao1SipCiaE3LFpBEuF+K3eGqaxxzi lt8jsU8jKLzSVvQeIOu+ZfMhgQWhLCMjA91YkOGy2FjDjKLjM1ABgvUMT8EoXaNlheFR GWD1LYmZ4T7KkEBtpJWmwL1gz21saZMnm1HsMhaudn3V72aL0a8MT3+UQSJgG0m+Ptgf I5TQ== X-Gm-Message-State: AOJu0YwDs9ilN+EX851vWwJ61zrkk6UwJGpJiHe7ggflLyQYkzaSQLw1 VfrlwtcEWSIeBGWr+Q0YL8YHQ87Xe+Y60m1B5PbutPOSx2xz0j5uBLvJuwTQHXDakaGbuL+phdl KeCPeXfH67JCh933RQTyK4Z5/zvQ25hxgEPQau4CzLKk47MrQ0lttgtvmswzQ X-Gm-Gg: ASbGncuBNhxy4GsHSPMaJVvVpL6gTbJ3KkMMZNjd1sA9AtOaIFTwsjxzWdFTqxjkRKU Oz4E+G+yN2ZwyUF/hAmoTOq3HJH2f9XaFCLur+mig6HPwe7KjSDa8fVEVJT1Y5SYSZQx7/DFB3r /ph2FCch0CSSt5W1G56A6BayWx622TjYgbciMIjlC0viWwFLjFEpg3pyEHGgJrk/dmWo7Xz5Ryf hCW0Ycj8ec7U48to0OFMLowS5umRu4qOkE7D3ZqW1tN6t5LxhRhQDR5pDd1rk75I6tavafxQvO9 IKfg05joX1xj23TXEHJEVwN6h2f+aLawGrln/WgVCvcAI7mziQ== X-Google-Smtp-Source: AGHT+IEelKfWbOg7/T72rQ0uMCCJZ6Yg5zf3oFP3JX2IUOiHUGyYghY9yR3b93sYZ359h/GcPHPHdbz+FhId X-Received: by 2002:a17:902:f688:b0:235:880:cf70 with SMTP id d9443c01a7336-23e256ae9a1mr54016165ad.14.1752697743116; Wed, 16 Jul 2025 13:29:03 -0700 (PDT) Received: from postal.iol.unh.edu (postal.iol.unh.edu. [2606:4100:3880:1234::84]) by smtp-relay.gmail.com with ESMTPS id d9443c01a7336-23de432dd10sm8413165ad.85.2025.07.16.13.29.03 (version=TLS1_2 cipher=ECDHE-ECDSA-AES128-GCM-SHA256 bits=128/128); Wed, 16 Jul 2025 13:29:03 -0700 (PDT) X-Relaying-Domain: iol.unh.edu Date: Wed, 16 Jul 2025 13:29:03 -0700 (PDT) Message-ID: <68780b8f.170a0220.4ec21.d4e6SMTPIN_ADDED_MISSING@mx.google.com> Received: from [172.21.0.5] (unknown [172.18.0.240]) by postal.iol.unh.edu (Postfix) with ESMTP id 8E0F2604D420; Wed, 16 Jul 2025 16:29:02 -0400 (EDT) Subject: |SUCCESS| pw155289 [PATCH] net/ice: fix assumption about tag placeme From: dpdklab@iol.unh.edu To: Test Report Cc: dpdk-test-reports@iol.unh.edu In-Reply-To: <20250716173922.688476-1-bruce.richardson@intel.com> References: <20250716173922.688476-1-bruce.richardson@intel.com> Content-Type: text/plain X-BeenThere: test-report@dpdk.org X-Mailman-Version: 2.1.29 Precedence: list List-Id: automatic DPDK test reports List-Unsubscribe: , List-Archive: List-Post: List-Help: List-Subscribe: , Errors-To: test-report-bounces@dpdk.org Test-Label: iol-abi-testing Test-Status: SUCCESS http://dpdk.org/patch/155289 _Testing PASS_ Submitter: Bruce Richardson Date: Wednesday, July 16 2025 17:39:22 DPDK git baseline: Repo:dpdk Branch: master CommitID:a6b10031d251fcc7dadede461f7e1d005024b139 155289 --> testing pass Upstream job id: Generic-DPDK-Compile-ABI#134571 Test environment and result as below: +-------------------------------+----------+ | Environment | abi_test | +===============================+==========+ | CentOS Stream 9 | PASS | +-------------------------------+----------+ | Fedora Linux 40 | PASS | +-------------------------------+----------+ | CentOS Stream 10 | PASS | +-------------------------------+----------+ | Debian GNU/Linux 12 | PASS | +-------------------------------+----------+ | Fedora Linux 41 | PASS | +-------------------------------+----------+ | Red Hat Enterprise Linux 8.10 | PASS | +-------------------------------+----------+ | openSUSE Leap 15.6 | PASS | +-------------------------------+----------+ | Ubuntu 22.04 | PASS | +-------------------------------+----------+ | Red Hat Enterprise Linux 9.5 | PASS | +-------------------------------+----------+ | Ubuntu 24.04 | PASS | +-------------------------------+----------+ CentOS Stream 9 Kernel: 5.15 Compiler: gcc gcc (GCC) 11.5.0 20240719 (Red Hat 11.5.0-7) Fedora Linux 40 Kernel: 5.15 Compiler: gcc gcc (GCC) 14.2.1 20240912 (Red Hat 14.2.1-3) CentOS Stream 10 Kernel: 5.15 Compiler: gcc gcc (GCC) 14.2.1 20250110 (Red Hat 14.2.1-8) Debian GNU/Linux 12 Kernel: 5.15 Compiler: gcc gcc (Debian 12.2.0-14+deb12u1) 12.2.0 Fedora Linux 41 Kernel: 5.15 Compiler: clang gcc (GCC) 14.3.1 20250523 (Red Hat 14.3.1-1) Red Hat Enterprise Linux 8.10 Kernel: 5.15 Compiler: gcc gcc (GCC) 8.5.0 20210514 (Red Hat 8.5.0-22) openSUSE Leap 15.6 Kernel: 5.15 Compiler: gcc gcc (SUSE Linux) 7.5.0 Ubuntu 22.04 Kernel: 5.15 Compiler: gcc gcc (Ubuntu 11.4.0-1ubuntu1~22.04) 11.4.0 Red Hat Enterprise Linux 9.5 Kernel: 5.15 Compiler: gcc gcc (GCC) 11.5.0 20240719 (Red Hat 11.5.0-2) Ubuntu 24.04 Kernel: 5.15 Compiler: gcc gcc (Ubuntu 13.3.0-6ubuntu2~24.04) 13.3.0 To view detailed results, visit: https://lab.dpdk.org/results/dashboard/patchsets/33672/ UNH-IOL DPDK Community Lab To manage your email subscriptions, visit: https://lab.dpdk.org/results/dashboard/preferences/subscriptions/