From mboxrd@z Thu Jan 1 00:00:00 1970 Return-Path: Received: from mails.dpdk.org (mails.dpdk.org [217.70.189.124]) by inbox.dpdk.org (Postfix) with ESMTP id 25BF646B91 for ; Wed, 16 Jul 2025 22:41:13 +0200 (CEST) Received: from mails.dpdk.org (localhost [127.0.0.1]) by mails.dpdk.org (Postfix) with ESMTP id 1E28D400D6; Wed, 16 Jul 2025 22:41:13 +0200 (CEST) Received: from mail-qt1-f228.google.com (mail-qt1-f228.google.com [209.85.160.228]) by mails.dpdk.org (Postfix) with ESMTP id 14089400D6 for ; Wed, 16 Jul 2025 22:41:12 +0200 (CEST) Received: by mail-qt1-f228.google.com with SMTP id d75a77b69052e-4ab3d08dd53so2838291cf.1 for ; Wed, 16 Jul 2025 13:41:12 -0700 (PDT) DKIM-Signature: v=1; a=rsa-sha256; c=relaxed/relaxed; d=iol.unh.edu; s=unh-iol; t=1752698471; x=1753303271; darn=dpdk.org; h=references:in-reply-to:cc:to:from:subject:message-id:date:from:to :cc:subject:date:message-id:reply-to; bh=BafBW5AX3Ka3LAuNuTrLd7qzoRG01hrMMSV6ty1Ojb0=; b=dfb/iQw5NvnPCk+zV3o1qj2vIWBQYpTjn6AwN4lmhRM0m76S33O+X2ZBK6UWWMIJrf JuyxXpYqFGy1Y25SGwWDApf8fEGZFbUbpC5JQnR0daQP+e35alSyZz9xZH3HJ88IlYAw NTpKx2p+LLv//Cr3WEDi/VcN3AnDCGMkuFheU= X-Google-DKIM-Signature: v=1; a=rsa-sha256; c=relaxed/relaxed; d=1e100.net; s=20230601; t=1752698471; x=1753303271; h=references:in-reply-to:cc:to:from:subject:message-id:date :x-gm-message-state:from:to:cc:subject:date:message-id:reply-to; bh=BafBW5AX3Ka3LAuNuTrLd7qzoRG01hrMMSV6ty1Ojb0=; b=jCY0BUrmUhtK5NoV5UiHJ6c8LlxucfRO1nbPHNVPAHK/FM5/A4q7BffOHtZUuSPiIY VvHrjXJ4AouP1dtf7vSETw7c9zzamZxcBLlMpxJyYyroaPTfdE30SHbTMb1wJ8TITtA/ o3zMUQsdSu2Y+B4hEznbOaOqVJv7zI6YtEeGyzd3UHOeoiLfUFfaQOpmKzOGl3ZlSJPN CX7JK6SKxuvvt2VhxKhRU5j9ZqZHL0OMNC6fpund94v4QP5bzZh4DWJpnxI2RQooXpWi EPd1rpDPeR0JAS+igmNwgUGqI8KfNENB/XGx8buPGxE3wIMmgQ0s2Nr/mRA6YU60V/fV YYyA== X-Gm-Message-State: AOJu0YxB3P/ZnkGrvAONoUy+wC/6kqYQxdv/TClQnBAJrCIcm4pYEJeh 7JSYkc/zHm09VpJdlo3irP+Gq9244DdP+oExav2vxI5o2ZLyq908JMGlDHugn1lzkystkEh2Oz7 v5YvamK5rp0Jzns3T1P1K61Fp05MPh3TvjCdQPfARZh5NWHGYQmmuJAbGXqIQ X-Gm-Gg: ASbGnctN3QmJ+Ws/es+boI51hJEMISdVUELvzSx4GcxLNiB2PLtAxxKRehNMmO/U8ty flpSRJi9AlqJkJag3q3YOebs7DZiiNbcoNwhmMq9ovtMboq8P0xIy4HJl7j5UeI4dQrJEXXLhpg hsNDEhW11kMz8SoId0gukIyZx/wTUlhWdIYz2K/F6ZXT1oiVONuP0ehzL0HMkwFJWCD2GVYVu32 m+HRhDXwnygN8u/9rGqa42ryev64pmcV++nAChBjmUnhcGx6xy4Fg7cnK/1ItcTtajQNyFKzD+c bF9eHTxda79gVcJeLx3rdFXMU6Fr4IWY8Uf3n0kn/5ciBo8HZw== X-Google-Smtp-Source: AGHT+IHRgir9d/5NnUUnf+p0hWJy9ErqwwxrIGDO4sVYEYUgJ0GnBis1dlWdvhVW30Cq2Uo21cxNRdZAKLhs X-Received: by 2002:a05:622a:5b0d:b0:4ab:765e:5fdd with SMTP id d75a77b69052e-4ab93d46e2cmr59252001cf.24.1752698471412; Wed, 16 Jul 2025 13:41:11 -0700 (PDT) Received: from postal.iol.unh.edu (postal.iol.unh.edu. [2606:4100:3880:1234::84]) by smtp-relay.gmail.com with ESMTPS id d75a77b69052e-4ab38c58560sm5887541cf.18.2025.07.16.13.41.11 (version=TLS1_2 cipher=ECDHE-ECDSA-AES128-GCM-SHA256 bits=128/128); Wed, 16 Jul 2025 13:41:11 -0700 (PDT) X-Relaying-Domain: iol.unh.edu Date: Wed, 16 Jul 2025 13:41:11 -0700 (PDT) Message-ID: <68780e67.050a0220.2231e4.0b24SMTPIN_ADDED_MISSING@mx.google.com> Received: from [172.21.0.11] (unknown [172.18.0.240]) by postal.iol.unh.edu (Postfix) with ESMTP id 19519604D420; Wed, 16 Jul 2025 16:41:11 -0400 (EDT) Subject: |SUCCESS| pw155289 [PATCH] net/ice: fix assumption about tag placeme From: dpdklab@iol.unh.edu To: Test Report Cc: dpdk-test-reports@iol.unh.edu In-Reply-To: <20250716173922.688476-1-bruce.richardson@intel.com> References: <20250716173922.688476-1-bruce.richardson@intel.com> Content-Type: text/plain X-BeenThere: test-report@dpdk.org X-Mailman-Version: 2.1.29 Precedence: list List-Id: automatic DPDK test reports List-Unsubscribe: , List-Archive: List-Post: List-Help: List-Subscribe: , Errors-To: test-report-bounces@dpdk.org Test-Label: iol-compile-amd64-testing Test-Status: SUCCESS http://dpdk.org/patch/155289 _Testing PASS_ Submitter: Bruce Richardson Date: Wednesday, July 16 2025 17:39:22 DPDK git baseline: Repo:dpdk Branch: master CommitID:a6b10031d251fcc7dadede461f7e1d005024b139 155289 --> testing pass Upstream job id: Generic-DPDK-Compile-Meson#409252 Test environment and result as below: +-------------------------------+--------------------+-------------------+-------------------------+-------------------+------------------+----------------------+ | Environment | dpdk_meson_compile | dpdk_msvc_compile | dpdk_llvm_clang_compile | dpdk_compile_spdk | dpdk_compile_ovs | dpdk_mingw64_compile | +===============================+====================+===================+=========================+===================+==================+======================+ | FreeBSD 14.2 | PASS | SKIPPED | SKIPPED | SKIPPED | SKIPPED | SKIPPED | +-------------------------------+--------------------+-------------------+-------------------------+-------------------+------------------+----------------------+ | Ubuntu 20.04 | PASS | SKIPPED | SKIPPED | SKIPPED | SKIPPED | SKIPPED | +-------------------------------+--------------------+-------------------+-------------------------+-------------------+------------------+----------------------+ | CentOS Stream 9 | PASS | SKIPPED | SKIPPED | PASS | SKIPPED | SKIPPED | +-------------------------------+--------------------+-------------------+-------------------------+-------------------+------------------+----------------------+ | CentOS Stream 10 | PASS | SKIPPED | SKIPPED | SKIPPED | SKIPPED | SKIPPED | +-------------------------------+--------------------+-------------------+-------------------------+-------------------+------------------+----------------------+ | Debian GNU/Linux 12 | PASS | SKIPPED | SKIPPED | PASS | SKIPPED | SKIPPED | +-------------------------------+--------------------+-------------------+-------------------------+-------------------+------------------+----------------------+ | Fedora Linux 40 | PASS | SKIPPED | SKIPPED | PASS | SKIPPED | SKIPPED | +-------------------------------+--------------------+-------------------+-------------------------+-------------------+------------------+----------------------+ | Fedora Linux 41 | PASS | SKIPPED | SKIPPED | PASS | PASS | SKIPPED | +-------------------------------+--------------------+-------------------+-------------------------+-------------------+------------------+----------------------+ | openSUSE Leap 15.6 | PASS | SKIPPED | SKIPPED | SKIPPED | SKIPPED | SKIPPED | +-------------------------------+--------------------+-------------------+-------------------------+-------------------+------------------+----------------------+ | Red Hat Enterprise Linux 8.10 | PASS | SKIPPED | SKIPPED | SKIPPED | SKIPPED | SKIPPED | +-------------------------------+--------------------+-------------------+-------------------------+-------------------+------------------+----------------------+ | Red Hat Enterprise Linux 9.5 | PASS | SKIPPED | SKIPPED | SKIPPED | SKIPPED | SKIPPED | +-------------------------------+--------------------+-------------------+-------------------------+-------------------+------------------+----------------------+ | Ubuntu 22.04 | PASS | SKIPPED | SKIPPED | PASS | SKIPPED | SKIPPED | +-------------------------------+--------------------+-------------------+-------------------------+-------------------+------------------+----------------------+ | Ubuntu 24.04 | PASS | SKIPPED | SKIPPED | PASS | PASS | SKIPPED | +-------------------------------+--------------------+-------------------+-------------------------+-------------------+------------------+----------------------+ | Alpine Linux 3.22.0 | PASS | SKIPPED | SKIPPED | SKIPPED | SKIPPED | SKIPPED | +-------------------------------+--------------------+-------------------+-------------------------+-------------------+------------------+----------------------+ | Windows Server 2022 | SKIPPED | PASS | PASS | SKIPPED | SKIPPED | PASS | +-------------------------------+--------------------+-------------------+-------------------------+-------------------+------------------+----------------------+ FreeBSD 14.2 Kernel: 14.2-RELEASE Compiler: clang 18.1.6 Ubuntu 20.04 Kernel: 4.19 Compiler: gcc gcc (Ubuntu 9.4.0-1ubuntu1~20.04.2) 9.4.0 CentOS Stream 9 Kernel: 5.15 Compiler: gcc gcc (GCC) 11.5.0 20240719 (Red Hat 11.5.0-7) CentOS Stream 10 Kernel: 5.15 Compiler: gcc gcc (GCC) 14.2.1 20250110 (Red Hat 14.2.1-8) Debian GNU/Linux 12 Kernel: 5.15 Compiler: gcc gcc (Debian 12.2.0-14+deb12u1) 12.2.0 Fedora Linux 40 Kernel: 5.15 Compiler: clang gcc (GCC) 14.2.1 20240912 (Red Hat 14.2.1-3) Fedora Linux 41 Kernel: 5.15 Compiler: clang gcc (GCC) 14.3.1 20250523 (Red Hat 14.3.1-1) openSUSE Leap 15.6 Kernel: 5.15 Compiler: gcc gcc (SUSE Linux) 7.5.0 Red Hat Enterprise Linux 8.10 Kernel: 5.15 Compiler: gcc gcc (GCC) 8.5.0 20210514 (Red Hat 8.5.0-22) Red Hat Enterprise Linux 9.5 Kernel: 5.15 Compiler: gcc gcc (GCC) 11.5.0 20240719 (Red Hat 11.5.0-2) Ubuntu 22.04 Kernel: 5.15 Compiler: gcc gcc (Ubuntu 11.4.0-1ubuntu1~22.04) 11.4.0 Ubuntu 24.04 Kernel: 5.15 Compiler: gcc gcc (Ubuntu 13.3.0-6ubuntu2~24.04) 13.3.0 Alpine Linux 3.22.0 Kernel: 5.15 Compiler: gcc gcc (Alpine 14.2.0) 14.2.0 Windows Server 2022 Kernel: 10.0.20348.2031 Compiler: clang 15.0.7, gcc 14.1.0 (MinGW), and MSVC VS 19.39.33521 To view detailed results, visit: https://lab.dpdk.org/results/dashboard/patchsets/33672/ UNH-IOL DPDK Community Lab To manage your email subscriptions, visit: https://lab.dpdk.org/results/dashboard/preferences/subscriptions/