From mboxrd@z Thu Jan 1 00:00:00 1970 Return-Path: Received: from mails.dpdk.org (mails.dpdk.org [217.70.189.124]) by inbox.dpdk.org (Postfix) with ESMTP id A2F6146B91 for ; Wed, 16 Jul 2025 22:45:15 +0200 (CEST) Received: from mails.dpdk.org (localhost [127.0.0.1]) by mails.dpdk.org (Postfix) with ESMTP id 789A84014F; Wed, 16 Jul 2025 22:45:15 +0200 (CEST) Received: from mail-io1-f100.google.com (mail-io1-f100.google.com [209.85.166.100]) by mails.dpdk.org (Postfix) with ESMTP id E18164014F for ; Wed, 16 Jul 2025 22:45:14 +0200 (CEST) Received: by mail-io1-f100.google.com with SMTP id ca18e2360f4ac-8733548c627so9771239f.3 for ; Wed, 16 Jul 2025 13:45:14 -0700 (PDT) DKIM-Signature: v=1; a=rsa-sha256; c=relaxed/relaxed; d=iol.unh.edu; s=unh-iol; t=1752698714; x=1753303514; darn=dpdk.org; h=references:in-reply-to:cc:to:from:subject:message-id:date:from:to :cc:subject:date:message-id:reply-to; bh=TJdh0dr+3OFe/7g0hnOnO9spiY7wIFDm8GwfT3+NPxU=; b=jTWqi6XfMYQqykZbyoT1Cbxp7keHbndfK7qyjrWl9aYoWD3G5o4bsn24BeYiBCUfUO bSEhbrVUnNhYcTwcCcPyf1+0fCb14QMm1NEiGcO2kceC6QcPeAa2OUG0PLGVQzKhlZGR BXhP58OUuZfITjapflCZ2PxyXcIRVU0cKeTPU= X-Google-DKIM-Signature: v=1; a=rsa-sha256; c=relaxed/relaxed; d=1e100.net; s=20230601; t=1752698714; x=1753303514; h=references:in-reply-to:cc:to:from:subject:message-id:date :x-gm-message-state:from:to:cc:subject:date:message-id:reply-to; bh=TJdh0dr+3OFe/7g0hnOnO9spiY7wIFDm8GwfT3+NPxU=; b=cBACkGwZ3OtFuu9iMU4y0lrppezOJSAwv21YK5Mt4zS44V7lxt+xRTjz59UHUSl+ce fCngC5BHdAuOMjW5RpZZ1o4gwf5JfFbHKeu1aK9neDqR2t0Xz9D2bfocXZLwO8QWa1hg kU2rEGe2waeyRRN13wDG+ZwOpamJolJ3JaBq+scjEzECBLS7Xnf41V/qCDjGiRFKc8jE ciNpL3244vBvL90vxO5scRPrzmooD7P54HbpOByR4RDmie/AM9GidQ5PDY0ry4eDlSQu kddJbExwGNN543iKFU1lprZucCA8jZiCG5xzQe3x1yLWNWcivuYFK439kTU85xlX4xrK KG9w== X-Gm-Message-State: AOJu0YwdV92Nq53aP778m4JEvEt1kz72bWKBbdCsQjmfgZ1cr/EsC+OQ /cKqhL17BoK4cXii8qQhpKfKuhWoS7Sn7W6+hRFvPf3XdRUq7vMVSiRLvsJlCRM9L42gxK9T6BQ A2mg20Ggf1UhWc7hHv3VLaDHgHjiaVTKltt/07L6Q/o2D50lRezE46ms1Q06W X-Gm-Gg: ASbGncuHLxtLuMSfqcrXbEBToBvWw4+F8pJk5nQvhS5LIWs4UJ82Ynceu2cmXNozm3w /q2Sui7coYKK4Luy4S/uUDrOOLlWKODb/NVjUbsA+wGkc02ykenI9z0vYvOlOpVI6kiY5LbjffJ 9gIfCecauAh5YR9XZtycgH2wljtYs42hmohwH8je4CeoUdoRKnmJQsdHf+UYRsdq0eOUi9d3xrc 1WWp5rBSLy7p4CXEXRe3wYxEllCidnIZXP0y84hsoaXskKOCBRl9zjO43uGNg2XTKfSUGPCYNGg 4Zpgvyl7kXx8JiKzMk65/NK1+GrhqQfYhPedkSCW2yN3z/JDBg== X-Google-Smtp-Source: AGHT+IGHpUMlkTofSdPQCLpUmCFYorOgbt5qECgXLGPk2fw0N90BvOO5hyj2tFlBlKI9B/DgiPYjAAIziqRS X-Received: by 2002:a05:6602:6010:b0:876:a8dc:96cc with SMTP id ca18e2360f4ac-87c0136243cmr40132039f.6.1752698714099; Wed, 16 Jul 2025 13:45:14 -0700 (PDT) Received: from postal.iol.unh.edu (postal.iol.unh.edu. [2606:4100:3880:1234::84]) by smtp-relay.gmail.com with ESMTPS id 8926c6da1cb9f-5055698468csm723108173.52.2025.07.16.13.45.14 (version=TLS1_2 cipher=ECDHE-ECDSA-AES128-GCM-SHA256 bits=128/128); Wed, 16 Jul 2025 13:45:14 -0700 (PDT) X-Relaying-Domain: iol.unh.edu Date: Wed, 16 Jul 2025 13:45:14 -0700 (PDT) Message-ID: <68780f5a.050a0220.34496b.852bSMTPIN_ADDED_MISSING@mx.google.com> Received: from [172.21.0.5] (unknown [172.18.0.240]) by postal.iol.unh.edu (Postfix) with ESMTP id 99456604D420; Wed, 16 Jul 2025 16:45:13 -0400 (EDT) Subject: |SUCCESS| pw155290-155292 [PATCH] [v6,3/3] doc: revise coding guidel From: dpdklab@iol.unh.edu To: Test Report Cc: dpdk-test-reports@iol.unh.edu In-Reply-To: <20250716182546.58567-3-dmarx@iol.unh.edu> References: <20250716182546.58567-3-dmarx@iol.unh.edu> Content-Type: text/plain X-BeenThere: test-report@dpdk.org X-Mailman-Version: 2.1.29 Precedence: list List-Id: automatic DPDK test reports List-Unsubscribe: , List-Archive: List-Post: List-Help: List-Subscribe: , Errors-To: test-report-bounces@dpdk.org Test-Label: iol-unit-amd64-testing Test-Status: SUCCESS http://dpdk.org/patch/155292 _Testing PASS_ Submitter: Dean Marx Date: Wednesday, July 16 2025 18:25:46 DPDK git baseline: Repo:dpdk Branch: master CommitID:9fe9c0b231c8da5435bfccb1963121b4277f961c 155290-155292 --> testing pass Upstream job id: Generic-Unit-Test-DPDK#355855 Test environment and result as below: +-------------------------------+----------------+ | Environment | dpdk_unit_test | +===============================+================+ | Debian GNU/Linux 12 | PASS | +-------------------------------+----------------+ | Fedora Linux 40 | PASS | +-------------------------------+----------------+ | CentOS Stream 10 | PASS | +-------------------------------+----------------+ | CentOS Stream 9 | PASS | +-------------------------------+----------------+ | Fedora Linux 41 | PASS | +-------------------------------+----------------+ | Ubuntu 20.04 | PASS | +-------------------------------+----------------+ | Red Hat Enterprise Linux 8.10 | PASS | +-------------------------------+----------------+ | Red Hat Enterprise Linux 9.5 | PASS | +-------------------------------+----------------+ | Ubuntu 22.04 | PASS | +-------------------------------+----------------+ | Ubuntu 24.04 | PASS | +-------------------------------+----------------+ | Windows Server 2022 | PASS | +-------------------------------+----------------+ Debian GNU/Linux 12 Kernel: 5.15 Compiler: gcc gcc (Debian 12.2.0-14+deb12u1) 12.2.0 Fedora Linux 40 Kernel: 5.15 Compiler: gcc gcc (GCC) 14.2.1 20240912 (Red Hat 14.2.1-3) CentOS Stream 10 Kernel: 5.15 Compiler: gcc gcc (GCC) 14.2.1 20250110 (Red Hat 14.2.1-8) CentOS Stream 9 Kernel: 5.15 Compiler: gcc gcc (GCC) 11.5.0 20240719 (Red Hat 11.5.0-7) Fedora Linux 41 Kernel: 5.15 Compiler: gcc gcc (GCC) 14.3.1 20250523 (Red Hat 14.3.1-1) Ubuntu 20.04 Kernel: 5.15 Compiler: gcc gcc (Ubuntu 9.4.0-1ubuntu1~20.04.2) 9.4.0 Red Hat Enterprise Linux 8.10 Kernel: 5.15 Compiler: gcc gcc (GCC) 8.5.0 20210514 (Red Hat 8.5.0-22) Red Hat Enterprise Linux 9.5 Kernel: 5.15 Compiler: gcc gcc (GCC) 11.5.0 20240719 (Red Hat 11.5.0-2) Ubuntu 22.04 Kernel: 5.15 Compiler: gcc gcc (Ubuntu 11.4.0-1ubuntu1~22.04) 11.4.0 Ubuntu 24.04 Kernel: 5.15 Compiler: gcc gcc (Ubuntu 13.3.0-6ubuntu2~24.04) 13.3.0 Windows Server 2022 Kernel: 10.0.20348.2031 Compiler: clang 15.0.7, gcc 14.1.0 (MinGW), and MSVC VS 19.39.33521 To view detailed results, visit: https://lab.dpdk.org/results/dashboard/patchsets/33673/ UNH-IOL DPDK Community Lab To manage your email subscriptions, visit: https://lab.dpdk.org/results/dashboard/preferences/subscriptions/