From mboxrd@z Thu Jan 1 00:00:00 1970 Return-Path: Received: from mails.dpdk.org (mails.dpdk.org [217.70.189.124]) by inbox.dpdk.org (Postfix) with ESMTP id B817A46B91 for ; Wed, 16 Jul 2025 22:46:45 +0200 (CEST) Received: from mails.dpdk.org (localhost [127.0.0.1]) by mails.dpdk.org (Postfix) with ESMTP id B3B194014F; Wed, 16 Jul 2025 22:46:45 +0200 (CEST) Received: from mail-pl1-f225.google.com (mail-pl1-f225.google.com [209.85.214.225]) by mails.dpdk.org (Postfix) with ESMTP id 474494014F for ; Wed, 16 Jul 2025 22:46:44 +0200 (CEST) Received: by mail-pl1-f225.google.com with SMTP id d9443c01a7336-234b440afa7so2598255ad.0 for ; Wed, 16 Jul 2025 13:46:44 -0700 (PDT) DKIM-Signature: v=1; a=rsa-sha256; c=relaxed/relaxed; d=iol.unh.edu; s=unh-iol; t=1752698803; x=1753303603; darn=dpdk.org; h=references:in-reply-to:cc:to:from:subject:message-id:date:from:to :cc:subject:date:message-id:reply-to; bh=osedquNacmSmE+D/uQs/he7KPcIEAVf5O98xFSDwG8k=; b=UOZtYyj6PgH1kSFoEgI9GyPa2yogklIjIFtxVRUMbrmh0Gpxm6bIM6eZu+BN5S/nw4 zaQzKKUUg2krwcyPMupxnm286e8X5dNbtHCjizk4iqlWo0JdE0p3QP5IVg+SHRa41l3W TCfRMzMGwpT96yxx7U7i4FMPNZTej5h9CQwL0= X-Google-DKIM-Signature: v=1; a=rsa-sha256; c=relaxed/relaxed; d=1e100.net; s=20230601; t=1752698803; x=1753303603; h=references:in-reply-to:cc:to:from:subject:message-id:date :x-gm-message-state:from:to:cc:subject:date:message-id:reply-to; bh=osedquNacmSmE+D/uQs/he7KPcIEAVf5O98xFSDwG8k=; b=APkzc+eRPPLI+739RRaM+3ZmVtz2Amo19vQv5YCtSnXqe6VJPt1U8nVhFUeFwaLg6p 9spXzwWPFNussjEa1lZfOcTH/KcnN6zXuaLRgYEERVCQFqrybofFmuQI7yNTQb8TIxzz 7L9LklHku6TjOwotx6VnICh1lvnT8oX2yEEBIfIfk51J47d9MU9vojvEtgmZt7dh33lc sJ9d2CPiYx407tFk4A2N7SUrEUOPq4upvx29spa0DdkNrBQr7Jzg5R1F8Ox1wxWm4vjv LfeL90Pt/pZXVkz1mQ7i5yT0MtRU0SCQjcKwYDKt5LSjv10ANiQ8ijIr+ndp3ulhjMZT o7vw== X-Gm-Message-State: AOJu0Yw40W1gVSyNqm5lUtQMwFcL3J4HXPHcjLykcM0jvjI3LvuhQ++1 5mY0Cg6crHikTyyhWSHLEORspMmYO/nzzcX8ndkNEsSOnQE8yoKLDNCKgHVDTidI9g/xZ3Io1Xh YUm5zsnttbkjlOzABskWEhHptMjCcnXzg8zKm59c0DGonhKI9wAG1Wpv50Itc X-Gm-Gg: ASbGncvn2W0zuIdK80j5hp5JjVvlqbi7gxjAmGC5gmyIKpxpPPyWCvgORtY8TvHHyrd FsYN/NlXfu7BJP1uQn6ZYSQzW4+1mNzJZGjOn6QT/Z1MB2plSBrUDg1PVjD/29SBZSqDsvu6ZBr Ze3CzXSPOIUr1BIzkGvInFBV/gIYgEyvYPYxcS6aN3phjXuid7h9ST5bAphDkIYOOzIy7bqw1Xt xWYgQh3gp1P2ZNXBoPbbVDTA3V+Wjj3mWPtfOEVeB7zIl05rV2u9cCNyesYeqW+fBBoP9EWCdg4 m1X0lUoj0Tz6xBDR39G2WNWG9rSbOpFW+VOc9cuo9VBhu/hXpQ== X-Google-Smtp-Source: AGHT+IHb70Y82sShXtgCCPAM9TwQQgIg8y1JYJJtqcVrxOxVARhdQK/y5/Wp8EOdGDf7ffjeD7WuVWNQp6sV X-Received: by 2002:a17:903:18c:b0:23d:ce98:6110 with SMTP id d9443c01a7336-23e302812d3mr6320455ad.10.1752698803381; Wed, 16 Jul 2025 13:46:43 -0700 (PDT) Received: from postal.iol.unh.edu (postal.iol.unh.edu. [2606:4100:3880:1234::84]) by smtp-relay.gmail.com with ESMTPS id d9443c01a7336-23de4320b2csm8104805ad.82.2025.07.16.13.46.43 (version=TLS1_2 cipher=ECDHE-ECDSA-AES128-GCM-SHA256 bits=128/128); Wed, 16 Jul 2025 13:46:43 -0700 (PDT) X-Relaying-Domain: iol.unh.edu Date: Wed, 16 Jul 2025 13:46:43 -0700 (PDT) Message-ID: <68780fb3.170a0220.2ca9f1.ccd9SMTPIN_ADDED_MISSING@mx.google.com> Received: from [172.21.0.5] (unknown [172.18.0.240]) by postal.iol.unh.edu (Postfix) with ESMTP id 86E9D604D420; Wed, 16 Jul 2025 16:46:42 -0400 (EDT) Subject: |SUCCESS| pw155290-155292 [PATCH] [v6,3/3] doc: revise coding guidel From: dpdklab@iol.unh.edu To: Test Report Cc: dpdk-test-reports@iol.unh.edu In-Reply-To: <20250716182546.58567-3-dmarx@iol.unh.edu> References: <20250716182546.58567-3-dmarx@iol.unh.edu> Content-Type: text/plain X-BeenThere: test-report@dpdk.org X-Mailman-Version: 2.1.29 Precedence: list List-Id: automatic DPDK test reports List-Unsubscribe: , List-Archive: List-Post: List-Help: List-Subscribe: , Errors-To: test-report-bounces@dpdk.org Test-Label: iol-abi-testing Test-Status: SUCCESS http://dpdk.org/patch/155292 _Testing PASS_ Submitter: Dean Marx Date: Wednesday, July 16 2025 18:25:46 DPDK git baseline: Repo:dpdk Branch: master CommitID:9fe9c0b231c8da5435bfccb1963121b4277f961c 155290-155292 --> testing pass Upstream job id: Generic-DPDK-Compile-ABI#134594 Test environment and result as below: +-------------------------------+----------+ | Environment | abi_test | +===============================+==========+ | CentOS Stream 10 | PASS | +-------------------------------+----------+ | Debian GNU/Linux 12 | PASS | +-------------------------------+----------+ | Fedora Linux 40 | PASS | +-------------------------------+----------+ | CentOS Stream 9 | PASS | +-------------------------------+----------+ | Fedora Linux 41 | PASS | +-------------------------------+----------+ | openSUSE Leap 15.6 | PASS | +-------------------------------+----------+ | Red Hat Enterprise Linux 8.10 | PASS | +-------------------------------+----------+ | Red Hat Enterprise Linux 9.5 | PASS | +-------------------------------+----------+ | Ubuntu 22.04 | PASS | +-------------------------------+----------+ | Ubuntu 24.04 | PASS | +-------------------------------+----------+ CentOS Stream 10 Kernel: 5.15 Compiler: gcc gcc (GCC) 14.2.1 20250110 (Red Hat 14.2.1-8) Debian GNU/Linux 12 Kernel: 5.15 Compiler: gcc gcc (Debian 12.2.0-14+deb12u1) 12.2.0 Fedora Linux 40 Kernel: 5.15 Compiler: gcc gcc (GCC) 14.2.1 20240912 (Red Hat 14.2.1-3) CentOS Stream 9 Kernel: 5.15 Compiler: gcc gcc (GCC) 11.5.0 20240719 (Red Hat 11.5.0-7) Fedora Linux 41 Kernel: 5.15 Compiler: gcc gcc (GCC) 14.3.1 20250523 (Red Hat 14.3.1-1) openSUSE Leap 15.6 Kernel: 5.15 Compiler: gcc gcc (SUSE Linux) 7.5.0 Red Hat Enterprise Linux 8.10 Kernel: 5.15 Compiler: gcc gcc (GCC) 8.5.0 20210514 (Red Hat 8.5.0-22) Red Hat Enterprise Linux 9.5 Kernel: 5.15 Compiler: gcc gcc (GCC) 11.5.0 20240719 (Red Hat 11.5.0-2) Ubuntu 22.04 Kernel: 5.15 Compiler: gcc gcc (Ubuntu 11.4.0-1ubuntu1~22.04) 11.4.0 Ubuntu 24.04 Kernel: 5.15 Compiler: gcc gcc (Ubuntu 13.3.0-6ubuntu2~24.04) 13.3.0 To view detailed results, visit: https://lab.dpdk.org/results/dashboard/patchsets/33673/ UNH-IOL DPDK Community Lab To manage your email subscriptions, visit: https://lab.dpdk.org/results/dashboard/preferences/subscriptions/