From mboxrd@z Thu Jan 1 00:00:00 1970 Return-Path: Received: from mails.dpdk.org (mails.dpdk.org [217.70.189.124]) by inbox.dpdk.org (Postfix) with ESMTP id D5D9546B91 for ; Wed, 16 Jul 2025 23:05:15 +0200 (CEST) Received: from mails.dpdk.org (localhost [127.0.0.1]) by mails.dpdk.org (Postfix) with ESMTP id D05C74014F; Wed, 16 Jul 2025 23:05:15 +0200 (CEST) Received: from mail-pl1-f225.google.com (mail-pl1-f225.google.com [209.85.214.225]) by mails.dpdk.org (Postfix) with ESMTP id 538A24014F for ; Wed, 16 Jul 2025 23:05:15 +0200 (CEST) Received: by mail-pl1-f225.google.com with SMTP id d9443c01a7336-23636167b30so2422165ad.1 for ; Wed, 16 Jul 2025 14:05:15 -0700 (PDT) DKIM-Signature: v=1; a=rsa-sha256; c=relaxed/relaxed; d=iol.unh.edu; s=unh-iol; t=1752699914; x=1753304714; darn=dpdk.org; h=references:in-reply-to:cc:to:from:subject:message-id:date:from:to :cc:subject:date:message-id:reply-to; bh=zizTqgbiGTtUm5Rm9qYexX3Y6ipBJ5R4N8fOvP9OYW0=; b=Vz9yOmxAKUreWRdwdns1FNoora959FWnCoX4zh+/ASFgG9yz6SdmI5x4UQPKKDzviA WyTS61Th79c8syQUdCJVloXGN0z+2VilrtM5AyEX3iILv2KhyO5e4tbLZHECSWtmptyu IbV46GOf8ylh9xZOOcQhWUBmFRqaPgASnFtis= X-Google-DKIM-Signature: v=1; a=rsa-sha256; c=relaxed/relaxed; d=1e100.net; s=20230601; t=1752699914; x=1753304714; h=references:in-reply-to:cc:to:from:subject:message-id:date :x-gm-message-state:from:to:cc:subject:date:message-id:reply-to; bh=zizTqgbiGTtUm5Rm9qYexX3Y6ipBJ5R4N8fOvP9OYW0=; b=pONs18mTLqayhJXwW/ysQrktmsk5zxmpAhOYkMpxCsc2CY7l0BXOb9Jwsa9Rug55jn 49UrCXJchvxhcmiqns+RSJioY7elmoYymE1UPFAthdF8hO8gT3jUlx1twX+Sdg+jT+Un p3J3CMEWKana9BLReZVAz/vowsl8Q4u8dvq7IKII6/jrDwQ0mP/aYRVuqTTypsWp7uIh MLgM8t6Q/8rl84ooHdaF2rg3x2HUBFDhz3VeuRDb+zJzK6gqGrU4Z27U7+qUvY0fihQf tpCdzGT4D3fzyIjkmTOa2AwW4Oru5+qT+95JVudGDTNhv6rv8Y8pl1ZnHDqX2pQFTIS+ lEWg== X-Gm-Message-State: AOJu0YziMtqk/XIYPd4bZkR6ydKRnKKI7hD89fTGwM4NLNlFoBVHovRL hud3DPFfn2t4UM3xFA3Qtn5JD+A/CV4ng0G3qd/H3MFbAe3txGyTkdD0rz2stjrp80DkThBRpkN 6+e/UDayAoxPnLEjTrHO5a8MLe5ga7x+J2YJEax+IgosN X-Gm-Gg: ASbGncsYm/5YMxB+SsDG84Gq1AqEr++voV52yvBkcHtqxKy7KB9oImFYmH7hT9k66cU QT8fFq5yS53f8m3GPq7RqA8ktcrds0YXyRRjfYIYzlLK8OjQvKd89u4pGCkb/GjudC3/yz00mln NiW8xKO5KH7ZJFRwfGCS/dZ8jY1Jjpa9pXQZwaRBb3ENCC0yB04lz6EzIsZzE7V1Fqs3GvatY4s OpiJoG9Fk62o14//0MsFOK/5C7JTH6L28nkwsJbXPeU7J1xQXZtq5+L1spigJ0zq9qQ2aj94coQ iQA6wNUNENP3aZePg2KPIbBiCZolipAYlLA1vjymuDFE+lJyy4ymbpNfxmtBYhf7lST6sHqJ X-Google-Smtp-Source: AGHT+IGQe4LnWjUvB2YVWkOPkhAGhiIi/RnAPJ5LldvyvLvqpYHoh57U/GrRL9D9NXymuL8nLP6nM1BlP+D0 X-Received: by 2002:a17:902:c944:b0:234:c8f6:1b05 with SMTP id d9443c01a7336-23e25791aa0mr63510365ad.52.1752699914286; Wed, 16 Jul 2025 14:05:14 -0700 (PDT) Received: from postal.iol.unh.edu (postal.iol.unh.edu. [132.177.123.84]) by smtp-relay.gmail.com with ESMTPS id d9443c01a7336-23de42636a2sm8008455ad.18.2025.07.16.14.05.14 (version=TLS1_2 cipher=ECDHE-ECDSA-AES128-GCM-SHA256 bits=128/128); Wed, 16 Jul 2025 14:05:14 -0700 (PDT) X-Relaying-Domain: iol.unh.edu Date: Wed, 16 Jul 2025 14:05:14 -0700 (PDT) Message-ID: <6878140a.170a0220.9a337.abb4SMTPIN_ADDED_MISSING@mx.google.com> Received: from [172.21.0.5] (unknown [172.18.0.240]) by postal.iol.unh.edu (Postfix) with ESMTP id 7A9A26051830; Wed, 16 Jul 2025 17:05:13 -0400 (EDT) Subject: |SUCCESS| pw155290-155292 [PATCH] [v6,3/3] doc: revise coding guidel From: dpdklab@iol.unh.edu To: Test Report Cc: dpdk-test-reports@iol.unh.edu In-Reply-To: <20250716182546.58567-3-dmarx@iol.unh.edu> References: <20250716182546.58567-3-dmarx@iol.unh.edu> Content-Type: text/plain X-BeenThere: test-report@dpdk.org X-Mailman-Version: 2.1.29 Precedence: list List-Id: automatic DPDK test reports List-Unsubscribe: , List-Archive: List-Post: List-Help: List-Subscribe: , Errors-To: test-report-bounces@dpdk.org Test-Label: iol-compile-amd64-testing Test-Status: SUCCESS http://dpdk.org/patch/155292 _Testing PASS_ Submitter: Dean Marx Date: Wednesday, July 16 2025 18:25:46 DPDK git baseline: Repo:dpdk Branch: master CommitID:9fe9c0b231c8da5435bfccb1963121b4277f961c 155290-155292 --> testing pass Upstream job id: Generic-DPDK-Compile-Meson#409291 Test environment and result as below: +-------------------------------+--------------------+-------------------------+-------------------+----------------------+-------------------+------------------+ | Environment | dpdk_meson_compile | dpdk_llvm_clang_compile | dpdk_msvc_compile | dpdk_mingw64_compile | dpdk_compile_spdk | dpdk_compile_ovs | +===============================+====================+=========================+===================+======================+===================+==================+ | Ubuntu 20.04 | PASS | SKIPPED | SKIPPED | SKIPPED | SKIPPED | SKIPPED | +-------------------------------+--------------------+-------------------------+-------------------+----------------------+-------------------+------------------+ | FreeBSD 14.2 | PASS | SKIPPED | SKIPPED | SKIPPED | SKIPPED | SKIPPED | +-------------------------------+--------------------+-------------------------+-------------------+----------------------+-------------------+------------------+ | CentOS Stream 9 | PASS | SKIPPED | SKIPPED | SKIPPED | PASS | SKIPPED | +-------------------------------+--------------------+-------------------------+-------------------+----------------------+-------------------+------------------+ | CentOS Stream 10 | PASS | SKIPPED | SKIPPED | SKIPPED | SKIPPED | SKIPPED | +-------------------------------+--------------------+-------------------------+-------------------+----------------------+-------------------+------------------+ | Debian GNU/Linux 12 | PASS | SKIPPED | SKIPPED | SKIPPED | PASS | SKIPPED | +-------------------------------+--------------------+-------------------------+-------------------+----------------------+-------------------+------------------+ | Fedora Linux 40 | PASS | SKIPPED | SKIPPED | SKIPPED | PASS | SKIPPED | +-------------------------------+--------------------+-------------------------+-------------------+----------------------+-------------------+------------------+ | Fedora Linux 41 | PASS | SKIPPED | SKIPPED | SKIPPED | PASS | PASS | +-------------------------------+--------------------+-------------------------+-------------------+----------------------+-------------------+------------------+ | openSUSE Leap 15.6 | PASS | SKIPPED | SKIPPED | SKIPPED | SKIPPED | SKIPPED | +-------------------------------+--------------------+-------------------------+-------------------+----------------------+-------------------+------------------+ | Red Hat Enterprise Linux 8.10 | PASS | SKIPPED | SKIPPED | SKIPPED | SKIPPED | SKIPPED | +-------------------------------+--------------------+-------------------------+-------------------+----------------------+-------------------+------------------+ | Red Hat Enterprise Linux 9.5 | PASS | SKIPPED | SKIPPED | SKIPPED | SKIPPED | SKIPPED | +-------------------------------+--------------------+-------------------------+-------------------+----------------------+-------------------+------------------+ | Ubuntu 22.04 | PASS | SKIPPED | SKIPPED | SKIPPED | PASS | SKIPPED | +-------------------------------+--------------------+-------------------------+-------------------+----------------------+-------------------+------------------+ | Ubuntu 24.04 | PASS | SKIPPED | SKIPPED | SKIPPED | PASS | PASS | +-------------------------------+--------------------+-------------------------+-------------------+----------------------+-------------------+------------------+ | Alpine Linux 3.22.0 | PASS | SKIPPED | SKIPPED | SKIPPED | SKIPPED | SKIPPED | +-------------------------------+--------------------+-------------------------+-------------------+----------------------+-------------------+------------------+ | Windows Server 2022 | SKIPPED | PASS | PASS | PASS | SKIPPED | SKIPPED | +-------------------------------+--------------------+-------------------------+-------------------+----------------------+-------------------+------------------+ Ubuntu 20.04 Kernel: 4.19 Compiler: gcc gcc (Ubuntu 9.4.0-1ubuntu1~20.04.2) 9.4.0 FreeBSD 14.2 Kernel: 14.2-RELEASE Compiler: clang 18.1.6 CentOS Stream 9 Kernel: 5.15 Compiler: gcc gcc (GCC) 11.5.0 20240719 (Red Hat 11.5.0-7) CentOS Stream 10 Kernel: 5.15 Compiler: gcc gcc (GCC) 14.2.1 20250110 (Red Hat 14.2.1-8) Debian GNU/Linux 12 Kernel: 5.15 Compiler: gcc gcc (Debian 12.2.0-14+deb12u1) 12.2.0 Fedora Linux 40 Kernel: 5.15 Compiler: clang gcc (GCC) 14.2.1 20240912 (Red Hat 14.2.1-3) Fedora Linux 41 Kernel: 5.15 Compiler: clang gcc (GCC) 14.3.1 20250523 (Red Hat 14.3.1-1) openSUSE Leap 15.6 Kernel: 5.15 Compiler: gcc gcc (SUSE Linux) 7.5.0 Red Hat Enterprise Linux 8.10 Kernel: 5.15 Compiler: gcc gcc (GCC) 8.5.0 20210514 (Red Hat 8.5.0-22) Red Hat Enterprise Linux 9.5 Kernel: 5.15 Compiler: gcc gcc (GCC) 11.5.0 20240719 (Red Hat 11.5.0-2) Ubuntu 22.04 Kernel: 5.15 Compiler: gcc gcc (Ubuntu 11.4.0-1ubuntu1~22.04) 11.4.0 Ubuntu 24.04 Kernel: 5.15 Compiler: gcc gcc (Ubuntu 13.3.0-6ubuntu2~24.04) 13.3.0 Alpine Linux 3.22.0 Kernel: 5.15 Compiler: gcc gcc (Alpine 14.2.0) 14.2.0 Windows Server 2022 Kernel: 10.0.20348.2031 Compiler: clang 15.0.7, gcc 14.1.0 (MinGW), and MSVC VS 19.39.33521 To view detailed results, visit: https://lab.dpdk.org/results/dashboard/patchsets/33673/ UNH-IOL DPDK Community Lab To manage your email subscriptions, visit: https://lab.dpdk.org/results/dashboard/preferences/subscriptions/