From mboxrd@z Thu Jan 1 00:00:00 1970 Return-Path: Received: from mails.dpdk.org (mails.dpdk.org [217.70.189.124]) by inbox.dpdk.org (Postfix) with ESMTP id AFB1246B91 for ; Wed, 16 Jul 2025 23:13:28 +0200 (CEST) Received: from mails.dpdk.org (localhost [127.0.0.1]) by mails.dpdk.org (Postfix) with ESMTP id 9173B4014F; Wed, 16 Jul 2025 23:13:28 +0200 (CEST) Received: from mail-pl1-f227.google.com (mail-pl1-f227.google.com [209.85.214.227]) by mails.dpdk.org (Postfix) with ESMTP id B6DD14014F for ; Wed, 16 Jul 2025 23:13:27 +0200 (CEST) Received: by mail-pl1-f227.google.com with SMTP id d9443c01a7336-234b9dfb842so2240355ad.1 for ; Wed, 16 Jul 2025 14:13:27 -0700 (PDT) DKIM-Signature: v=1; a=rsa-sha256; c=relaxed/relaxed; d=iol.unh.edu; s=unh-iol; t=1752700407; x=1753305207; darn=dpdk.org; h=references:in-reply-to:cc:to:from:subject:message-id:date:from:to :cc:subject:date:message-id:reply-to; bh=SlhgZb4La3r1O6vHSsPUBSikyFOSTRAYo17I6LpTBi0=; b=C2qMqOk2vLBbaPFfjNVa1sJ37kWnjpGIty0TR31Jz4j34IOaiHuTsrKKrXZ24a1gEN mbBFBMARhZpI2WMXw045o8OE4FWv+NBNbFKTitFpDOk5sbjFUUBIUL2CV2FnPjNgBVpJ wcnBAQhlIcMnVIKeckG3BHllsGx6FihqmVllM= X-Google-DKIM-Signature: v=1; a=rsa-sha256; c=relaxed/relaxed; d=1e100.net; s=20230601; t=1752700407; x=1753305207; h=references:in-reply-to:cc:to:from:subject:message-id:date :x-gm-message-state:from:to:cc:subject:date:message-id:reply-to; bh=SlhgZb4La3r1O6vHSsPUBSikyFOSTRAYo17I6LpTBi0=; b=MQ00yHOyoBE9c9u0zWtiGjno9hz8m66RrMnzjMbfPcUVxZEAcS6z6uVcC7yRoypuyj DxmYCkR5JcngRD90u8LlW38/Wo2iKAOoHjYIDLXAzXh7Zit2gx8GeEmLfyTwhtx64mvB TWz9IEPaqNJNyPlZE8I6gQN2bG456NncODm953x8thV8fD1ir9qKnTpwbwU5irA9n2T6 Q39q/VNPYEKdCNUHMXPFRx1uWXCDgxw5wv8oF170nvAlGvCK/FMluRT02IlzgQJ3m4Uh YelQUVu/cE9yRplbXnwNYg3HH6LbkFW7hGBKNrvG/1VLgsMG7QcH4zLcXUya1OqZnroy DFpQ== X-Gm-Message-State: AOJu0Ywh6c68se+RydgkHlvMtsZZkn+BSVXYx4/01U0d5AmPHSoL62wq 7P5vvJhZyOm4PFKQlv3sRx5V40viBTVpot+ihSkXNoIVRhntvsPU9v40oUPYvklXUID2J5R8BH8 n3bCQ8Awmj0ZzucqhZ/qozmDsr8UXc/xIIWW4BGhQxU8eQqVs5M9EGZYDC44L X-Gm-Gg: ASbGncsU2f4szG/secNw5hrvMoFIiyrvUkjk+twt+UTVo/y5/Vvn+CYmarYabz8frBt RX2vB4E5ETuyZCFVendrD4b5b0vdlezVbUFuJczBI3Kq8W24eblatR39apZmZeVGwzPVdGrLzm4 gLuxzbj7IAwO5+Y1xyUwAugSWVVIxT3GTpbpaejfIQnHV95yVHRr5HL7xnfgw9gGLIyjSQAfEt+ k7suMnIAKzEjdcZ1xAGh/vjNG/cpUUnXzY3agMGbOzUSjjwyTPWOVkR1gay/9NMgKclh6tbFlAg UM7oBHyt4dVWHdchChCQnMXa7yV09C9QrlvW1ufljTRHgMGh4w== X-Google-Smtp-Source: AGHT+IHBqibZlJYDzPWypUNpYtlNw/wxXimsA4oruDm7VJ9kobE1jW06rCVUN4t8CsklvAG82ESaTaxM4/oq X-Received: by 2002:a17:903:188:b0:234:b735:dca8 with SMTP id d9443c01a7336-23e2566b042mr47959195ad.6.1752700406748; Wed, 16 Jul 2025 14:13:26 -0700 (PDT) Received: from postal.iol.unh.edu (postal.iol.unh.edu. [2606:4100:3880:1234::84]) by smtp-relay.gmail.com with ESMTPS id d9443c01a7336-23de42b29edsm8080225ad.54.2025.07.16.14.13.26 (version=TLS1_2 cipher=ECDHE-ECDSA-AES128-GCM-SHA256 bits=128/128); Wed, 16 Jul 2025 14:13:26 -0700 (PDT) X-Relaying-Domain: iol.unh.edu Date: Wed, 16 Jul 2025 14:13:26 -0700 (PDT) Message-ID: <687815f6.170a0220.20a99b.aa77SMTPIN_ADDED_MISSING@mx.google.com> Received: from [172.21.0.7] (unknown [172.18.0.240]) by postal.iol.unh.edu (Postfix) with ESMTP id E92B7604D420; Wed, 16 Jul 2025 17:13:25 -0400 (EDT) Subject: |SUCCESS| pw155285-155287 [PATCH] [v5,3/3] doc: revise coding guidel From: dpdklab@iol.unh.edu To: Test Report Cc: dpdk-test-reports@iol.unh.edu In-Reply-To: <20250716135708.49233-3-dmarx@iol.unh.edu> References: <20250716135708.49233-3-dmarx@iol.unh.edu> Content-Type: text/plain X-BeenThere: test-report@dpdk.org X-Mailman-Version: 2.1.29 Precedence: list List-Id: automatic DPDK test reports List-Unsubscribe: , List-Archive: List-Post: List-Help: List-Subscribe: , Errors-To: test-report-bounces@dpdk.org Test-Label: iol-compile-arm64-testing Test-Status: SUCCESS http://dpdk.org/patch/155287 _Testing PASS_ Submitter: Dean Marx Date: Wednesday, July 16 2025 13:57:06 DPDK git baseline: Repo:dpdk Branch: master CommitID:9fe9c0b231c8da5435bfccb1963121b4277f961c 155285-155287 --> testing pass Upstream job id: Generic-DPDK-Compile-Meson#409199 Test environment and result as below: +------------------------------+--------------------+ | Environment | dpdk_meson_compile | +==============================+====================+ | Red Hat Enterprise Linux 9.5 | PASS | +------------------------------+--------------------+ | Ubuntu 20.04 | PASS | +------------------------------+--------------------+ | Debian GNU/Linux 12 | PASS | +------------------------------+--------------------+ | Fedora Linux 40 | PASS | +------------------------------+--------------------+ | Fedora Linux 41 | PASS | +------------------------------+--------------------+ | CentOS Stream 9 | PASS | +------------------------------+--------------------+ | Ubuntu 24.04 | PASS | +------------------------------+--------------------+ | Ubuntu 22.04 | PASS | +------------------------------+--------------------+ | CentOS Stream 10 | PASS | +------------------------------+--------------------+ Red Hat Enterprise Linux 9.5 Kernel: 5.4 Compiler: gcc gcc (GCC) 11.5.0 20240719 (Red Hat 11.5.0-2) Ubuntu 20.04 Kernel: 5.4 Compiler: gcc gcc (Ubuntu 9.4.0-1ubuntu1~20.04.2) 9.4.0 Debian GNU/Linux 12 Kernel: 5.4 Compiler: gcc gcc (Debian 12.2.0-14+deb12u1) 12.2.0 Fedora Linux 40 Kernel: 5.4 Compiler: clang gcc (GCC) 14.2.1 20240912 (Red Hat 14.2.1-3) Fedora Linux 41 Kernel: 5.4 Compiler: gcc gcc (GCC) 14.3.1 20250523 (Red Hat 14.3.1-1) CentOS Stream 9 Kernel: 5.4 Compiler: gcc gcc (GCC) 11.5.0 20240719 (Red Hat 11.5.0-7) Ubuntu 24.04 Kernel: 5.4 Compiler: gcc gcc (Ubuntu 13.3.0-6ubuntu2~24.04) 13.3.0 Ubuntu 22.04 Kernel: 5.4 Compiler: gcc gcc (Ubuntu 11.4.0-1ubuntu1~22.04) 11.4.0 CentOS Stream 10 Kernel: 5.4 Compiler: gcc gcc (GCC) 14.2.1 20250110 (Red Hat 14.2.1-8) To view detailed results, visit: https://lab.dpdk.org/results/dashboard/patchsets/33670/ UNH-IOL DPDK Community Lab To manage your email subscriptions, visit: https://lab.dpdk.org/results/dashboard/preferences/subscriptions/