From mboxrd@z Thu Jan 1 00:00:00 1970 Return-Path: Received: from mails.dpdk.org (mails.dpdk.org [217.70.189.124]) by inbox.dpdk.org (Postfix) with ESMTP id EB2AE46B91 for ; Wed, 16 Jul 2025 23:15:38 +0200 (CEST) Received: from mails.dpdk.org (localhost [127.0.0.1]) by mails.dpdk.org (Postfix) with ESMTP id C58644014F; Wed, 16 Jul 2025 23:15:38 +0200 (CEST) Received: from mail-qk1-f227.google.com (mail-qk1-f227.google.com [209.85.222.227]) by mails.dpdk.org (Postfix) with ESMTP id D9B314014F for ; Wed, 16 Jul 2025 23:15:37 +0200 (CEST) Received: by mail-qk1-f227.google.com with SMTP id af79cd13be357-7e346ab52e9so36893585a.2 for ; Wed, 16 Jul 2025 14:15:37 -0700 (PDT) DKIM-Signature: v=1; a=rsa-sha256; c=relaxed/relaxed; d=iol.unh.edu; s=unh-iol; t=1752700537; x=1753305337; darn=dpdk.org; h=references:in-reply-to:cc:to:from:subject:message-id:date:from:to :cc:subject:date:message-id:reply-to; bh=zE3LN27ub+TjglfnPommErb7q73HZFastv0XAEoMns4=; b=I9JhqasYEs2+wi7qD44D6zbl6WBN/4I0QCF2/d9AHBAq7DuM0KpcA/PVoUWzMF/4up /eXsbbq1fXMxYRaLH2s3dd3TLTaqJSYnAkEdfv7y5xeDXXpefY5tquRB7o36kXDHKq3d knkOgwGTt40LAEyot3Nc0Ga6hHUDVkal40y0o= X-Google-DKIM-Signature: v=1; a=rsa-sha256; c=relaxed/relaxed; d=1e100.net; s=20230601; t=1752700537; x=1753305337; h=references:in-reply-to:cc:to:from:subject:message-id:date :x-gm-message-state:from:to:cc:subject:date:message-id:reply-to; bh=zE3LN27ub+TjglfnPommErb7q73HZFastv0XAEoMns4=; b=cxJ7oJKZwYOOt+DyzLqrRkKYwg7v35Jpdobjo4hETc89TO7SoDYatez8VkwLCsGJv4 aODROTU6FN4va9wzsvx5Zg1Gg+s9gd7wChLIg0V2gRs2QWyaBtY2TfpiTivWfDjAtqXT 4bizHbJc2T7WPzxQdtlJDeR6Uxx2PLIXljQzbKgMCLeIA97qBtSCHLxvYkGfzUI1Db07 byZFExUgxfbkP5mHPjF/kb/lzkmrcHUk7kVTbZBumgB2HVMFNJ0NET+XsvT+o++r23Bu XZAejpVRss7mz7Fl4w6nFoxnPBJgPUFXLyROJ7LT/4wevPIG1al8OskVjperNfWTC/w0 a0PQ== X-Gm-Message-State: AOJu0YzjVIE3TI1Hu2i5Otn9p5g4pnOWBRXA7qjpgeIECvt5MsdE1Aqj Lc1t741r8o34f04z26+7wlBxqWC6oknno3xr9605PsBdObBTXs41c/sqLZAC6RxEKZND4VDhWHk KCpRDk/pF+rUOZ8kGcsmwLDNm76XjPFrjSnKhPyjZJli7HtifEMci4/2gxZKP X-Gm-Gg: ASbGncvCJOL/Ar+w60wyv9O1Owv4ROtB7GHG8/rooq14W4dah9iID5OQEbBVnSDJVdU 5sQmFskl2oy3GqZ8cA0vXmILvSM89VFcQgwsqSOQgXAiuBfcUrGjK+t6t4v1Jx23QzXypxGwx4v uLsaqhPn4YVl2RNKmDqsKoeDFYiDxtUIw2sPNzJTm0itGogo42inTDQPZgqDW8++zkCkDWtz7Up 8xcE6I45ZC/roS7oXyeG3iZmDZdUTQnKIoh3ijx7SofTEG2nLo8+PU/EmfBWvwiUb02Sur2uWGP esnAIgkWAhoCZxHZuOC87TKMWCRyDTZdC4mfIdXzha5EtmIICg== X-Google-Smtp-Source: AGHT+IHCqxaFxCdACsih0BFD0gkuXzXZb37WpVeIDqX8bHOb3nUOetYHhYFujIRJWyq7k6saAV/LgHXVXD7l X-Received: by 2002:a05:620a:8013:b0:7df:dea8:63a1 with SMTP id af79cd13be357-7e34357af07mr526532285a.23.1752700537142; Wed, 16 Jul 2025 14:15:37 -0700 (PDT) Received: from postal.iol.unh.edu (postal.iol.unh.edu. [2606:4100:3880:1234::84]) by smtp-relay.gmail.com with ESMTPS id 6a1803df08f44-70497d387c6sm7626796d6.43.2025.07.16.14.15.37 (version=TLS1_2 cipher=ECDHE-ECDSA-AES128-GCM-SHA256 bits=128/128); Wed, 16 Jul 2025 14:15:37 -0700 (PDT) X-Relaying-Domain: iol.unh.edu Date: Wed, 16 Jul 2025 14:15:37 -0700 (PDT) Message-ID: <68781679.050a0220.1b3fbf.8f32SMTPIN_ADDED_MISSING@mx.google.com> Received: from [172.21.0.9] (unknown [172.18.0.240]) by postal.iol.unh.edu (Postfix) with ESMTP id CD698604D420; Wed, 16 Jul 2025 17:15:36 -0400 (EDT) Subject: |SUCCESS| pw155289 [PATCH] net/ice: fix assumption about tag placeme From: dpdklab@iol.unh.edu To: Test Report Cc: dpdk-test-reports@iol.unh.edu In-Reply-To: <20250716173922.688476-1-bruce.richardson@intel.com> References: <20250716173922.688476-1-bruce.richardson@intel.com> Content-Type: text/plain X-BeenThere: test-report@dpdk.org X-Mailman-Version: 2.1.29 Precedence: list List-Id: automatic DPDK test reports List-Unsubscribe: , List-Archive: List-Post: List-Help: List-Subscribe: , Errors-To: test-report-bounces@dpdk.org Test-Label: iol-unit-arm64-testing Test-Status: SUCCESS http://dpdk.org/patch/155289 _Testing PASS_ Submitter: Bruce Richardson Date: Wednesday, July 16 2025 17:39:22 DPDK git baseline: Repo:dpdk Branch: master CommitID:a6b10031d251fcc7dadede461f7e1d005024b139 155289 --> testing pass Upstream job id: Generic-Unit-Test-DPDK#355823 Test environment and result as below: +------------------------------+----------------+---------------------------+--------------+------------------------------+ | Environment | dpdk_unit_test | cryptodev_sw_zuc_autotest | lpm_autotest | cryptodev_sw_snow3g_autotest | +==============================+================+===========================+==============+==============================+ | CentOS Stream 9 | PASS | SKIPPED | SKIPPED | SKIPPED | +------------------------------+----------------+---------------------------+--------------+------------------------------+ | Debian GNU/Linux 12 | PASS | SKIPPED | SKIPPED | SKIPPED | +------------------------------+----------------+---------------------------+--------------+------------------------------+ | CentOS Stream 10 | PASS | SKIPPED | SKIPPED | SKIPPED | +------------------------------+----------------+---------------------------+--------------+------------------------------+ | Fedora Linux 40 | PASS | SKIPPED | SKIPPED | SKIPPED | +------------------------------+----------------+---------------------------+--------------+------------------------------+ | Ubuntu 24.04 | PASS | SKIPPED | SKIPPED | SKIPPED | +------------------------------+----------------+---------------------------+--------------+------------------------------+ | Fedora Linux 41 | PASS | SKIPPED | SKIPPED | SKIPPED | +------------------------------+----------------+---------------------------+--------------+------------------------------+ | Red Hat Enterprise Linux 9.5 | PASS | SKIPPED | SKIPPED | SKIPPED | +------------------------------+----------------+---------------------------+--------------+------------------------------+ | Ubuntu 22.04 | PASS | SKIPPED | SKIPPED | SKIPPED | +------------------------------+----------------+---------------------------+--------------+------------------------------+ | Ubuntu 20.04 | PASS | SKIPPED | PASS | SKIPPED | +------------------------------+----------------+---------------------------+--------------+------------------------------+ | Debian 12 (arm) | SKIPPED | PASS | SKIPPED | PASS | +------------------------------+----------------+---------------------------+--------------+------------------------------+ CentOS Stream 9 Kernel: 5.4 Compiler: gcc gcc (GCC) 11.5.0 20240719 (Red Hat 11.5.0-7) Debian GNU/Linux 12 Kernel: 5.4 Compiler: gcc gcc (Debian 12.2.0-14+deb12u1) 12.2.0 CentOS Stream 10 Kernel: 5.4 Compiler: gcc gcc (GCC) 14.2.1 20250110 (Red Hat 14.2.1-8) Fedora Linux 40 Kernel: 5.4 Compiler: gcc gcc (GCC) 14.2.1 20240912 (Red Hat 14.2.1-3) Ubuntu 24.04 Kernel: 5.4 Compiler: gcc gcc (Ubuntu 13.3.0-6ubuntu2~24.04) 13.3.0 Fedora Linux 41 Kernel: 5.4 Compiler: clang gcc (GCC) 14.3.1 20250523 (Red Hat 14.3.1-1) Red Hat Enterprise Linux 9.5 Kernel: 5.4 Compiler: gcc gcc (GCC) 11.5.0 20240719 (Red Hat 11.5.0-2) Ubuntu 22.04 Kernel: 5.4 Compiler: gcc gcc (Ubuntu 11.4.0-1ubuntu1~22.04) 11.4.0 Ubuntu 20.04 Kernel: 5.4 Compiler: gcc gcc (Ubuntu 9.4.0-1ubuntu1~20.04.2) 9.4.0 Debian 12 (arm) Kernel: Depends on container host Compiler: gcc (Debian 12.2.0-14) 12.2.0 To view detailed results, visit: https://lab.dpdk.org/results/dashboard/patchsets/33672/ UNH-IOL DPDK Community Lab To manage your email subscriptions, visit: https://lab.dpdk.org/results/dashboard/preferences/subscriptions/