From mboxrd@z Thu Jan 1 00:00:00 1970 Return-Path: Received: from mails.dpdk.org (mails.dpdk.org [217.70.189.124]) by inbox.dpdk.org (Postfix) with ESMTP id 2D6C546B91 for ; Thu, 17 Jul 2025 00:09:48 +0200 (CEST) Received: from mails.dpdk.org (localhost [127.0.0.1]) by mails.dpdk.org (Postfix) with ESMTP id 0769B400EF; Thu, 17 Jul 2025 00:09:48 +0200 (CEST) Received: from mail-qv1-f97.google.com (mail-qv1-f97.google.com [209.85.219.97]) by mails.dpdk.org (Postfix) with ESMTP id 7DEAE400EF for ; Thu, 17 Jul 2025 00:09:46 +0200 (CEST) Received: by mail-qv1-f97.google.com with SMTP id 6a1803df08f44-6facacf521eso3949286d6.3 for ; Wed, 16 Jul 2025 15:09:46 -0700 (PDT) DKIM-Signature: v=1; a=rsa-sha256; c=relaxed/relaxed; d=iol.unh.edu; s=unh-iol; t=1752703786; x=1753308586; darn=dpdk.org; h=references:in-reply-to:cc:to:from:subject:message-id:date:from:to :cc:subject:date:message-id:reply-to; bh=rG0FI0MJhsxDAyndLGmRKfdZUnkI6JPeS9BaN88cRNk=; b=GfnxWHXQb9yz3x5IiRSV5hQ3n5ORVpyPwORXz+dBZh/tUPSMwaAK4667Pn/UknWAbh 8PvpSxPQqdJL6D7xpt2F/lUToy5fceukRZXA2YVpuX7ic8WTri75xkEWCICxmOOiel9j hC3Z5y/FfU4ayKuL8jWw/rfL9lY45C3vkBT4I= X-Google-DKIM-Signature: v=1; a=rsa-sha256; c=relaxed/relaxed; d=1e100.net; s=20230601; t=1752703786; x=1753308586; h=references:in-reply-to:cc:to:from:subject:message-id:date :x-gm-message-state:from:to:cc:subject:date:message-id:reply-to; bh=rG0FI0MJhsxDAyndLGmRKfdZUnkI6JPeS9BaN88cRNk=; b=xH+y2XoNFfsSD7/siHt8v6En8JUQTU9zF5Lf+fkHQVX2dlA5KbdxAJ37LR00WZ7332 UIkZXeW1ed9h8VieAy/OR2UqufKBcXP3ZyukFnEvz66xhwPKdfTwbEi+5VHf/4Dkky5O e5AkULF78j9yII22IK2feHAp1HvlsUqwJftuvEu0I8Ixh/QLh+/ov0Gb2t8Y0EP0PHoV VMaIJoENFLV9WVxGjPeExIXWdpli0Ce43c03SJWMPMyLmbzNFP5E0vnHGZAAT/3n/DU+ 7HNaLc3wBw5OsnJ3YrINGPbv/XbHuCwLkeGXYKoikYzVnaOWNyZHdtnqa7EOS5WBXw/d r6PA== X-Gm-Message-State: AOJu0YxYIpnCJNfaltZF1o28aA7c0WQ1VSrYitxBwwoxrRE28k+8YUDn YI5T8C7z9nYMft4mAIrD5s0/j/MDHViPQxFi8BojWZcZkuJL8BQ/4SMXG0hRMRhvvycBCagVoeA lxazUUDpvigCaAPzCWBJJiGfpxULWjN3oAeZ86tWIbMyV X-Gm-Gg: ASbGnct8B3RCBuTQVN1J++0+Y6FK4M/pUUCmQi1vw1lnuk07XGenZptzVwyjxneofcd Dt7sYPQNsP3zTXyCZEEJvIrelOTpGflQhpYLXRwkg4NyzhRKGHnUl3HWmixzgP58qWex7C7fbxy JBQToNpSBynBow5QiZmCA9rW1upTBOmoijW0fQ0Bi+AbD3mamPDKDGGyOsTlPfUHOTMgEanzmk2 ToxsrjY4IZJEyU5r0vbdzr1TsT/QxIWbvic0J2OHyGAoDREq6lCUW3a960IH9Df5OLPsVYzmPRw p0Nf8Z6xBx0w40Ph+Omhj51GA166UzI2RqOwK6zeRaogPxsJguNKfpHur/ZMTvTae4Bk4FdE X-Google-Smtp-Source: AGHT+IEVm/To9ncIccdZUX3PzrxrFvlp8b2seZcZid6RQchN93TOau76o0bTuSlGLalsDae6aRpbGrGfSDqW X-Received: by 2002:a05:6214:5c44:b0:704:7dbd:d991 with SMTP id 6a1803df08f44-705073a31b4mr9299016d6.31.1752703785791; Wed, 16 Jul 2025 15:09:45 -0700 (PDT) Received: from postal.iol.unh.edu (postal.iol.unh.edu. [132.177.123.84]) by smtp-relay.gmail.com with ESMTPS id 6a1803df08f44-70497d35c51sm7248076d6.44.2025.07.16.15.09.45 (version=TLS1_2 cipher=ECDHE-ECDSA-AES128-GCM-SHA256 bits=128/128); Wed, 16 Jul 2025 15:09:45 -0700 (PDT) X-Relaying-Domain: iol.unh.edu Date: Wed, 16 Jul 2025 15:09:45 -0700 (PDT) Message-ID: <68782329.050a0220.747f9.5935SMTPIN_ADDED_MISSING@mx.google.com> Received: from [172.21.0.6] (unknown [172.18.0.240]) by postal.iol.unh.edu (Postfix) with ESMTP id 85DD26051830; Wed, 16 Jul 2025 18:09:45 -0400 (EDT) Subject: |SUCCESS| pw155263-155283 [PATCH] [v4,22/22] ci: extend coverage wit From: dpdklab@iol.unh.edu To: Test Report Cc: dpdk-test-reports@iol.unh.edu In-Reply-To: <20250716130212.1736407-23-david.marchand@redhat.com> References: <20250716130212.1736407-23-david.marchand@redhat.com> Content-Type: text/plain X-BeenThere: test-report@dpdk.org X-Mailman-Version: 2.1.29 Precedence: list List-Id: automatic DPDK test reports List-Unsubscribe: , List-Archive: List-Post: List-Help: List-Subscribe: , Errors-To: test-report-bounces@dpdk.org Test-Label: iol-compile-arm64-testing Test-Status: SUCCESS http://dpdk.org/patch/155283 _Testing PASS_ Submitter: David Marchand Date: Wednesday, July 16 2025 13:02:09 DPDK git baseline: Repo:dpdk Branch: master CommitID:9fe9c0b231c8da5435bfccb1963121b4277f961c 155263-155283 --> testing pass Upstream job id: Generic-DPDK-Compile-Meson#409165 Test environment and result as below: +------------------------------+--------------------+ | Environment | dpdk_meson_compile | +==============================+====================+ | Red Hat Enterprise Linux 9.5 | PASS | +------------------------------+--------------------+ | Ubuntu 20.04 | PASS | +------------------------------+--------------------+ | Debian GNU/Linux 12 | PASS | +------------------------------+--------------------+ | Fedora Linux 41 | PASS | +------------------------------+--------------------+ | Ubuntu 24.04 | PASS | +------------------------------+--------------------+ | Ubuntu 22.04 | PASS | +------------------------------+--------------------+ | Fedora Linux 40 | PASS | +------------------------------+--------------------+ | CentOS Stream 9 | PASS | +------------------------------+--------------------+ | CentOS Stream 10 | PASS | +------------------------------+--------------------+ Red Hat Enterprise Linux 9.5 Kernel: 5.4 Compiler: gcc gcc (GCC) 11.5.0 20240719 (Red Hat 11.5.0-2) Ubuntu 20.04 Kernel: 5.15 Compiler: aarch64-linux-gnu-gcc gcc (Ubuntu 9.4.0-1ubuntu1~20.04.2) 9.4.0 Debian GNU/Linux 12 Kernel: 5.4 Compiler: gcc gcc (Debian 12.2.0-14+deb12u1) 12.2.0 Fedora Linux 41 Kernel: 5.4 Compiler: gcc gcc (GCC) 14.3.1 20250523 (Red Hat 14.3.1-1) Ubuntu 24.04 Kernel: 5.4 Compiler: gcc gcc (Ubuntu 13.3.0-6ubuntu2~24.04) 13.3.0 Ubuntu 22.04 Kernel: 5.4 Compiler: gcc gcc (Ubuntu 11.4.0-1ubuntu1~22.04) 11.4.0 Fedora Linux 40 Kernel: 5.4 Compiler: clang gcc (GCC) 14.2.1 20240912 (Red Hat 14.2.1-3) CentOS Stream 9 Kernel: 5.4 Compiler: gcc gcc (GCC) 11.5.0 20240719 (Red Hat 11.5.0-7) CentOS Stream 10 Kernel: 5.4 Compiler: gcc gcc (GCC) 14.2.1 20250110 (Red Hat 14.2.1-8) To view detailed results, visit: https://lab.dpdk.org/results/dashboard/patchsets/33669/ UNH-IOL DPDK Community Lab To manage your email subscriptions, visit: https://lab.dpdk.org/results/dashboard/preferences/subscriptions/