From mboxrd@z Thu Jan 1 00:00:00 1970 Return-Path: Received: from mails.dpdk.org (mails.dpdk.org [217.70.189.124]) by inbox.dpdk.org (Postfix) with ESMTP id 39A5F46B91 for ; Thu, 17 Jul 2025 00:10:33 +0200 (CEST) Received: from mails.dpdk.org (localhost [127.0.0.1]) by mails.dpdk.org (Postfix) with ESMTP id 35393400EF; Thu, 17 Jul 2025 00:10:33 +0200 (CEST) Received: from mail-pl1-f227.google.com (mail-pl1-f227.google.com [209.85.214.227]) by mails.dpdk.org (Postfix) with ESMTP id 2BCDA400EF for ; Thu, 17 Jul 2025 00:10:32 +0200 (CEST) Received: by mail-pl1-f227.google.com with SMTP id d9443c01a7336-23508d30142so3722265ad.0 for ; Wed, 16 Jul 2025 15:10:32 -0700 (PDT) DKIM-Signature: v=1; a=rsa-sha256; c=relaxed/relaxed; d=iol.unh.edu; s=unh-iol; t=1752703831; x=1753308631; darn=dpdk.org; h=references:in-reply-to:cc:to:from:subject:message-id:date:from:to :cc:subject:date:message-id:reply-to; bh=5YOGRTASIPJ87LCULWj5XonaSjLb8CHygsppyh+hgMs=; b=gM02IjNbhUxUMChIdAa8sXrtvYLTjJmDKZuu5Nqn0TVw9cY23IYd70ynbeJs4XuZ9U c817qx6ZpPzMAJYINa6VzgzDqdPnxgnBuvYKs8LqFhUQh7m91T+QXov3UZWDAy2+e/97 Ut76uDPJ2UE5dufPQcz2XP3DYycXGWw/D28YE= X-Google-DKIM-Signature: v=1; a=rsa-sha256; c=relaxed/relaxed; d=1e100.net; s=20230601; t=1752703831; x=1753308631; h=references:in-reply-to:cc:to:from:subject:message-id:date :x-gm-message-state:from:to:cc:subject:date:message-id:reply-to; bh=5YOGRTASIPJ87LCULWj5XonaSjLb8CHygsppyh+hgMs=; b=XFl+DUZBGSYxu8tCrbZV7rhdTcVwfxFEp/OiatiSPl/KoDrMewuZb4m46GpqMj4TFQ GhXsKhM0KCHPiuD8RrxqkfizBrBs5y4V/5uB3GjiJH+1fg7tJB88ARdy1uwokAvQcd5b Pchmta0chkd1gS9iaFzx67l8wdeBVLq8fPJcK1xtnuIgs1lUZo0A09g1mRa/5otIRSEB jXAdUCVCSK8Y149kFxZqHLm9q1XloqH7pzPdNbC3pqCmM1WjyYYDAf1gN6YmGGxhP5s8 zqiuM8a/7J6s9N4/FTS+f9fPIt5cvGnh8WcybBclURJXb6rlTTia0m3o1fUwYrIIfc4N icEg== X-Gm-Message-State: AOJu0Yxp2Q2GeouxxQv4SOgmRzzWJKDsqTU8Jvim3l/xmqiGlhGNN3eJ ceRhhtEdT4pTuu9NltXJ3kXfh4+TUmM4vt46cxUmWOXi/CpDtW8VzsaEfSsOAvYQL9xBOUJrZDw HsN4Mwl0FUtWgy730pz7FlfLTCPdh1KY2UceLzYoPqx/s X-Gm-Gg: ASbGncvRMy/K9SEUA7NVUvZVBkW2q49/q8iPKCMYPOMlEDH08D8zPpquKb3XAqmk+LJ cwjd6VGZQnW97HesYVnul8wPEVb7f6OCW1P6nSzY4sGeDBScsZOBGbTCtPfsJ6HLLA25Td+zkq3 cteaxi1nURKKU1tSR9XXArvyRLPW+KMKcbSj8dPMUFQLlw/w8zC9G2ma6q232otdjRAKl2CaTk1 TsRhCdwI0RbyRC9kTA7wJEu06OBvMG0rLELidvDzmaxa5TTIVrEgJZiRUDzy2LgRWAm6IhGuiyD ZGytefdAcI2mGf360y4Lu1JSYSnqEJo2VYR3bMKC91gBm4e4KB57dFQDrTlsGD6G+bQia70F X-Google-Smtp-Source: AGHT+IE/8ilRCrBIVAKsEAcaCPECodav3izP03AvXIBxOEtppP5dUPrlE4/InBNQYv2y/L4Rot/W/HrYVjg9 X-Received: by 2002:a17:902:cecb:b0:234:d7b2:2abd with SMTP id d9443c01a7336-23e256b5db1mr58672225ad.19.1752703831261; Wed, 16 Jul 2025 15:10:31 -0700 (PDT) Received: from postal.iol.unh.edu (postal.iol.unh.edu. [132.177.123.84]) by smtp-relay.gmail.com with ESMTPS id d9443c01a7336-23de429bfd3sm8290695ad.29.2025.07.16.15.10.31 (version=TLS1_2 cipher=ECDHE-ECDSA-AES128-GCM-SHA256 bits=128/128); Wed, 16 Jul 2025 15:10:31 -0700 (PDT) X-Relaying-Domain: iol.unh.edu Date: Wed, 16 Jul 2025 15:10:31 -0700 (PDT) Message-ID: <68782357.170a0220.216a30.cc37SMTPIN_ADDED_MISSING@mx.google.com> Received: from [172.21.0.7] (unknown [172.18.0.240]) by postal.iol.unh.edu (Postfix) with ESMTP id 671FA6051830; Wed, 16 Jul 2025 18:10:30 -0400 (EDT) Subject: |SUCCESS| pw155293-155295 [PATCH] [v7,3/3] doc: revise coding guidel From: dpdklab@iol.unh.edu To: Test Report Cc: dpdk-test-reports@iol.unh.edu In-Reply-To: <20250716205402.64997-3-dmarx@iol.unh.edu> References: <20250716205402.64997-3-dmarx@iol.unh.edu> Content-Type: text/plain X-BeenThere: test-report@dpdk.org X-Mailman-Version: 2.1.29 Precedence: list List-Id: automatic DPDK test reports List-Unsubscribe: , List-Archive: List-Post: List-Help: List-Subscribe: , Errors-To: test-report-bounces@dpdk.org Test-Label: iol-unit-amd64-testing Test-Status: SUCCESS http://dpdk.org/patch/155295 _Testing PASS_ Submitter: Dean Marx Date: Wednesday, July 16 2025 20:54:00 DPDK git baseline: Repo:dpdk Branch: master CommitID:9fe9c0b231c8da5435bfccb1963121b4277f961c 155293-155295 --> testing pass Upstream job id: Generic-Unit-Test-DPDK#355881 Test environment and result as below: +-------------------------------+----------------+ | Environment | dpdk_unit_test | +===============================+================+ | Fedora Linux 40 | PASS | +-------------------------------+----------------+ | CentOS Stream 9 | PASS | +-------------------------------+----------------+ | CentOS Stream 10 | PASS | +-------------------------------+----------------+ | Debian GNU/Linux 12 | PASS | +-------------------------------+----------------+ | Red Hat Enterprise Linux 9.5 | PASS | +-------------------------------+----------------+ | Fedora Linux 41 | PASS | +-------------------------------+----------------+ | Red Hat Enterprise Linux 8.10 | PASS | +-------------------------------+----------------+ | Ubuntu 20.04 | PASS | +-------------------------------+----------------+ | Ubuntu 24.04 | PASS | +-------------------------------+----------------+ | Ubuntu 22.04 | PASS | +-------------------------------+----------------+ Fedora Linux 40 Kernel: 5.15 Compiler: gcc gcc (GCC) 14.2.1 20240912 (Red Hat 14.2.1-3) CentOS Stream 9 Kernel: 5.15 Compiler: gcc gcc (GCC) 11.5.0 20240719 (Red Hat 11.5.0-7) CentOS Stream 10 Kernel: 5.15 Compiler: gcc gcc (GCC) 14.2.1 20250110 (Red Hat 14.2.1-8) Debian GNU/Linux 12 Kernel: 5.15 Compiler: gcc gcc (Debian 12.2.0-14+deb12u1) 12.2.0 Red Hat Enterprise Linux 9.5 Kernel: 5.15 Compiler: gcc gcc (GCC) 11.5.0 20240719 (Red Hat 11.5.0-2) Fedora Linux 41 Kernel: 5.15 Compiler: clang gcc (GCC) 14.3.1 20250523 (Red Hat 14.3.1-1) Red Hat Enterprise Linux 8.10 Kernel: 5.15 Compiler: gcc gcc (GCC) 8.5.0 20210514 (Red Hat 8.5.0-22) Ubuntu 20.04 Kernel: 5.15 Compiler: gcc gcc (Ubuntu 9.4.0-1ubuntu1~20.04.2) 9.4.0 Ubuntu 24.04 Kernel: 5.15 Compiler: gcc gcc (Ubuntu 13.3.0-6ubuntu2~24.04) 13.3.0 Ubuntu 22.04 Kernel: 5.15 Compiler: gcc gcc (Ubuntu 11.4.0-1ubuntu1~22.04) 11.4.0 To view detailed results, visit: https://lab.dpdk.org/results/dashboard/patchsets/33674/ UNH-IOL DPDK Community Lab To manage your email subscriptions, visit: https://lab.dpdk.org/results/dashboard/preferences/subscriptions/