From mboxrd@z Thu Jan 1 00:00:00 1970 Return-Path: Received: from mails.dpdk.org (mails.dpdk.org [217.70.189.124]) by inbox.dpdk.org (Postfix) with ESMTP id B9DC246B91 for ; Thu, 17 Jul 2025 00:14:49 +0200 (CEST) Received: from mails.dpdk.org (localhost [127.0.0.1]) by mails.dpdk.org (Postfix) with ESMTP id 9EA0A400EF; Thu, 17 Jul 2025 00:14:49 +0200 (CEST) Received: from mail-qv1-f99.google.com (mail-qv1-f99.google.com [209.85.219.99]) by mails.dpdk.org (Postfix) with ESMTP id 0BDB0400EF for ; Thu, 17 Jul 2025 00:14:49 +0200 (CEST) Received: by mail-qv1-f99.google.com with SMTP id 6a1803df08f44-6fb0eb0f0fbso5620536d6.1 for ; Wed, 16 Jul 2025 15:14:48 -0700 (PDT) DKIM-Signature: v=1; a=rsa-sha256; c=relaxed/relaxed; d=iol.unh.edu; s=unh-iol; t=1752704088; x=1753308888; darn=dpdk.org; h=references:in-reply-to:cc:to:from:subject:message-id:date:from:to :cc:subject:date:message-id:reply-to; bh=tENCgvsQ6Quu5M29PeM4SRgC5CiMhdIzGSGdujIqpBI=; b=SRNC89R4XYxKVUazZM0N+QdWIxw4JFlMsv9xYR8/Ydi14TtnsFbHH5FQ/eu6JrG25l EvRuII9rKU4JJDZ3NVnnn4z+xn05MXjxwn/1ePhDmA2uXQ293uRJFJdJXNk7PRdQMbd8 UdasXnZx6rqxW4BkF6kSQnmGeoWxiwV02PljA= X-Google-DKIM-Signature: v=1; a=rsa-sha256; c=relaxed/relaxed; d=1e100.net; s=20230601; t=1752704088; x=1753308888; h=references:in-reply-to:cc:to:from:subject:message-id:date :x-gm-message-state:from:to:cc:subject:date:message-id:reply-to; bh=tENCgvsQ6Quu5M29PeM4SRgC5CiMhdIzGSGdujIqpBI=; b=AmBrMQnqlzv+5F//hH+0EaESG2fTi9S4thzuxZdJns7UzwI06YkZ4oMPf+1pIaQrIx cOLt26YXAdv3Yg87QtuCHK/0CHvjdDe5jy9ZEGhzkb3JWIOg8SQDggNvIoVnwd92EYAr m3RBrbVTTrTLvG/QaWb2STcRiu7A2r6GYcCdKdG0sMMyX/Cz+vNkV6z+TOrcM2/OlHS7 ecEe28LS7kYo+UxnZLKbE2IzJQ/pPXVzKf3Yjsjc/igCv5MUl8KYT/GeRmoSQ64tWNnj r3XeWXZ5NmRSzj2zqLPzt/InJqUM+HkHsE/924MkZ/ykC21h84Odt9q4C3sJP27zY7b6 /Zaw== X-Gm-Message-State: AOJu0YzvpU+OOKQ/d7hYGwe7CSTTS0b8QeiOvHctOhT/YjWfwSbyzLJk xA+fqtHvfn9sYG4E9PKkuqeX2PVBqYMyFHrjEp1MCnNqVl0i7071DDE9DrJUd2gok1ralgSseJO yTvvx2mW4u0DLUYbldeIOx1gm24EqGvJqkKLmXycUKKTJ X-Gm-Gg: ASbGncsk37hX5BfaWkL+qY6fkBwXmQxPh2j5xjPtV2zatx4Vhe94vYSgkHIHeocFVAb Zndsv0oRnSavBlbjxSpAqqVau797x47iqHGNlW3hQ31AJOZ/VOsmyIf+Q1yqksLogw1rKGD1Wjg eQ17J1zunhXEMgSvpf0wvcOrEoz1Cn0PPw1ZOmj2ccpmyeLggkO989O6+cLXD8HqRwpqaUpJXkS fxofdWpVrJ7V42OVrJyu8Pda36I2kTDvdtL9M5kwSRuaaxQbkFLUJ4Gs/OonxDlZIp09kkUAnsg iqUPKl4T4X3O0+GAamtwCca+2hjDWonpDTbfVkerW4ZGkB2JTFUVs67gz/ZqwDAoL6qBp6m6 X-Google-Smtp-Source: AGHT+IFJqs11GFUXuh2Wv9yAOMIGUy2p5a1tQY4+RkqhQ6OySqTMPvnUd/yOfLqN9I6pUB6lyfqZtIAkTvgI X-Received: by 2002:a05:6214:470b:b0:702:c3af:2f44 with SMTP id 6a1803df08f44-705052f0095mr17004686d6.20.1752704087763; Wed, 16 Jul 2025 15:14:47 -0700 (PDT) Received: from postal.iol.unh.edu (postal.iol.unh.edu. [132.177.123.84]) by smtp-relay.gmail.com with ESMTPS id 6a1803df08f44-70497d59b40sm7670556d6.52.2025.07.16.15.14.47 (version=TLS1_2 cipher=ECDHE-ECDSA-AES128-GCM-SHA256 bits=128/128); Wed, 16 Jul 2025 15:14:47 -0700 (PDT) X-Relaying-Domain: iol.unh.edu Date: Wed, 16 Jul 2025 15:14:47 -0700 (PDT) Message-ID: <68782457.d40a0220.fbda1.8dc1SMTPIN_ADDED_MISSING@mx.google.com> Received: from [172.21.0.6] (unknown [172.18.0.240]) by postal.iol.unh.edu (Postfix) with ESMTP id 75A4C6051830; Wed, 16 Jul 2025 18:14:47 -0400 (EDT) Subject: |SUCCESS| pw155293-155295 [PATCH] [v7,3/3] doc: revise coding guidel From: dpdklab@iol.unh.edu To: Test Report Cc: dpdk-test-reports@iol.unh.edu In-Reply-To: <20250716205402.64997-3-dmarx@iol.unh.edu> References: <20250716205402.64997-3-dmarx@iol.unh.edu> Content-Type: text/plain X-BeenThere: test-report@dpdk.org X-Mailman-Version: 2.1.29 Precedence: list List-Id: automatic DPDK test reports List-Unsubscribe: , List-Archive: List-Post: List-Help: List-Subscribe: , Errors-To: test-report-bounces@dpdk.org Test-Label: iol-compile-amd64-testing Test-Status: SUCCESS http://dpdk.org/patch/155295 _Testing PASS_ Submitter: Dean Marx Date: Wednesday, July 16 2025 20:54:00 DPDK git baseline: Repo:dpdk Branch: master CommitID:9fe9c0b231c8da5435bfccb1963121b4277f961c 155293-155295 --> testing pass Upstream job id: Generic-DPDK-Compile-Meson#409309 Test environment and result as below: +-------------------------------+--------------------+-------------------+------------------+ | Environment | dpdk_meson_compile | dpdk_compile_spdk | dpdk_compile_ovs | +===============================+====================+===================+==================+ | CentOS Stream 9 | PASS | PASS | SKIPPED | +-------------------------------+--------------------+-------------------+------------------+ | Debian GNU/Linux 12 | PASS | PASS | SKIPPED | +-------------------------------+--------------------+-------------------+------------------+ | CentOS Stream 10 | PASS | SKIPPED | SKIPPED | +-------------------------------+--------------------+-------------------+------------------+ | Fedora Linux 41 | PASS | PASS | PASS | +-------------------------------+--------------------+-------------------+------------------+ | Fedora Linux 40 | PASS | PASS | SKIPPED | +-------------------------------+--------------------+-------------------+------------------+ | openSUSE Leap 15.6 | PASS | SKIPPED | SKIPPED | +-------------------------------+--------------------+-------------------+------------------+ | Red Hat Enterprise Linux 9.5 | PASS | SKIPPED | SKIPPED | +-------------------------------+--------------------+-------------------+------------------+ | Ubuntu 24.04 | PASS | PASS | PASS | +-------------------------------+--------------------+-------------------+------------------+ | Ubuntu 20.04 | PASS | SKIPPED | SKIPPED | +-------------------------------+--------------------+-------------------+------------------+ | Ubuntu 22.04 | PASS | PASS | SKIPPED | +-------------------------------+--------------------+-------------------+------------------+ | Alpine Linux 3.22.0 | PASS | SKIPPED | SKIPPED | +-------------------------------+--------------------+-------------------+------------------+ | FreeBSD 14.2 | PASS | SKIPPED | SKIPPED | +-------------------------------+--------------------+-------------------+------------------+ | Red Hat Enterprise Linux 8.10 | PASS | SKIPPED | SKIPPED | +-------------------------------+--------------------+-------------------+------------------+ CentOS Stream 9 Kernel: 5.15 Compiler: gcc gcc (GCC) 11.5.0 20240719 (Red Hat 11.5.0-7) Debian GNU/Linux 12 Kernel: 5.15 Compiler: gcc gcc (Debian 12.2.0-14+deb12u1) 12.2.0 CentOS Stream 10 Kernel: 5.15 Compiler: gcc gcc (GCC) 14.2.1 20250110 (Red Hat 14.2.1-8) Fedora Linux 41 Kernel: 5.15 Compiler: clang gcc (GCC) 14.3.1 20250523 (Red Hat 14.3.1-1) Fedora Linux 40 Kernel: 5.15 Compiler: clang gcc (GCC) 14.2.1 20240912 (Red Hat 14.2.1-3) openSUSE Leap 15.6 Kernel: 5.15 Compiler: gcc gcc (SUSE Linux) 7.5.0 Red Hat Enterprise Linux 9.5 Kernel: 5.15 Compiler: gcc gcc (GCC) 11.5.0 20240719 (Red Hat 11.5.0-2) Ubuntu 24.04 Kernel: 5.15 Compiler: gcc gcc (Ubuntu 13.3.0-6ubuntu2~24.04) 13.3.0 Ubuntu 20.04 Kernel: 5.15 Compiler: gcc gcc (Ubuntu 9.4.0-1ubuntu1~20.04.2) 9.4.0 Ubuntu 22.04 Kernel: 5.15 Compiler: gcc gcc (Ubuntu 11.4.0-1ubuntu1~22.04) 11.4.0 Alpine Linux 3.22.0 Kernel: 5.15 Compiler: gcc gcc (Alpine 14.2.0) 14.2.0 FreeBSD 14.2 Kernel: 14.2-RELEASE Compiler: clang 18.1.6 Red Hat Enterprise Linux 8.10 Kernel: 5.15 Compiler: gcc gcc (GCC) 8.5.0 20210514 (Red Hat 8.5.0-22) To view detailed results, visit: https://lab.dpdk.org/results/dashboard/patchsets/33674/ UNH-IOL DPDK Community Lab To manage your email subscriptions, visit: https://lab.dpdk.org/results/dashboard/preferences/subscriptions/