From mboxrd@z Thu Jan 1 00:00:00 1970 Return-Path: Received: from mails.dpdk.org (mails.dpdk.org [217.70.189.124]) by inbox.dpdk.org (Postfix) with ESMTP id 7B1D546B91 for ; Thu, 17 Jul 2025 00:21:29 +0200 (CEST) Received: from mails.dpdk.org (localhost [127.0.0.1]) by mails.dpdk.org (Postfix) with ESMTP id 50F8F400EF; Thu, 17 Jul 2025 00:21:29 +0200 (CEST) Received: from mail-pl1-f227.google.com (mail-pl1-f227.google.com [209.85.214.227]) by mails.dpdk.org (Postfix) with ESMTP id 95A3B400EF for ; Thu, 17 Jul 2025 00:21:28 +0200 (CEST) Received: by mail-pl1-f227.google.com with SMTP id d9443c01a7336-2363616a1a6so2302435ad.3 for ; Wed, 16 Jul 2025 15:21:28 -0700 (PDT) DKIM-Signature: v=1; a=rsa-sha256; c=relaxed/relaxed; d=iol.unh.edu; s=unh-iol; t=1752704487; x=1753309287; darn=dpdk.org; h=references:in-reply-to:cc:to:from:subject:message-id:date:from:to :cc:subject:date:message-id:reply-to; bh=J3a6ijdSFDqWsffIyPy73Fg7YmqPvFTMGuR1IguDy/U=; b=a3m4yn0pPJbc7rucN0B4aj1GFlr4kB6jMCoSrHMKp1tSyQ71e7nRtd0aTvkMQ9HGJz moIm/+DlzVGbU7wT6NGGoA3z+awImWXHsTHMLuLlUNJE0DrudHpGyG6Q3+DxizOKDGK/ nRTXkc0Rbs+JwU15Un9PTZpSRXrky+D6cj8k4= X-Google-DKIM-Signature: v=1; a=rsa-sha256; c=relaxed/relaxed; d=1e100.net; s=20230601; t=1752704487; x=1753309287; h=references:in-reply-to:cc:to:from:subject:message-id:date :x-gm-message-state:from:to:cc:subject:date:message-id:reply-to; bh=J3a6ijdSFDqWsffIyPy73Fg7YmqPvFTMGuR1IguDy/U=; b=gSTp228W6l15Zz8v8s3SgnnSl4fCOC/Bq/Xs4DzHegzZT3UBlp2MxNZqbbYjkQwQFA wz5/Zpy0u0sk2ocuknWX5EaFEolkZ9fCSRohk6P1+DFVCfu/8E+XMVJdWoxMfV/K1YMf EzdM6Zbg0dxhKcq1JXvdMypJDL7qCXCSG1q1qCt6mkRnelx6WDKzjyOGiDkwMsiiqPxR cubrdQSBl80uwij1yesZJKqdfsbN+ELVR07YpszTi0ztaP0qok0Vj2Xs3IHHU2WaVQit 3juT4kLHruXnBLj5WFViXKM7qJSsKfJEgW4VLOxi6/070WD/Mok2JUIpVb8sxiam+6i4 dVvw== X-Gm-Message-State: AOJu0YwktC6InERx5q9kNrKsEzU2//UPya7jg4x11RBYctu7rwqGmSqG zGXiW1vRjUYzm9R4hv1o2i6EXWhc0Arq5ohjnDnuV3Sh251NmQgEqOJQYqiAElufo/U2vSsCz5V 7UssPg56x7okRwlbcQVFoCcLqpRpNFZsplPjiyqw6GNR0 X-Gm-Gg: ASbGncuiwCach2tV830EqXndyWP3u3DUIw092Ok+BuVoi1iXwAplWTb9hCEDWbPbLhK 0zwBI72j5Rl+7Ef+TYEyD3pnt+jyUYHm1CwhxfxbmPV/HzFiRICZaRlpNC6UQlfEQHgafyvF+l3 TbXCbgkfbi9Bbuey0ORBN6LOpkpnpclpzdDBQ7jo5tysGM1bBrWRNubbHS98aGzbhuLNJHPqsFg 5f7WFCnw9Ajnf4yWbZvWQ48XCbBR2q7fPCViW+4USEyUDYBTIqhof6/bsQlCAirSmNSZ1f+bd6N qU5/k6YBQm3ihWBlDfEwCfvHnbMLtN5rqAbtRy2WvShDSIS2SNEB9+FuAIeAv6riYsv+I35C X-Google-Smtp-Source: AGHT+IF0hRUP1n3ez2NjwybakvJE9ZRL/40IeW5IgGS47EVj7WsHn3Jx4FvDQcYkjpPIKDwcWPLPUfh93URL X-Received: by 2002:a17:903:1112:b0:235:e942:cb9e with SMTP id d9443c01a7336-23e256849b4mr58093375ad.9.1752704487587; Wed, 16 Jul 2025 15:21:27 -0700 (PDT) Received: from postal.iol.unh.edu (postal.iol.unh.edu. [132.177.123.84]) by smtp-relay.gmail.com with ESMTPS id d9443c01a7336-23de432f4ddsm8522075ad.92.2025.07.16.15.21.27 (version=TLS1_2 cipher=ECDHE-ECDSA-AES128-GCM-SHA256 bits=128/128); Wed, 16 Jul 2025 15:21:27 -0700 (PDT) X-Relaying-Domain: iol.unh.edu Date: Wed, 16 Jul 2025 15:21:27 -0700 (PDT) Message-ID: <687825e7.170a0220.4f2fa.d7c8SMTPIN_ADDED_MISSING@mx.google.com> Received: from [172.21.0.5] (unknown [172.18.0.240]) by postal.iol.unh.edu (Postfix) with ESMTP id BB4CF6051830; Wed, 16 Jul 2025 18:21:26 -0400 (EDT) Subject: |SUCCESS| pw155293-155295 [PATCH] [v7,3/3] doc: revise coding guidel From: dpdklab@iol.unh.edu To: Test Report Cc: dpdk-test-reports@iol.unh.edu In-Reply-To: <20250716205402.64997-3-dmarx@iol.unh.edu> References: <20250716205402.64997-3-dmarx@iol.unh.edu> Content-Type: text/plain X-BeenThere: test-report@dpdk.org X-Mailman-Version: 2.1.29 Precedence: list List-Id: automatic DPDK test reports List-Unsubscribe: , List-Archive: List-Post: List-Help: List-Subscribe: , Errors-To: test-report-bounces@dpdk.org Test-Label: iol-abi-testing Test-Status: SUCCESS http://dpdk.org/patch/155295 _Testing PASS_ Submitter: Dean Marx Date: Wednesday, July 16 2025 20:54:00 DPDK git baseline: Repo:dpdk Branch: master CommitID:9fe9c0b231c8da5435bfccb1963121b4277f961c 155293-155295 --> testing pass Upstream job id: Generic-DPDK-Compile-ABI#134602 Test environment and result as below: +-------------------------------+----------+ | Environment | abi_test | +===============================+==========+ | CentOS Stream 9 | PASS | +-------------------------------+----------+ | Debian GNU/Linux 12 | PASS | +-------------------------------+----------+ | CentOS Stream 10 | PASS | +-------------------------------+----------+ | Fedora Linux 40 | PASS | +-------------------------------+----------+ | Fedora Linux 41 | PASS | +-------------------------------+----------+ | Ubuntu 22.04 | PASS | +-------------------------------+----------+ | Red Hat Enterprise Linux 9.5 | PASS | +-------------------------------+----------+ | Red Hat Enterprise Linux 8.10 | PASS | +-------------------------------+----------+ | Ubuntu 24.04 | PASS | +-------------------------------+----------+ | openSUSE Leap 15.6 | PASS | +-------------------------------+----------+ CentOS Stream 9 Kernel: 5.15 Compiler: gcc gcc (GCC) 11.5.0 20240719 (Red Hat 11.5.0-7) Debian GNU/Linux 12 Kernel: 5.15 Compiler: gcc gcc (Debian 12.2.0-14+deb12u1) 12.2.0 CentOS Stream 10 Kernel: 5.15 Compiler: gcc gcc (GCC) 14.2.1 20250110 (Red Hat 14.2.1-8) Fedora Linux 40 Kernel: 5.15 Compiler: gcc gcc (GCC) 14.2.1 20240912 (Red Hat 14.2.1-3) Fedora Linux 41 Kernel: 5.15 Compiler: clang gcc (GCC) 14.3.1 20250523 (Red Hat 14.3.1-1) Ubuntu 22.04 Kernel: 5.15 Compiler: gcc gcc (Ubuntu 11.4.0-1ubuntu1~22.04) 11.4.0 Red Hat Enterprise Linux 9.5 Kernel: 5.15 Compiler: gcc gcc (GCC) 11.5.0 20240719 (Red Hat 11.5.0-2) Red Hat Enterprise Linux 8.10 Kernel: 5.15 Compiler: gcc gcc (GCC) 8.5.0 20210514 (Red Hat 8.5.0-22) Ubuntu 24.04 Kernel: 5.15 Compiler: gcc gcc (Ubuntu 13.3.0-6ubuntu2~24.04) 13.3.0 openSUSE Leap 15.6 Kernel: 5.15 Compiler: gcc gcc (SUSE Linux) 7.5.0 To view detailed results, visit: https://lab.dpdk.org/results/dashboard/patchsets/33674/ UNH-IOL DPDK Community Lab To manage your email subscriptions, visit: https://lab.dpdk.org/results/dashboard/preferences/subscriptions/